BEGIN:VCALENDAR
VERSION:2.0
PRODID:-//コロラド生活 - ECPv6.15.20//NONSGML v1.0//EN
CALSCALE:GREGORIAN
METHOD:PUBLISH
X-ORIGINAL-URL:https://coloradoseikatsu.com
X-WR-CALDESC:Events for コロラド生活
REFRESH-INTERVAL;VALUE=DURATION:PT1H
X-Robots-Tag:noindex
X-PUBLISHED-TTL:PT1H
BEGIN:VTIMEZONE
TZID:UTC
BEGIN:STANDARD
TZOFFSETFROM:+0000
TZOFFSETTO:+0000
TZNAME:UTC
DTSTART:20230101T000000
END:STANDARD
END:VTIMEZONE
BEGIN:VEVENT
DTSTART;VALUE=DATE:20240907
DTEND;VALUE=DATE:20240908
DTSTAMP:20260423T171645
CREATED:20240112T050304Z
LAST-MODIFIED:20240112T051451Z
UID:738-1725667200-1725753599@coloradoseikatsu.com
SUMMARY:デンバー美術館Free Day
DESCRIPTION:デンバーのダウンタウンにある美術館のFree Admission Dayです！シーズンごとの企画展はもちろん、キッズスペースや子供たちがクラフトを楽しめるスペースもあるので、お子さんがいるご家庭であればそちらもおすすめです。
URL:https://coloradoseikatsu.com/event/%e3%83%87%e3%83%b3%e3%83%90%e3%83%bc%e7%be%8e%e8%a1%93%e9%a4%a8free-day-14/
LOCATION:Denver Art Museum\, 100 W 14th Ave Pkwy\, Denver\, CO\, 80204\, United States
CATEGORIES:子供向けイベント,無料イベント
ATTACH;FMTTYPE=image/png:https://coloradoseikatsu.com/wp-content/uploads/2024/01/Screen-Shot-2024-01-11-at-2.21.38-PM.png
END:VEVENT
BEGIN:VEVENT
DTSTART;TZID=UTC:20240907T110000
DTEND;TZID=UTC:20240907T160000
DTSTAMP:20260423T171645
CREATED:20240829T205007Z
LAST-MODIFIED:20240829T205007Z
UID:1502-1725706800-1725724800@coloradoseikatsu.com
SUMMARY:Eastlake Street Fair＠Thornton
DESCRIPTION:Thorntonにあるストリートで開催されるイベントです。 \n音楽のライブパフォーマンスやフードトラック、ローカルのベンダーが多数出店し、コロラドの秋を楽しみながら過ごすことができます！
URL:https://coloradoseikatsu.com/event/eastlake-street-fair%ef%bc%a0thornton/
LOCATION:First street and Lake Avenue\, 12500 1st st\, Thornton\, CO\, 80241
CATEGORIES:子供向けイベント,無料イベント
ATTACH;FMTTYPE=image/png:https://coloradoseikatsu.com/wp-content/uploads/2024/08/Screenshot-2024-08-29-at-2.46.56 PM.png
END:VEVENT
BEGIN:VEVENT
DTSTART;TZID=UTC:20240907T110000
DTEND;TZID=UTC:20240907T170000
DTSTAMP:20260423T171645
CREATED:20240829T204449Z
LAST-MODIFIED:20240829T204449Z
UID:1499-1725706800-1725728400@coloradoseikatsu.com
SUMMARY:Taste of Middle East @Aurora
DESCRIPTION:Auroraで中東の食を存分に味わえるフェスティバルが開催されます！ \nこのイベントでは食べ物はもちろん、音楽やダンスなどのパフォーマンスもあり、家族みんなで楽しむことができるイベントとなっています。
URL:https://coloradoseikatsu.com/event/taste-of-middle-east-aurora/
LOCATION:AURORA MUNICIPAL CENTER\, 15151 E Alameda Pkwy\, Aurora\, CO\, 80012
CATEGORIES:子供向けイベント,無料イベント
ATTACH;FMTTYPE=image/jpeg:https://coloradoseikatsu.com/wp-content/uploads/2024/08/Screenshot-2024-08-29-at-2.43.31 PM.jpg
END:VEVENT
BEGIN:VEVENT
DTSTART;TZID=UTC:20240907T120000
DTEND;TZID=UTC:20240907T160000
DTSTAMP:20260423T171645
CREATED:20240829T205614Z
LAST-MODIFIED:20240829T205614Z
UID:1507-1725710400-1725724800@coloradoseikatsu.com
SUMMARY:Rock the Block @Denver
DESCRIPTION:Mission Trace centerという場所で開催されるコミュニティイベントです。 \nイベントでは音楽だけではなく無料の食べ物や飲み物、子供向けのゲームコーナーや商品が当たるゲーム、宝探しゲームなど楽しめることが盛りだくさん！ \nぜひ友達家族と一緒にお出かけください。
URL:https://coloradoseikatsu.com/event/rock-the-block-denver/
LOCATION:3333 S Wadsworth Blvd\, Denver\, CO 80227\, 3333 S Wadsworth Blvd\, Denver\, CO\, 80227
CATEGORIES:子供向けイベント,無料イベント
ATTACH;FMTTYPE=image/jpeg:https://coloradoseikatsu.com/wp-content/uploads/2024/08/Screenshot-2024-08-29-at-2.51.49 PM.jpg
END:VEVENT
END:VCALENDAR