BEGIN:VCALENDAR
VERSION:2.0
PRODID:-//コロラド生活 - ECPv6.15.20//NONSGML v1.0//EN
CALSCALE:GREGORIAN
METHOD:PUBLISH
X-WR-CALNAME:コロラド生活
X-ORIGINAL-URL:https://coloradoseikatsu.com
X-WR-CALDESC:Events for コロラド生活
REFRESH-INTERVAL;VALUE=DURATION:PT1H
X-Robots-Tag:noindex
X-PUBLISHED-TTL:PT1H
BEGIN:VTIMEZONE
TZID:UTC
BEGIN:STANDARD
TZOFFSETFROM:+0000
TZOFFSETTO:+0000
TZNAME:UTC
DTSTART:20230101T000000
END:STANDARD
END:VTIMEZONE
BEGIN:VEVENT
DTSTART;TZID=UTC:20240908T150000
DTEND;TZID=UTC:20240908T210000
DTSTAMP:20260423T171204
CREATED:20240829T202927Z
LAST-MODIFIED:20240829T202927Z
UID:1491-1725807600-1725829200@coloradoseikatsu.com
SUMMARY:Taste of Korea @Denver
DESCRIPTION:韓国の食と文化を味わうことができるイベントが開催されます。 \n入場料は無料！ぜひ家族と友達と、韓国の味と魅力をデンバーで味わいましょう！
URL:https://coloradoseikatsu.com/event/taste-of-korea-denver/
LOCATION:IYF Denver\, 2500 S Sheridan Blvd\, Denver\, CO\, 80227
CATEGORIES:子供向けイベント,無料イベント
ATTACH;FMTTYPE=image/jpeg:https://coloradoseikatsu.com/wp-content/uploads/2024/08/Screenshot-2024-08-29-at-2.25.55 PM.jpg
END:VEVENT
END:VCALENDAR