BEGIN:VCALENDAR
VERSION:2.0
PRODID:-//コロラド生活 - ECPv6.15.20//NONSGML v1.0//EN
CALSCALE:GREGORIAN
METHOD:PUBLISH
X-WR-CALNAME:コロラド生活
X-ORIGINAL-URL:https://coloradoseikatsu.com
X-WR-CALDESC:Events for コロラド生活
REFRESH-INTERVAL;VALUE=DURATION:PT1H
X-Robots-Tag:noindex
X-PUBLISHED-TTL:PT1H
BEGIN:VTIMEZONE
TZID:UTC
BEGIN:STANDARD
TZOFFSETFROM:+0000
TZOFFSETTO:+0000
TZNAME:UTC
DTSTART:20230101T000000
END:STANDARD
END:VTIMEZONE
BEGIN:VEVENT
DTSTART;TZID=UTC:20240921T120000
DTEND;TZID=UTC:20240928T193000
DTSTAMP:20260423T170550
CREATED:20240830T031334Z
LAST-MODIFIED:20240830T031334Z
UID:1519-1726920000-1727551800@coloradoseikatsu.com
SUMMARY:Parker Fall Fest Presented by Audi
DESCRIPTION:ParkerのAudi協賛の秋のイベントが開催されます。 \nこちらのイベントでは秋を楽しみつくすイベントが盛りだくさん！ \nパンプキンパッチや巨大迷路、芝生の上で楽しめるゲームや景品の当たるゲームが楽しめるだけではなく、もちろんいろんな食べ物のベンダーも出展します。 \n最終日にはドローンのライトショーも行われるということなので、ぜひ友達や家族とお出かけ先に検討してみてくださいね！
URL:https://coloradoseikatsu.com/event/parker-fall-fest-presented-by-audi/
LOCATION:O’Brien Park\, 10727 Victorian Dr\, Parker\, CO\, 80138
CATEGORIES:子供向けイベント,無料イベント
ATTACH;FMTTYPE=image/png:https://coloradoseikatsu.com/wp-content/uploads/2024/08/Screenshot-2024-08-29-at-9.10.50 PM.png
END:VEVENT
END:VCALENDAR