BEGIN:VCALENDAR
VERSION:2.0
PRODID:-//コロラド生活 - ECPv6.15.20//NONSGML v1.0//EN
CALSCALE:GREGORIAN
METHOD:PUBLISH
X-ORIGINAL-URL:https://coloradoseikatsu.com
X-WR-CALDESC:Events for コロラド生活
REFRESH-INTERVAL;VALUE=DURATION:PT1H
X-Robots-Tag:noindex
X-PUBLISHED-TTL:PT1H
BEGIN:VTIMEZONE
TZID:UTC
BEGIN:STANDARD
TZOFFSETFROM:+0000
TZOFFSETTO:+0000
TZNAME:UTC
DTSTART:20240101T000000
END:STANDARD
END:VTIMEZONE
BEGIN:VEVENT
DTSTART;TZID=UTC:20250109T120000
DTEND;TZID=UTC:20250109T140000
DTSTAMP:20260423T105007
CREATED:20250106T212110Z
LAST-MODIFIED:20250106T212110Z
UID:1722-1736424000-1736431200@coloradoseikatsu.com
SUMMARY:Stock shoe kick off Parade
DESCRIPTION:舞台はまるで西部劇？馬や牛をまじかで観れたりロデオの観戦なども楽しめるNational Western Stock Showが今年もデンバーで開催されます。 \nそのKick off paradeがダウンタウンの中心にあるUnion Stationで開催されます。普段はイベント会場や牧場でしか見れない馬や牛がダウンタウンの中心を練り歩く姿は圧巻！ \nぜひお出かけしてみてください。
URL:https://coloradoseikatsu.com/event/stock-shoe-kick-off-parade/
LOCATION:Union Station\, 1701 Wynkoop St\, Denver
CATEGORIES:子供向けイベント,無料イベント
ATTACH;FMTTYPE=image/jpeg:https://coloradoseikatsu.com/wp-content/uploads/2025/01/Screenshot-2025-01-06-at-2.15.38 PM.jpg
END:VEVENT
END:VCALENDAR