BEGIN:VCALENDAR
VERSION:2.0
PRODID:-//コロラド生活 - ECPv6.15.20//NONSGML v1.0//EN
CALSCALE:GREGORIAN
METHOD:PUBLISH
X-WR-CALNAME:コロラド生活
X-ORIGINAL-URL:https://coloradoseikatsu.com
X-WR-CALDESC:Events for コロラド生活
REFRESH-INTERVAL;VALUE=DURATION:PT1H
X-Robots-Tag:noindex
X-PUBLISHED-TTL:PT1H
BEGIN:VTIMEZONE
TZID:UTC
BEGIN:STANDARD
TZOFFSETFROM:+0000
TZOFFSETTO:+0000
TZNAME:UTC
DTSTART:20230101T000000
END:STANDARD
END:VTIMEZONE
BEGIN:VEVENT
DTSTART;TZID=UTC:20250111T080000
DTEND;TZID=UTC:20250126T170000
DTSTAMP:20260421T034827
CREATED:20250106T212532Z
LAST-MODIFIED:20250106T212532Z
UID:1726-1736582400-1737910800@coloradoseikatsu.com
SUMMARY:National Western Stock Show
DESCRIPTION:馬や牛などの家畜と近くで触れ合うことができたり、ロデオのショーも楽しめるNational western stock showが今年もデンバーで開催されます。 \n大人だけではなく子供も楽しめるアクティビティも満載！カウボーイハットを被ってみんなで出かけてみてはいかがでしょう？
URL:https://coloradoseikatsu.com/event/national-western-stock-show/
LOCATION:National Western Stock Show\, 4655 Humboldt Street\, Denver\, CO\, 80216
CATEGORIES:子供向けイベント
ATTACH;FMTTYPE=image/jpeg:https://coloradoseikatsu.com/wp-content/uploads/2025/01/Screenshot-2025-01-06-at-2.23.27 PM.jpg
END:VEVENT
BEGIN:VEVENT
DTSTART;TZID=UTC:20250109T120000
DTEND;TZID=UTC:20250109T140000
DTSTAMP:20260421T034827
CREATED:20250106T212110Z
LAST-MODIFIED:20250106T212110Z
UID:1722-1736424000-1736431200@coloradoseikatsu.com
SUMMARY:Stock shoe kick off Parade
DESCRIPTION:舞台はまるで西部劇？馬や牛をまじかで観れたりロデオの観戦なども楽しめるNational Western Stock Showが今年もデンバーで開催されます。 \nそのKick off paradeがダウンタウンの中心にあるUnion Stationで開催されます。普段はイベント会場や牧場でしか見れない馬や牛がダウンタウンの中心を練り歩く姿は圧巻！ \nぜひお出かけしてみてください。
URL:https://coloradoseikatsu.com/event/stock-shoe-kick-off-parade/
LOCATION:Union Station\, 1701 Wynkoop St\, Denver
CATEGORIES:子供向けイベント,無料イベント
ATTACH;FMTTYPE=image/jpeg:https://coloradoseikatsu.com/wp-content/uploads/2025/01/Screenshot-2025-01-06-at-2.15.38 PM.jpg
END:VEVENT
BEGIN:VEVENT
DTSTART;VALUE=DATE:20241210
DTEND;VALUE=DATE:20241211
DTSTAMP:20260421T034827
CREATED:20240112T050658Z
LAST-MODIFIED:20240112T051413Z
UID:749-1733788800-1733875199@coloradoseikatsu.com
SUMMARY:デンバー美術館Free Day
DESCRIPTION:デンバーのダウンタウンにある美術館のFree Admission Dayです！シーズンごとの企画展はもちろん、キッズスペースや子供たちがクラフトを楽しめるスペースもあるので、お子さんがいるご家庭であればそちらもおすすめです。
URL:https://coloradoseikatsu.com/event/%e3%83%87%e3%83%b3%e3%83%90%e3%83%bc%e7%be%8e%e8%a1%93%e9%a4%a8free-day-19/
LOCATION:Denver Art Museum\, 100 W 14th Ave Pkwy\, Denver\, CO\, 80204\, United States
CATEGORIES:子供向けイベント,無料イベント
ATTACH;FMTTYPE=image/png:https://coloradoseikatsu.com/wp-content/uploads/2024/01/Screen-Shot-2024-01-11-at-2.21.38-PM.png
END:VEVENT
BEGIN:VEVENT
DTSTART;TZID=UTC:20241208T090000
DTEND;TZID=UTC:20241208T170000
DTSTAMP:20260421T034827
CREATED:20240114T035237Z
LAST-MODIFIED:20240114T052426Z
UID:786-1733648400-1733677200@coloradoseikatsu.com
SUMMARY:Nature & Science Museum Free Day
DESCRIPTION:恐竜のこと、宇宙のこと、自然のこと、動物のこと、人の体のこと、古代エジプトのこと…自然と科学がギュギュっと詰まったDenver Museum of Nature & Scienceの無料開放日です。 \n友達と行くのももちろん、お子様連れでもたっぷり楽しめる博物館で、二階の奥にはハイハイする赤ちゃんから好奇心旺盛な子供たちまで年齢層も広く楽しめるキッズスペースもあります！
URL:https://coloradoseikatsu.com/event/nature-science-museum-free-day-10/
LOCATION:Denver Museum of Nature and Science\, 2001 Colorado Blvd\, Denver\, CO\, 80205\, United States
CATEGORIES:子供向けイベント,無料イベント
ATTACH;FMTTYPE=image/jpeg:https://coloradoseikatsu.com/wp-content/uploads/2024/01/IMG_8173.jpg
END:VEVENT
BEGIN:VEVENT
DTSTART;TZID=UTC:20241207T120000
DTEND;TZID=UTC:20241207T190000
DTSTAMP:20260421T034827
CREATED:20241104T030024Z
LAST-MODIFIED:20241104T030024Z
UID:1641-1733572800-1733598000@coloradoseikatsu.com
SUMMARY:イルミネーション点灯式＋サンタマラソン＠Breckenridge
DESCRIPTION:スキーリゾートとしても人気のBreckenridgeでクリスマスイルミネーションの点灯式と、サンタのコスチュームを来て参加できるマラソン大会が開催されます。 \nマラソンに参加するもよし、イルミネーションの点灯式を楽しむもよし、サンタクロースとの写真撮影をするもよし、ホリデーシーズンを楽しむ1日をぜひ過ごしてみてください！
URL:https://coloradoseikatsu.com/event/%e3%82%a4%e3%83%ab%e3%83%9f%e3%83%8d%e3%83%bc%e3%82%b7%e3%83%a7%e3%83%b3%e7%82%b9%e7%81%af%e5%bc%8f%ef%bc%8b%e3%82%b5%e3%83%b3%e3%82%bf%e3%83%9e%e3%83%a9%e3%82%bd%e3%83%b3%ef%bc%a0breckenridge/
LOCATION:Main Street Breckenridge\, 520 S Main St\, Breckenridge\, CO\, 80424
CATEGORIES:子供向けイベント,無料イベント
ATTACH;FMTTYPE=image/jpeg:https://coloradoseikatsu.com/wp-content/uploads/2024/11/Screenshot-2024-11-03-at-7.58.23 PM.jpg
END:VEVENT
BEGIN:VEVENT
DTSTART;TZID=UTC:20241207T090000
DTEND;TZID=UTC:20241207T140000
DTSTAMP:20260421T034827
CREATED:20241104T031525Z
LAST-MODIFIED:20241104T031525Z
UID:1649-1733562000-1733580000@coloradoseikatsu.com
SUMMARY:Parker Hometown クリスマスパレード
DESCRIPTION:Parkerのダウンタウンで、クリスマスのお祝いのパレードとイベントが開催されます！ \nクリスマスプレゼントにもぴったりのものを買うことができたり、パレードを楽しむことができます。寒いとなかなか外出するのに腰が重くなってしまいますが、この季節ならではのイベントに、ぜひ足を運んでみては？
URL:https://coloradoseikatsu.com/event/parker-hometown-%e3%82%af%e3%83%aa%e3%82%b9%e3%83%9e%e3%82%b9%e3%83%91%e3%83%ac%e3%83%bc%e3%83%89/
LOCATION:Downtown Parker\, 18249 E Mainstreet\, Parker\, CO\, 80134
ATTACH;FMTTYPE=image/jpeg:https://coloradoseikatsu.com/wp-content/uploads/2024/11/Screenshot-2024-11-03-at-8.11.19 PM.jpg
END:VEVENT
BEGIN:VEVENT
DTSTART;TZID=UTC:20241206T173000
DTEND;TZID=UTC:20241206T213000
DTSTAMP:20260421T034827
CREATED:20240201T035033Z
LAST-MODIFIED:20240201T035033Z
UID:973-1733506200-1733520600@coloradoseikatsu.com
SUMMARY:First Friday Art Walks @Denver
DESCRIPTION:毎月第一金曜日にデンバーのアート界隈でも人気なSanta Feというエリアで開催されるイベントです。このイベントでは普段入りにくいと感じる人もいるアートギャラリーに気軽に入り、アートを鑑賞したり、ワインやビールを飲みながらいろんなローカルのアーティストの作品を見ることができるイベントです。 \nFood truckやストリートパフォーマンスがある時もあるので、友達や家族とぜひ出かけてみてください！
URL:https://coloradoseikatsu.com/event/first-friday-art-walks-denver-11/
LOCATION:Art District on Santa Fe.\, 858 Santa Fe Dr\, Denver\, CO\, 80204\, United States
CATEGORIES:無料イベント
END:VEVENT
BEGIN:VEVENT
DTSTART;TZID=UTC:20241123T150000
DTEND;TZID=UTC:20241123T190000
DTSTAMP:20260421T034827
CREATED:20241104T030905Z
LAST-MODIFIED:20241104T030905Z
UID:1645-1732374000-1732388400@coloradoseikatsu.com
SUMMARY:スターライト点灯式@Castle Rock
DESCRIPTION:結婚式なども行われるThe Oaksという会場で、イルミネーションの点灯式＋花火も楽しめるイベントが開催されます。 \n当日はFood truckも来たり、バンド演奏もあったりと、大人から子供まで楽しめるイベントになっています。
URL:https://coloradoseikatsu.com/event/%e3%82%b9%e3%82%bf%e3%83%bc%e3%83%a9%e3%82%a4%e3%83%88%e7%82%b9%e7%81%af%e5%bc%8fcastle-rock/
LOCATION:The Oaks\, 321 Players Club Dr\, Castle Rock\, CO\, 80104
CATEGORIES:子供向けイベント,無料イベント
ATTACH;FMTTYPE=image/jpeg:https://coloradoseikatsu.com/wp-content/uploads/2024/11/Screenshot-2024-11-03-at-8.07.44 PM.jpg
END:VEVENT
BEGIN:VEVENT
DTSTART;TZID=UTC:20241122T170000
DTEND;TZID=UTC:20241122T200000
DTSTAMP:20260421T034827
CREATED:20241031T195802Z
LAST-MODIFIED:20241031T195802Z
UID:1634-1732294800-1732305600@coloradoseikatsu.com
SUMMARY:ホリデーパレード、イルミネーション点灯式
DESCRIPTION:ショッピングやレストランも軒を連ねるSouthglennにて、ホリデーシーズンのスタートとなるパレードとイルミネーションの点灯式があります。 \nサンタクロースと写真を撮ったり、パレードを楽しみながら、South Glennで大切な人へのプレゼントを探すなんていうのもいいですね！
URL:https://coloradoseikatsu.com/event/holidayparade/
LOCATION:The Streets at SouthGlenn\, 6851 S Gaylord St\, Centennial\, CO
CATEGORIES:子供向けイベント,無料イベント
ATTACH;FMTTYPE=image/jpeg:https://coloradoseikatsu.com/wp-content/uploads/2024/10/Screenshot-2024-10-31-at-1.53.55 PM.jpg
END:VEVENT
BEGIN:VEVENT
DTSTART;TZID=UTC:20241118T090000
DTEND;TZID=UTC:20241118T170000
DTSTAMP:20260421T034827
CREATED:20240114T035124Z
LAST-MODIFIED:20240114T035124Z
UID:784-1731920400-1731949200@coloradoseikatsu.com
SUMMARY:Nature & Science Museum Free Day
DESCRIPTION:恐竜のこと、宇宙のこと、自然のこと、動物のこと、人の体のこと、古代エジプトのこと…自然と科学がギュギュっと詰まったDenver Museum of Nature & Scienceの無料開放日です。 \n友達と行くのももちろん、お子様連れでもたっぷり楽しめる博物館で、二階の奥にはハイハイする赤ちゃんから好奇心旺盛な子供たちまで年齢層も広く楽しめるキッズスペースもあります！
URL:https://coloradoseikatsu.com/event/nature-science-museum-free-day-9/
LOCATION:Denver Museum of Nature and Science\, 2001 Colorado Blvd\, Denver\, CO\, 80205\, United States
CATEGORIES:子供向けイベント,無料イベント
ATTACH;FMTTYPE=image/jpeg:https://coloradoseikatsu.com/wp-content/uploads/2024/01/IMG_8173.jpg
END:VEVENT
BEGIN:VEVENT
DTSTART;VALUE=DATE:20241117
DTEND;VALUE=DATE:20241118
DTSTAMP:20260421T034827
CREATED:20240115T165328Z
LAST-MODIFIED:20240115T165328Z
UID:804-1731801600-1731887999@coloradoseikatsu.com
SUMMARY:Denver Zoo Free Day
DESCRIPTION:デンバーの動物園に無料で入場できる日です。 \n\n\n\n\n\n\n\n無料で入場できるそれぞれの日に対してチケットがリリースされる日が設定されています。時間指定のチケットとなるので、もし行きたい方は事前にウェブサイトからチケットを購入しましょう。チケットはたくさんの数用意はされていますが、朝一の10時のスロットは無料チケットが売り切れになるのが早いので、10時に入場したい人は早めに確保しておくことをお勧めします。 \n例えばこの記事を書いている今日、1/15に21日の無料の日のチケットを見るとこんな感じです。2歳以下のお子さんも入場にはチケットが必要で、当日窓口では買えないので事前にチケットを入手していきましょう。 \n\n\n 
URL:https://coloradoseikatsu.com/event/denver-zoo-free-day-7/
LOCATION:Denver Zoo\, 2300 Steele St\, Denver\, CO\, 80205\, United States
CATEGORIES:子供向けイベント,無料イベント
ATTACH;FMTTYPE=image/jpeg:https://coloradoseikatsu.com/wp-content/uploads/2024/01/Screen-Shot-2024-01-15-at-9.39.18-AM.jpg
END:VEVENT
BEGIN:VEVENT
DTSTART;VALUE=DATE:20241112
DTEND;VALUE=DATE:20241113
DTSTAMP:20260421T034827
CREATED:20240112T050615Z
LAST-MODIFIED:20240112T051419Z
UID:747-1731369600-1731455999@coloradoseikatsu.com
SUMMARY:デンバー美術館Free Day
DESCRIPTION:デンバーのダウンタウンにある美術館のFree Admission Dayです！シーズンごとの企画展はもちろん、キッズスペースや子供たちがクラフトを楽しめるスペースもあるので、お子さんがいるご家庭であればそちらもおすすめです。
URL:https://coloradoseikatsu.com/event/%e3%83%87%e3%83%b3%e3%83%90%e3%83%bc%e7%be%8e%e8%a1%93%e9%a4%a8free-day-18/
LOCATION:Denver Art Museum\, 100 W 14th Ave Pkwy\, Denver\, CO\, 80204\, United States
CATEGORIES:子供向けイベント,無料イベント
ATTACH;FMTTYPE=image/png:https://coloradoseikatsu.com/wp-content/uploads/2024/01/Screen-Shot-2024-01-11-at-2.21.38-PM.png
END:VEVENT
BEGIN:VEVENT
DTSTART;VALUE=DATE:20241106
DTEND;VALUE=DATE:20241107
DTSTAMP:20260421T034827
CREATED:20240115T195525Z
LAST-MODIFIED:20240115T195840Z
UID:819-1730851200-1730937599@coloradoseikatsu.com
SUMMARY:Denver Zoo 11/17分無料チケット解放日
DESCRIPTION:デンバー動物園、11月17日の無料で入場できる日のチケットがリリースされる日です。それぞれの無料デーにはチケットリリース日がセットであり、そのリリース日の正午にチケットが入手できるようになります。 \n\n\n\n当日窓口ではチケットは購入できず事前にチケット入手が必要になります。それぞれの時間帯たくさんの無料チケットはありますが、朝一の時間帯などはすぐなくなってしまうことが多いので早めにチケットを入手するのがお勧めです。 \n\n\n\n 
URL:https://coloradoseikatsu.com/event/denver-zoo-11-17%e6%97%a5%e5%88%86%e7%84%a1%e6%96%99%e3%83%81%e3%82%b1%e3%83%83%e3%83%88%e8%a7%a3%e6%94%be%e6%97%a5/
LOCATION:CO
END:VEVENT
BEGIN:VEVENT
DTSTART;VALUE=DATE:20241103
DTEND;VALUE=DATE:20241104
DTSTAMP:20260421T034827
CREATED:20240115T165155Z
LAST-MODIFIED:20240115T165155Z
UID:800-1730592000-1730678399@coloradoseikatsu.com
SUMMARY:Denver Zoo Free Day
DESCRIPTION:デンバーの動物園に無料で入場できる日です。 \n\n\n\n\n\n\n\n無料で入場できるそれぞれの日に対してチケットがリリースされる日が設定されています。時間指定のチケットとなるので、もし行きたい方は事前にウェブサイトからチケットを購入しましょう。チケットはたくさんの数用意はされていますが、朝一の10時のスロットは無料チケットが売り切れになるのが早いので、10時に入場したい人は早めに確保しておくことをお勧めします。 \n例えばこの記事を書いている今日、1/15に21日の無料の日のチケットを見るとこんな感じです。2歳以下のお子さんも入場にはチケットが必要で、当日窓口では買えないので事前にチケットを入手していきましょう。 \n\n\n 
URL:https://coloradoseikatsu.com/event/denver-zoo-free-day-5/
LOCATION:Denver Zoo\, 2300 Steele St\, Denver\, CO\, 80205\, United States
CATEGORIES:子供向けイベント,無料イベント
ATTACH;FMTTYPE=image/jpeg:https://coloradoseikatsu.com/wp-content/uploads/2024/01/Screen-Shot-2024-01-15-at-9.39.18-AM.jpg
END:VEVENT
BEGIN:VEVENT
DTSTART;TZID=UTC:20241102T170000
DTEND;TZID=UTC:20241102T210000
DTSTAMP:20260421T034827
CREATED:20240114T035022Z
LAST-MODIFIED:20240114T035022Z
UID:782-1730566800-1730581200@coloradoseikatsu.com
SUMMARY:Nature & Science Museum 無料ナイトミュージアム
DESCRIPTION:恐竜のこと、宇宙のこと、自然のこと、動物のこと、人の体のこと、古代エジプトのこと…自然と科学がギュギュっと詰まったDenver Museum of Nature & Scienceの無料開放日です。 \n友達と行くのももちろん、お子様連れでもたっぷり楽しめる博物館で、二階の奥にはハイハイする赤ちゃんから好奇心旺盛な子供たちまで年齢層も広く楽しめるキッズスペースもあります！
URL:https://coloradoseikatsu.com/event/nature-science-museum-%e7%84%a1%e6%96%99%e3%83%8a%e3%82%a4%e3%83%88%e3%83%9f%e3%83%a5%e3%83%bc%e3%82%b8%e3%82%a2%e3%83%a0-3/
LOCATION:Denver Museum of Nature and Science\, 2001 Colorado Blvd\, Denver\, CO\, 80205\, United States
CATEGORIES:無料イベント
ATTACH;FMTTYPE=image/jpeg:https://coloradoseikatsu.com/wp-content/uploads/2024/01/IMG_8173.jpg
END:VEVENT
BEGIN:VEVENT
DTSTART;VALUE=DATE:20241102
DTEND;VALUE=DATE:20241103
DTSTAMP:20260421T034827
CREATED:20240112T050509Z
LAST-MODIFIED:20240112T051433Z
UID:745-1730505600-1730591999@coloradoseikatsu.com
SUMMARY:デンバー美術館Free Day
DESCRIPTION:デンバーのダウンタウンにある美術館のFree Admission Dayです！シーズンごとの企画展はもちろん、キッズスペースや子供たちがクラフトを楽しめるスペースもあるので、お子さんがいるご家庭であればそちらもおすすめです。
URL:https://coloradoseikatsu.com/event/%e3%83%87%e3%83%b3%e3%83%90%e3%83%bc%e7%be%8e%e8%a1%93%e9%a4%a8free-day-17/
LOCATION:Denver Art Museum\, 100 W 14th Ave Pkwy\, Denver\, CO\, 80204\, United States
CATEGORIES:子供向けイベント,無料イベント
ATTACH;FMTTYPE=image/png:https://coloradoseikatsu.com/wp-content/uploads/2024/01/Screen-Shot-2024-01-11-at-2.21.38-PM.png
END:VEVENT
BEGIN:VEVENT
DTSTART;TZID=UTC:20241101T173000
DTEND;TZID=UTC:20241101T213000
DTSTAMP:20260421T034827
CREATED:20240201T035024Z
LAST-MODIFIED:20240201T035024Z
UID:972-1730482200-1730496600@coloradoseikatsu.com
SUMMARY:First Friday Art Walks @Denver
DESCRIPTION:毎月第一金曜日にデンバーのアート界隈でも人気なSanta Feというエリアで開催されるイベントです。このイベントでは普段入りにくいと感じる人もいるアートギャラリーに気軽に入り、アートを鑑賞したり、ワインやビールを飲みながらいろんなローカルのアーティストの作品を見ることができるイベントです。 \nFood truckやストリートパフォーマンスがある時もあるので、友達や家族とぜひ出かけてみてください！
URL:https://coloradoseikatsu.com/event/first-friday-art-walks-denver-10/
LOCATION:Art District on Santa Fe.\, 858 Santa Fe Dr\, Denver\, CO\, 80204\, United States
CATEGORIES:無料イベント
END:VEVENT
BEGIN:VEVENT
DTSTART;VALUE=DATE:20241030
DTEND;VALUE=DATE:20241031
DTSTAMP:20260421T034827
CREATED:20240115T195435Z
LAST-MODIFIED:20240115T195743Z
UID:817-1730246400-1730332799@coloradoseikatsu.com
SUMMARY:Denver Zoo 11/9分無料チケット解放日
DESCRIPTION:デンバー動物園、11月9日の無料で入場できる日のチケットがリリースされる日です。それぞれの無料デーにはチケットリリース日がセットであり、そのリリース日の正午にチケットが入手できるようになります。 \n\n\n\n当日窓口ではチケットは購入できず事前にチケット入手が必要になります。それぞれの時間帯たくさんの無料チケットはありますが、朝一の時間帯などはすぐなくなってしまうことが多いので早めにチケットを入手するのがお勧めです。 \n\n\n\n 
URL:https://coloradoseikatsu.com/event/denver-zoo-11-9%e6%97%a5%e5%88%86%e7%84%a1%e6%96%99%e3%83%81%e3%82%b1%e3%83%83%e3%83%88%e8%a7%a3%e6%94%be%e6%97%a5/
LOCATION:CO
END:VEVENT
BEGIN:VEVENT
DTSTART;VALUE=DATE:20241023
DTEND;VALUE=DATE:20241024
DTSTAMP:20260421T034827
CREATED:20240115T195330Z
LAST-MODIFIED:20240115T195759Z
UID:815-1729641600-1729727999@coloradoseikatsu.com
SUMMARY:Denver Zoo 11/3分無料チケット解放日
DESCRIPTION:デンバー動物園、11月3日の無料で入場できる日のチケットがリリースされる日です。それぞれの無料デーにはチケットリリース日がセットであり、そのリリース日の正午にチケットが入手できるようになります。 \n\n\n\n当日窓口ではチケットは購入できず事前にチケット入手が必要になります。それぞれの時間帯たくさんの無料チケットはありますが、朝一の時間帯などはすぐなくなってしまうことが多いので早めにチケットを入手するのがお勧めです。 \n\n\n\n 
URL:https://coloradoseikatsu.com/event/denver-zoo-11-3%e6%97%a5%e5%88%86%e7%84%a1%e6%96%99%e3%83%81%e3%82%b1%e3%83%83%e3%83%88%e8%a7%a3%e6%94%be%e6%97%a5/
LOCATION:CO
END:VEVENT
BEGIN:VEVENT
DTSTART;TZID=UTC:20241020T090000
DTEND;TZID=UTC:20241020T170000
DTSTAMP:20260421T034827
CREATED:20240114T034905Z
LAST-MODIFIED:20240114T034912Z
UID:780-1729414800-1729443600@coloradoseikatsu.com
SUMMARY:Nature & Science Museum Free Day
DESCRIPTION:恐竜のこと、宇宙のこと、自然のこと、動物のこと、人の体のこと、古代エジプトのこと…自然と科学がギュギュっと詰まったDenver Museum of Nature & Scienceの無料開放日です。 \n友達と行くのももちろん、お子様連れでもたっぷり楽しめる博物館で、二階の奥にはハイハイする赤ちゃんから好奇心旺盛な子供たちまで年齢層も広く楽しめるキッズスペースもあります！
URL:https://coloradoseikatsu.com/event/nature-science-museum-free-day-8/
LOCATION:Denver Museum of Nature and Science\, 2001 Colorado Blvd\, Denver\, CO\, 80205\, United States
CATEGORIES:子供向けイベント,無料イベント
ATTACH;FMTTYPE=image/jpeg:https://coloradoseikatsu.com/wp-content/uploads/2024/01/IMG_8173.jpg
END:VEVENT
BEGIN:VEVENT
DTSTART;TZID=UTC:20241018T043000
DTEND;TZID=UTC:20241018T193000
DTSTAMP:20260421T034827
CREATED:20240926T205115Z
LAST-MODIFIED:20240926T205115Z
UID:1588-1729225800-1729279800@coloradoseikatsu.com
SUMMARY:Spooky Streets @Centennial
DESCRIPTION:ショッピングや食を楽しむのに人気のSouth Glennでハロウィンにちなんだイベントが行われます！ \n子供向けのフェイスペイントやバルーンアートはもちろん、音楽なども楽しめるイベントになっています。South Glennは買い物をするお店もレストランもたくさんあるので、外でイベントを楽しみながら天気が崩れたら室内での楽しむこともできるエリアなので、ぜひお出かけしてみてください！
URL:https://coloradoseikatsu.com/event/spooky-streets-centennial/
LOCATION:The Streets at SouthGlenn\, 6851 S Gaylord St\, Centennial\, CO
ATTACH;FMTTYPE=image/jpeg:https://coloradoseikatsu.com/wp-content/uploads/2024/09/Screenshot-2024-09-26-at-2.46.51 PM.jpg
END:VEVENT
BEGIN:VEVENT
DTSTART;TZID=UTC:20241017T103000
DTEND;TZID=UTC:20241017T123000
DTSTAMP:20260421T034827
CREATED:20241003T200006Z
LAST-MODIFIED:20241003T200006Z
UID:1595-1729161000-1729168200@coloradoseikatsu.com
SUMMARY:日本人コミュニティハロウィンイベント
DESCRIPTION:すっかり秋になりましたね！\n涼しくなって過ごしやすくなり、紅葉の綺麗な季節です。 \nコロラド子育てグループでは、季節ごとのイベントを開催しております。 \n今回は「ハロウィン！」 \n好きなコスチュームを着て写真を撮ったり、Trick or Treatをしたりしながら楽しく過ごしましょう！\n子ども1人につき(25個〜)のお菓子のご用意をお願いします。 \nかぼちゃパンの販売もあります。\n(ご希望の方のみ、かぼちゃのイラストがついたQRコードよりお申し込みください) \nまた今回、日本語お話し会からのストーリータイムが戻って来ます！\nお楽しみに！ \n時間: AM10:30〜集合\n11:00〜ストーリータイム\n11:30〜Trick or Treat
URL:https://coloradoseikatsu.com/event/%e6%97%a5%e6%9c%ac%e4%ba%ba%e3%82%b3%e3%83%9f%e3%83%a5%e3%83%8b%e3%83%86%e3%82%a3%e3%83%8f%e3%83%ad%e3%82%a6%e3%82%a3%e3%83%b3%e3%82%a4%e3%83%99%e3%83%b3%e3%83%88/
LOCATION:James A Bible Park\, 6802 E Yale Ave\, Denver\, CO\, 80224
CATEGORIES:子供向けイベント,無料イベント
ATTACH;FMTTYPE=image/jpeg:https://coloradoseikatsu.com/wp-content/uploads/2024/10/IMG_4631.jpg
END:VEVENT
BEGIN:VEVENT
DTSTART;TZID=UTC:20241012T110000
DTEND;TZID=UTC:20241012T170000
DTSTAMP:20260421T034827
CREATED:20240407T194254Z
LAST-MODIFIED:20240407T194254Z
UID:1154-1728730800-1728752400@coloradoseikatsu.com
SUMMARY:Choctoberfest in Aurora
DESCRIPTION:様々なチョコレートのベンダーが出ているチョコレートフェスティバルです！10歳以下の子供は無料、それ以外は$10でチケットを購入してイベントに参加することができます。 \nたくさんのチョコレートのベンダーから買うだけではなくたくさんのサンプルを食べることもできるので、チョコレート好きは必見です！
URL:https://coloradoseikatsu.com/event/choctoberfest-in-aurora/
LOCATION:Arapahoe County Fairgrounds\, 25690 E Quincy Ave\, Aurora\, CO
ATTACH;FMTTYPE=image/jpeg:https://coloradoseikatsu.com/wp-content/uploads/2024/04/Screenshot-2024-04-07-at-1.41.00 PM.jpg
END:VEVENT
BEGIN:VEVENT
DTSTART;TZID=UTC:20241012T100000
DTEND;TZID=UTC:20241012T130000
DTSTAMP:20260421T034827
CREATED:20240926T204534Z
LAST-MODIFIED:20240926T204534Z
UID:1582-1728727200-1728738000@coloradoseikatsu.com
SUMMARY:Trails Annual Community Touch a Truck @Aurora
DESCRIPTION:車や乗り物好きな子供達にはたまらないイベントです！ \nクラシックカーや消防車、公共のバス、トラクター、ヘリコプターなど、いろんな乗り物に実際に触ったり、登ったり、乗ることができるイベントです。 \n普段近くで見ることができない乗り物にも触れることができるチャンスなので、ぜひお出かけください！
URL:https://coloradoseikatsu.com/event/trails-annual-community-touch-a-truck-aurora/
LOCATION:Spring Creek Park\, 4001 South Himalaya Street\, Aurora\, CO
ATTACH;FMTTYPE=image/jpeg:https://coloradoseikatsu.com/wp-content/uploads/2024/09/Screenshot-2024-09-26-at-2.38.40 PM.jpg
END:VEVENT
BEGIN:VEVENT
DTSTART;VALUE=DATE:20241008
DTEND;VALUE=DATE:20241009
DTSTAMP:20260421T034827
CREATED:20240112T050432Z
LAST-MODIFIED:20240112T051438Z
UID:743-1728345600-1728431999@coloradoseikatsu.com
SUMMARY:デンバー美術館Free Day
DESCRIPTION:デンバーのダウンタウンにある美術館のFree Admission Dayです！シーズンごとの企画展はもちろん、キッズスペースや子供たちがクラフトを楽しめるスペースもあるので、お子さんがいるご家庭であればそちらもおすすめです。
URL:https://coloradoseikatsu.com/event/%e3%83%87%e3%83%b3%e3%83%90%e3%83%bc%e7%be%8e%e8%a1%93%e9%a4%a8free-day-16/
LOCATION:Denver Art Museum\, 100 W 14th Ave Pkwy\, Denver\, CO\, 80204\, United States
CATEGORIES:子供向けイベント,無料イベント
ATTACH;FMTTYPE=image/png:https://coloradoseikatsu.com/wp-content/uploads/2024/01/Screen-Shot-2024-01-11-at-2.21.38-PM.png
END:VEVENT
BEGIN:VEVENT
DTSTART;TZID=UTC:20241006T110000
DTEND;TZID=UTC:20241006T150000
DTSTAMP:20260421T034827
CREATED:20240926T203751Z
LAST-MODIFIED:20240926T203751Z
UID:1577-1728212400-1728226800@coloradoseikatsu.com
SUMMARY:Fall Festival @Schweiger Ranch
DESCRIPTION:Schweiger Ranchという農場で秋を楽しみませんか？ \nパンプキンパッチや音楽のライブ演奏などももちろんありますが、ストーリータイムやマシュマロを焼いたりすることもできます！
URL:https://coloradoseikatsu.com/event/fall-festival-schweiger-ranch/
LOCATION:Schweiger Ranch\, 10822 South Havana St\, Lone Tree\, CO
ATTACH;FMTTYPE=image/jpeg:https://coloradoseikatsu.com/wp-content/uploads/2024/09/Screenshot-2024-09-26-at-2.32.08 PM.jpg
END:VEVENT
BEGIN:VEVENT
DTSTART;TZID=UTC:20241005T100000
DTEND;TZID=UTC:20241006T170000
DTSTAMP:20260421T034827
CREATED:20240829T202452Z
LAST-MODIFIED:20240829T202452Z
UID:1487-1728122400-1728234000@coloradoseikatsu.com
SUMMARY:Cider Days@Lakewood
DESCRIPTION:Lakewoodの公園で、秋の収穫祭が開催されます。 \nこちらのイベントではライブパフォーマンスだけではなくアップルサイダーなど秋の味覚を楽しめるお店も出店される予定で、子連れの家族でも楽しめるイベントとなっています。 \n事前に購入できるチケットは大人が$10、当日券は大人が＄15、1-12歳の子供は$8、1歳以下の子供は無料で入場できます。 \nチケットはこちらから
URL:https://coloradoseikatsu.com/event/cider-dayslakewood/
LOCATION:Belmar Park\, 801 S Yarrow St\, Lakewood\, CO\, 80226
CATEGORIES:子供向けイベント
ATTACH;FMTTYPE=image/jpeg:https://coloradoseikatsu.com/wp-content/uploads/2024/08/Screenshot-2024-08-29-at-2.19.27 PM.jpg
END:VEVENT
BEGIN:VEVENT
DTSTART;TZID=UTC:20241005T090000
DTEND;TZID=UTC:20241005T130000
DTSTAMP:20260421T034827
CREATED:20240926T203151Z
LAST-MODIFIED:20240926T203151Z
UID:1573-1728118800-1728133200@coloradoseikatsu.com
SUMMARY:12th Annual Harvest Festival @Brighton
DESCRIPTION:食べ物や音楽を野外で楽しみながら、ワゴンに乗ったりパンプキンパッチをしたり、秋を楽しむことができるイベントです！ \nBarr Lake State Parkという素敵な公園で開催されるイベントなので、新しい場所への探検をしたい人、秋を家族や友達と楽しみ尽くしたい人にはおすすめです！
URL:https://coloradoseikatsu.com/event/12th-annual-harvest-festival-brighton/
LOCATION:Barr Lake State Park\, 13401 Picadilly Rd\, Brighton\, CO
ATTACH;FMTTYPE=image/jpeg:https://coloradoseikatsu.com/wp-content/uploads/2024/09/Screenshot-2024-09-26-at-2.26.33 PM.jpg
END:VEVENT
BEGIN:VEVENT
DTSTART;TZID=UTC:20241005T083000
DTEND;TZID=UTC:20241005T110000
DTSTAMP:20260421T034827
CREATED:20240926T202613Z
LAST-MODIFIED:20240926T202613Z
UID:1569-1728117000-1728126000@coloradoseikatsu.com
SUMMARY:Fall Fest @Littleton
DESCRIPTION:Littletonで自然に囲まれながら秋を楽しんでみませんか？ \nパンプキンを取ったり、ポニーに乗ったり、アートやクラフトを楽しんだり、子供はもちろん大人にとっても秋を楽しむことのできるイベントとなっています。
URL:https://coloradoseikatsu.com/event/fall-fest-littleton/
LOCATION:Backcountry Base Camp\, 6005 Ron King Trail\, Littleton\, CO\, 80125
ATTACH;FMTTYPE=image/jpeg:https://coloradoseikatsu.com/wp-content/uploads/2024/09/Screenshot-2024-09-26-at-2.20.57 PM.jpg
END:VEVENT
BEGIN:VEVENT
DTSTART;TZID=UTC:20241004T173000
DTEND;TZID=UTC:20241004T213000
DTSTAMP:20260421T034827
CREATED:20240201T035019Z
LAST-MODIFIED:20240201T035019Z
UID:971-1728063000-1728077400@coloradoseikatsu.com
SUMMARY:First Friday Art Walks @Denver
DESCRIPTION:毎月第一金曜日にデンバーのアート界隈でも人気なSanta Feというエリアで開催されるイベントです。このイベントでは普段入りにくいと感じる人もいるアートギャラリーに気軽に入り、アートを鑑賞したり、ワインやビールを飲みながらいろんなローカルのアーティストの作品を見ることができるイベントです。 \nFood truckやストリートパフォーマンスがある時もあるので、友達や家族とぜひ出かけてみてください！
URL:https://coloradoseikatsu.com/event/first-friday-art-walks-denver-9/
LOCATION:Art District on Santa Fe.\, 858 Santa Fe Dr\, Denver\, CO\, 80204\, United States
CATEGORIES:無料イベント
END:VEVENT
END:VCALENDAR