BEGIN:VCALENDAR
VERSION:2.0
PRODID:-//コロラド生活 - ECPv6.15.20//NONSGML v1.0//EN
CALSCALE:GREGORIAN
METHOD:PUBLISH
X-WR-CALNAME:コロラド生活
X-ORIGINAL-URL:https://coloradoseikatsu.com
X-WR-CALDESC:Events for コロラド生活
REFRESH-INTERVAL;VALUE=DURATION:PT1H
X-Robots-Tag:noindex
X-PUBLISHED-TTL:PT1H
BEGIN:VTIMEZONE
TZID:UTC
BEGIN:STANDARD
TZOFFSETFROM:+0000
TZOFFSETTO:+0000
TZNAME:UTC
DTSTART:20230101T000000
END:STANDARD
END:VTIMEZONE
BEGIN:VEVENT
DTSTART;TZID=UTC:20240614T080000
DTEND;TZID=UTC:20240616T170000
DTSTAMP:20260421T023939
CREATED:20240407T195734Z
LAST-MODIFIED:20240407T195734Z
UID:1166-1718352000-1718557200@coloradoseikatsu.com
SUMMARY:Parker Days Festival
DESCRIPTION:Parkerで行われるイベントです！ \n音楽や食べ物、カーニバルで見かける乗り物などを堪能しながら夏を楽しめるイベントになっています！
URL:https://coloradoseikatsu.com/event/parker-days-festival/
LOCATION:Parker　Days Festiva\, 19751 E Mainstreet\, Parker\, CO\, 80138
CATEGORIES:子供向けイベント,無料イベント
ATTACH;FMTTYPE=image/jpeg:https://coloradoseikatsu.com/wp-content/uploads/2024/04/Screenshot-2024-04-07-at-1.53.21 PM.jpg
END:VEVENT
BEGIN:VEVENT
DTSTART;VALUE=DATE:20240611
DTEND;VALUE=DATE:20240612
DTSTAMP:20260421T023939
CREATED:20240112T045935Z
LAST-MODIFIED:20240112T051519Z
UID:728-1718064000-1718150399@coloradoseikatsu.com
SUMMARY:デンバー美術館Free Day
DESCRIPTION:デンバーのダウンタウンにある美術館のFree Admission Dayです！シーズンごとの企画展はもちろん、キッズスペースや子供たちがクラフトを楽しめるスペースもあるので、お子さんがいるご家庭であればそちらもおすすめです。
URL:https://coloradoseikatsu.com/event/%e3%83%87%e3%83%b3%e3%83%90%e3%83%bc%e7%be%8e%e8%a1%93%e9%a4%a8free-day-9/
LOCATION:Denver Art Museum\, 100 W 14th Ave Pkwy\, Denver\, CO\, 80204\, United States
CATEGORIES:子供向けイベント,無料イベント
ATTACH;FMTTYPE=image/png:https://coloradoseikatsu.com/wp-content/uploads/2024/01/Screen-Shot-2024-01-11-at-2.21.38-PM.png
END:VEVENT
BEGIN:VEVENT
DTSTART;TZID=UTC:20240608T100000
DTEND;TZID=UTC:20240609T170000
DTSTAMP:20260421T023939
CREATED:20240407T195244Z
LAST-MODIFIED:20240407T195244Z
UID:1162-1717840800-1717952400@coloradoseikatsu.com
SUMMARY:Highlands Art Festival
DESCRIPTION:様々なアーティストに出会い、たくさんのアート作品に触れることのできるイベントです。 \nHighlandsはダウンタウンのちょうどすぐ上にあり、近くにはブルワリーや美味しいレストランやアイスクリームショップ、広々した公園もあるので、お休みの日に町を散策しながらアートを楽しみたい人は必見です！
URL:https://coloradoseikatsu.com/event/highlands-art-festival/
LOCATION:Highlands Masonic Temple\, 3550 Federal Blvd\, Denver\, CO\, 80211
CATEGORIES:子供向けイベント,無料イベント
ATTACH;FMTTYPE=image/jpeg:https://coloradoseikatsu.com/wp-content/uploads/2024/04/Screenshot-2024-04-07-at-1.49.11 PM.jpg
END:VEVENT
BEGIN:VEVENT
DTSTART;TZID=UTC:20240607T173000
DTEND;TZID=UTC:20240607T213000
DTSTAMP:20260421T023939
CREATED:20240201T034206Z
LAST-MODIFIED:20240201T034206Z
UID:962-1717781400-1717795800@coloradoseikatsu.com
SUMMARY:First Friday Art Walks @Denver
DESCRIPTION:毎月第一金曜日にデンバーのアート界隈でも人気なSanta Feというエリアで開催されるイベントです。このイベントでは普段入りにくいと感じる人もいるアートギャラリーに気軽に入り、アートを鑑賞したり、ワインやビールを飲みながらいろんなローカルのアーティストの作品を見ることができるイベントです。 \nFood truckやストリートパフォーマンスがある時もあるので、友達や家族とぜひ出かけてみてください！
URL:https://coloradoseikatsu.com/event/first-friday-art-walks-denver-5/
LOCATION:Art District on Santa Fe.\, 858 Santa Fe Dr\, Denver\, CO\, 80204\, United States
CATEGORIES:無料イベント
END:VEVENT
BEGIN:VEVENT
DTSTART;TZID=UTC:20240607T110000
DTEND;TZID=UTC:20240609T190000
DTSTAMP:20260421T023939
CREATED:20240521T174546Z
LAST-MODIFIED:20240521T174546Z
UID:1284-1717758000-1717959600@coloradoseikatsu.com
SUMMARY:Denver Greek Festival
DESCRIPTION:デンバーにあるゴールドのドームが特徴の教会の近くで開催される、ギリシャのイベントです。ダンスパフォーマンスやギリシャ料理、買い物も楽しむことができます。 \n一般の入場料は$5、シニアは＄3、12歳以下の子供は無料で入場することができます！ \nチケットはこちらから。
URL:https://coloradoseikatsu.com/event/denver-greek-festival/
LOCATION:Assumption of the Theotokos\, 4610 E Alameda Ave\, Denver\, CO
ATTACH;FMTTYPE=image/jpeg:https://coloradoseikatsu.com/wp-content/uploads/2024/05/Screenshot-2024-05-21-at-11.39.53 AM.jpg
END:VEVENT
BEGIN:VEVENT
DTSTART;TZID=UTC:20240604T170000
DTEND;TZID=UTC:20240604T210000
DTSTAMP:20260421T023939
CREATED:20240114T033817Z
LAST-MODIFIED:20240114T033817Z
UID:765-1717520400-1717534800@coloradoseikatsu.com
SUMMARY:Nature & Science Museum 無料ナイトミュージアム
DESCRIPTION:恐竜のこと、宇宙のこと、自然のこと、動物のこと、人の体のこと、古代エジプトのこと…自然と科学がギュギュっと詰まったDenver Museum of Nature & Scienceの無料開放日です。 \n友達と行くのももちろん、お子様連れでもたっぷり楽しめる博物館で、二階の奥にはハイハイする赤ちゃんから好奇心旺盛な子供たちまで年齢層も広く楽しめるキッズスペースもあります！
URL:https://coloradoseikatsu.com/event/nature-science-museum-%e7%84%a1%e6%96%99%e3%83%8a%e3%82%a4%e3%83%88%e3%83%9f%e3%83%a5%e3%83%bc%e3%82%b8%e3%82%a2%e3%83%a0/
LOCATION:Denver Museum of Nature and Science\, 2001 Colorado Blvd\, Denver\, CO\, 80205\, United States
CATEGORIES:無料イベント
ATTACH;FMTTYPE=image/jpeg:https://coloradoseikatsu.com/wp-content/uploads/2024/01/IMG_8173.jpg
END:VEVENT
BEGIN:VEVENT
DTSTART;TZID=UTC:20240601T170000
DTEND;TZID=UTC:20240601T220000
DTSTAMP:20260421T023939
CREATED:20240407T194713Z
LAST-MODIFIED:20240407T194713Z
UID:1158-1717261200-1717279200@coloradoseikatsu.com
SUMMARY:
DESCRIPTION:野外で開催される映画上映会です。 \n無料で参加することができ、映画の上映はもちろんフェイスペイントやフードトラック、ローカルのブルワリーも参加する野外イベントとなっているようです。 \n外で過ごすのもすごく気持ちの良くなってきた今の季節、ぜひご家族で夕方お出かけしてみてください。
URL:https://coloradoseikatsu.com/event/1158/
LOCATION:Festival Park\, 300 2nd St\, Castle Rock\, CO\, 80104
CATEGORIES:子供向けイベント,無料イベント
ATTACH;FMTTYPE=image/jpeg:https://coloradoseikatsu.com/wp-content/uploads/2024/04/Screenshot-2024-04-07-at-1.43.42 PM.jpg
END:VEVENT
BEGIN:VEVENT
DTSTART;TZID=UTC:20240601T100000
DTEND;TZID=UTC:20240602T170000
DTSTAMP:20260421T023939
CREATED:20240407T200300Z
LAST-MODIFIED:20240407T200300Z
UID:1170-1717236000-1717347600@coloradoseikatsu.com
SUMMARY:The Park Hill Art Festival
DESCRIPTION:Park Hillで開催されるアートフェスティバルでは100を超えるベンダーが軒を連ね、たくさんのローカルのアーティストに出会ったり、彼らの作品を見たり購入することができるイベントです。 \nPark Hillの近隣は歴史的な建物が並ぶエリアでもあるので、イベントを楽しんだ後に町を散策するのもとってもおすすめのエリアです！ \nサイトにて昨年のイベントの様子も見ることができるのでお勧めです。
URL:https://coloradoseikatsu.com/event/the-park-hill-art-festival/
LOCATION:Park Hill\, 4819 Montview Blvd\, Denver\, CO\, 80207
CATEGORIES:子供向けイベント,無料イベント
ATTACH;FMTTYPE=image/png:https://coloradoseikatsu.com/wp-content/uploads/2024/04/Screenshot-2024-04-07-at-2.02.01 PM.png
END:VEVENT
BEGIN:VEVENT
DTSTART;VALUE=DATE:20240524
DTEND;VALUE=DATE:20240528
DTSTAMP:20260421T023939
CREATED:20240407T191319Z
LAST-MODIFIED:20240407T191319Z
UID:1126-1716508800-1716854399@coloradoseikatsu.com
SUMMARY:Boulder Creek Festival
DESCRIPTION:Memorial Day weekendに開催される、ボルダーの野外イベントです。 \n\n食べたり飲んだりするのはもちろん、子供向けのコーナーや音楽ライブも行われているので、5月のコロラドの晴れを楽しみながら家族友達みんなで楽しむことのできるイベントです。 \nちなみに子供むけにはそれぞれプログラムも組まれています。
URL:https://coloradoseikatsu.com/event/boulder-creek-festival/
LOCATION:Boulder creek festival\, 900 Canyon Blvd\, Boulder\, CO\, 80302
CATEGORIES:子供向けイベント,無料イベント
ATTACH;FMTTYPE=image/jpeg:https://coloradoseikatsu.com/wp-content/uploads/2024/04/Screenshot-2024-04-07-at-1.08.02 PM.jpg
END:VEVENT
BEGIN:VEVENT
DTSTART;VALUE=DATE:20240514
DTEND;VALUE=DATE:20240515
DTSTAMP:20260421T023939
CREATED:20240112T045853Z
LAST-MODIFIED:20240112T051603Z
UID:726-1715644800-1715731199@coloradoseikatsu.com
SUMMARY:デンバー美術館Free Day
DESCRIPTION:デンバーのダウンタウンにある美術館のFree Admission Dayです！シーズンごとの企画展はもちろん、キッズスペースや子供たちがクラフトを楽しめるスペースもあるので、お子さんがいるご家庭であればそちらもおすすめです。
URL:https://coloradoseikatsu.com/event/%e3%83%87%e3%83%b3%e3%83%90%e3%83%bc%e7%be%8e%e8%a1%93%e9%a4%a8free-day-8/
LOCATION:Denver Art Museum\, 100 W 14th Ave Pkwy\, Denver\, CO\, 80204\, United States
CATEGORIES:子供向けイベント,無料イベント
ATTACH;FMTTYPE=image/png:https://coloradoseikatsu.com/wp-content/uploads/2024/01/Screen-Shot-2024-01-11-at-2.21.38-PM.png
END:VEVENT
BEGIN:VEVENT
DTSTART;TZID=UTC:20240511T100000
DTEND;TZID=UTC:20240511T150000
DTSTAMP:20260421T023939
CREATED:20240417T044256Z
LAST-MODIFIED:20240417T044256Z
UID:1201-1715421600-1715439600@coloradoseikatsu.com
SUMMARY:Japanese Kite workshop&Festival in Denver
DESCRIPTION:5月11日（土）午前10時から午後3時、ロテラ公園で日本の凧あげ祭りが開催されます。今年も伝統的な江戸凧作りの名人、土岐幹男さんが素晴らしい腕を披露するために日本からはるばるコロラドまでやってくるようです！ \n子供向けの凧を一緒に作りましょう。参加費は無料です。是非一緒に凧あげしてみませんか。
URL:https://coloradoseikatsu.com/event/japanese-kite-workshopfestival-in-denver/
LOCATION:Rotella Park\, 1824 Coronado Pkwy N\, Denver\, CO\, 80229
CATEGORIES:子供向けイベント,無料イベント
ATTACH;FMTTYPE=image/jpeg:https://coloradoseikatsu.com/wp-content/uploads/2024/04/Screenshot-2024-04-16-at-10.40.03 PM.jpg
END:VEVENT
BEGIN:VEVENT
DTSTART;TZID=UTC:20240511T100000
DTEND;TZID=UTC:20240511T140000
DTSTAMP:20260421T023939
CREATED:20240417T045610Z
LAST-MODIFIED:20240417T045610Z
UID:1206-1715421600-1715436000@coloradoseikatsu.com
SUMMARY:Celebrate Englewood
DESCRIPTION:Englewoodの町が主催するコミュニティイベントです。 \nイベントでは消防車、パトカー、警察のバイクなどの乗り物に触ったり乗ったりすることができるそうで、乗り物が好きなお子さんはすごく楽しそうなイベントですね！
URL:https://coloradoseikatsu.com/event/celebrate-englewood/
LOCATION:Englewood Civic center\, 1000 Englewood Pkwy\, Englewood\, CO\, 80110
CATEGORIES:子供向けイベント,無料イベント
ATTACH;FMTTYPE=image/png:https://coloradoseikatsu.com/wp-content/uploads/2024/04/Screenshot-2024-04-16-at-10.52.26 PM.png
END:VEVENT
BEGIN:VEVENT
DTSTART;TZID=UTC:20240510T160000
DTEND;TZID=UTC:20240511T210000
DTSTAMP:20260421T023939
CREATED:20240407T194034Z
LAST-MODIFIED:20240407T194034Z
UID:1150-1715356800-1715461200@coloradoseikatsu.com
SUMMARY:Colorado Chocolate Festival
DESCRIPTION:様々なチョコレートのベンダーが出ているチョコレートフェスティバルです！10歳以下の子供は無料、それ以外は$10でチケットを購入してイベントに参加することができます。 \nたくさんのチョコレートのベンダーから買うだけではなくたくさんのサンプルを食べることもできるので、チョコレート好きは必見です！
URL:https://coloradoseikatsu.com/event/colorado-chocolate-festival/
LOCATION:Crowne Plaza Denver Airport Convention Center\, 15500 E 40th Ave\, Aurora\, CO\, 80011
ATTACH;FMTTYPE=image/jpeg:https://coloradoseikatsu.com/wp-content/uploads/2024/04/Screenshot-2024-04-07-at-1.38.27 PM.jpg
END:VEVENT
BEGIN:VEVENT
DTSTART;TZID=UTC:20240505T153000
DTEND;TZID=UTC:20240505T173000
DTSTAMP:20260421T023939
CREATED:20240423T205650Z
LAST-MODIFIED:20240423T205650Z
UID:1230-1714923000-1714930200@coloradoseikatsu.com
SUMMARY:コロラド子育てグループ｜こどもの日イベント
DESCRIPTION:コロラド子育てグループ主催、こどもの日イベントです！ \nポットラック形式でみんなでピクニックだけではなく、洋服やおもちゃのお下がり交換会、そしてパン作りがとっても得意なママによる手作り野菜パンの販売も行われます！ \nパンを購入希望の方は事前にこちらのフォームに記入してください。 \n\n購入申し込みはこちら\n\n 
URL:https://coloradoseikatsu.com/event/%e3%82%b3%e3%83%ad%e3%83%a9%e3%83%89%e5%ad%90%e8%82%b2%e3%81%a6%e3%82%b0%e3%83%ab%e3%83%bc%e3%83%97%ef%bd%9c%e3%81%93%e3%81%a9%e3%82%82%e3%81%ae%e6%97%a5%e3%82%a4%e3%83%99%e3%83%b3%e3%83%88/
LOCATION:Westlands Park\, 5701 S Quebec St\, Greenwood Village\, CO\, 80111
CATEGORIES:子供向けイベント,無料イベント
ATTACH;FMTTYPE=image/jpeg:https://coloradoseikatsu.com/wp-content/uploads/2024/04/IMG_0637.jpg
END:VEVENT
BEGIN:VEVENT
DTSTART;TZID=UTC:20240504T100000
DTEND;TZID=UTC:20240505T200000
DTSTAMP:20260421T023939
CREATED:20240417T050224Z
LAST-MODIFIED:20240417T050224Z
UID:1211-1714816800-1714939200@coloradoseikatsu.com
SUMMARY:Cinco de Mayo Denver
DESCRIPTION:メキシコの5月のお祭りであるCinco de Mayoのイベントが開催されます。 \nイベントでは食べ物、飲み物、パフォーマンスや音楽を公園で楽しむことができます。 \nこちらの動画でどんな雰囲気なのかも見ることができます。
URL:https://coloradoseikatsu.com/event/cinco-de-mayo-denver/
LOCATION:Civic Center Park\, 101 14th Ave\, Denver\, CO\, 80204\, United States
CATEGORIES:子供向けイベント,無料イベント
ATTACH;FMTTYPE=image/png:https://coloradoseikatsu.com/wp-content/uploads/2024/04/Screenshot-2024-04-16-at-10.58.37 PM.png
END:VEVENT
BEGIN:VEVENT
DTSTART;TZID=UTC:20240504T100000
DTEND;TZID=UTC:20240504T123000
DTSTAMP:20260421T023939
CREATED:20240417T043854Z
LAST-MODIFIED:20240417T044329Z
UID:1197-1714816800-1714825800@coloradoseikatsu.com
SUMMARY:こどもの日祭り in Colorado Springs
DESCRIPTION:南コロラド州日米協会がこどもの日のイベントを開催します。 \nクラフト、日本の伝統ゲームやいろんなパフォーマンスもあるそうです。開催されるファッションショーではお子さんたちが着物や浴衣、柔道着を着る体験もできるとか。 \nいろんな日本にルーツのある人とつながるきっかけにもなりそうですね！
URL:https://coloradoseikatsu.com/event/%e3%81%93%e3%81%a9%e3%82%82%e3%81%ae%e6%97%a5%e7%a5%ad%e3%82%8a-in-colorado-springs/
LOCATION:Edith Kinney Gaylord Arts Center\, 825 N Cascade Ave\, Colorado Springs\, CO\, 80903
CATEGORIES:子供向けイベント,無料イベント
ATTACH;FMTTYPE=image/jpeg:https://coloradoseikatsu.com/wp-content/uploads/2024/04/Screenshot-2024-04-16-at-10.33.59 PM.jpg
END:VEVENT
BEGIN:VEVENT
DTSTART;TZID=UTC:20240503T173000
DTEND;TZID=UTC:20240503T213000
DTSTAMP:20260421T023939
CREATED:20240201T034121Z
LAST-MODIFIED:20240201T034121Z
UID:960-1714757400-1714771800@coloradoseikatsu.com
SUMMARY:First Friday Art Walks @Denver
DESCRIPTION:毎月第一金曜日にデンバーのアート界隈でも人気なSanta Feというエリアで開催されるイベントです。このイベントでは普段入りにくいと感じる人もいるアートギャラリーに気軽に入り、アートを鑑賞したり、ワインやビールを飲みながらいろんなローカルのアーティストの作品を見ることができるイベントです。 \nFood truckやストリートパフォーマンスがある時もあるので、友達や家族とぜひ出かけてみてください！
URL:https://coloradoseikatsu.com/event/first-friday-art-walks-denver-4/
LOCATION:CO
CATEGORIES:無料イベント
END:VEVENT
BEGIN:VEVENT
DTSTART;TZID=UTC:20240428T130000
DTEND;TZID=UTC:20240428T170000
DTSTAMP:20260421T023939
CREATED:20240407T193536Z
LAST-MODIFIED:20240407T193536Z
UID:1146-1714309200-1714323600@coloradoseikatsu.com
SUMMARY:Tulip Fairy&Elf Festival in Boulder
DESCRIPTION:ボルダーの有名な観光ストリートでもあるPearl Street Mallで春のイベントが行われます。 \nイベントではパレードが開催されたり、ライブパフォーマンスなど見て楽しむものはもちろんフェイスペイントや子供たちが楽しめるアトラクションもたくさん用意されているとのこと。 \nお子さんがいるご家庭は妖精の羽をつけたりエルフの格好をして参加しても楽しそうですね！
URL:https://coloradoseikatsu.com/event/tulip-fairyelf-festival-in-boulder/
LOCATION:Pearl Street Mall\, Boulder Bowls\, 1333 Pearl St\, Boulder\, CO\, 80302
CATEGORIES:子供向けイベント,無料イベント
ATTACH;FMTTYPE=image/jpeg:https://coloradoseikatsu.com/wp-content/uploads/2024/04/Screenshot-2024-04-07-at-1.29.47 PM.jpg
END:VEVENT
BEGIN:VEVENT
DTSTART;TZID=UTC:20240428T090000
DTEND;TZID=UTC:20240428T170000
DTSTAMP:20260421T023939
CREATED:20240114T033702Z
LAST-MODIFIED:20240114T033702Z
UID:763-1714294800-1714323600@coloradoseikatsu.com
SUMMARY:Nature & Science Museum Free Day
DESCRIPTION:恐竜のこと、宇宙のこと、自然のこと、動物のこと、人の体のこと、古代エジプトのこと…自然と科学がギュギュっと詰まったDenver Museum of Nature & Scienceの無料開放日です。 \n友達と行くのももちろん、お子様連れでもたっぷり楽しめる博物館で、二階の奥にはハイハイする赤ちゃんから好奇心旺盛な子供たちまで年齢層も広く楽しめるキッズスペースもあります！
URL:https://coloradoseikatsu.com/event/nature-science-museum-free-day-4/
LOCATION:Denver Museum of Nature and Science\, 2001 Colorado Blvd\, Denver\, CO\, 80205\, United States
CATEGORIES:子供向けイベント,無料イベント
ATTACH;FMTTYPE=image/jpeg:https://coloradoseikatsu.com/wp-content/uploads/2024/01/IMG_8173.jpg
END:VEVENT
BEGIN:VEVENT
DTSTART;VALUE=DATE:20240428
DTEND;VALUE=DATE:20240429
DTSTAMP:20260421T023939
CREATED:20240112T045759Z
LAST-MODIFIED:20240112T051522Z
UID:724-1714262400-1714348799@coloradoseikatsu.com
SUMMARY:デンバー美術館Free Day
DESCRIPTION:デンバーのダウンタウンにある美術館のFree Admission Dayです！シーズンごとの企画展はもちろん、キッズスペースや子供たちがクラフトを楽しめるスペースもあるので、お子さんがいるご家庭であればそちらもおすすめです。
URL:https://coloradoseikatsu.com/event/%e3%83%87%e3%83%b3%e3%83%90%e3%83%bc%e7%be%8e%e8%a1%93%e9%a4%a8free-day-7/
LOCATION:Denver Art Museum\, 100 W 14th Ave Pkwy\, Denver\, CO\, 80204\, United States
CATEGORIES:子供向けイベント,無料イベント
ATTACH;FMTTYPE=image/png:https://coloradoseikatsu.com/wp-content/uploads/2024/01/Screen-Shot-2024-01-11-at-2.21.38-PM.png
END:VEVENT
BEGIN:VEVENT
DTSTART;TZID=UTC:20240426T110000
DTEND;TZID=UTC:20240426T120000
DTSTAMP:20260421T023939
CREATED:20240329T201423Z
LAST-MODIFIED:20240329T201609Z
UID:1103-1714129200-1714132800@coloradoseikatsu.com
SUMMARY:Timbuk Toys主催、無料サーカス！
DESCRIPTION:毎週子供向けのストーリータイムが行われていることで知ってる人も多いTimbukがVenardos circusと一緒に子供向けの無料イベントを行います。 \n通常有料のチケットが必要なサーカスですが、サーカスの雰囲気を楽しみながら短い時間で子供たちが楽しめるイベントとなっているようです！ \n毎週行われているストーリータイムの容姿はこちらの記事をぜひご覧ください。 \n\nストーリータイムの様子はこちら
URL:https://coloradoseikatsu.com/event/timbuk-toys%e4%b8%bb%e5%82%ac%e3%80%81%e7%84%a1%e6%96%99%e3%82%b5%e3%83%bc%e3%82%ab%e3%82%b9%ef%bc%81/
LOCATION:Timbuk Aspen Grove Center\, 7301 S Santa Fe Dr #345\, Littleton\, CO\, 80120
CATEGORIES:子供向けイベント,無料イベント
ATTACH;FMTTYPE=image/jpeg:https://coloradoseikatsu.com/wp-content/uploads/2024/03/SPT_Circus_2023_Slide_1200_x_512_px_72e3d169-f2dd-451b-9b26-8d12dd408233_480x480.png.jpeg
END:VEVENT
BEGIN:VEVENT
DTSTART;VALUE=DATE:20240420
DTEND;VALUE=DATE:20240428
DTSTAMP:20260421T023939
CREATED:20240407T192911Z
LAST-MODIFIED:20240407T192911Z
UID:1141-1713571200-1714262399@coloradoseikatsu.com
SUMMARY:Westminster Art Week
DESCRIPTION:Westminsterにて１週間Arts Weekが開催されます。 \nイベントではアートギャラリーが開放されたり、いろんなローカルアーティストの作品を見たり買うことができたり、音楽、食べ物や飲み物などを楽しむことができます。
URL:https://coloradoseikatsu.com/event/westminster-art-week/
LOCATION:City of Westminster Parks\, Recreation & Libraries\, 3995 W 73rd Ave\, Westminster\, CO\, 80030
CATEGORIES:子供向けイベント,無料イベント
ATTACH;FMTTYPE=image/jpeg:https://coloradoseikatsu.com/wp-content/uploads/2024/04/Screenshot-2024-04-07-at-1.26.44 PM.jpg
END:VEVENT
BEGIN:VEVENT
DTSTART;TZID=UTC:20240418T110000
DTEND;TZID=UTC:20240418T140000
DTSTAMP:20260421T023939
CREATED:20240408T194603Z
LAST-MODIFIED:20240408T194603Z
UID:1180-1713438000-1713448800@coloradoseikatsu.com
SUMMARY:コロラド子育てグループ |  春の女子会
DESCRIPTION:コロラド子育てグループのイベント第二弾は、ブルワリーで春の日の中ビールを飲みながらの交流会です！ \n平日子どもたちが学校の間、または小さなお子様も一緒にパティオでワイワイしませんか♪？隣にプレイグラウンドもあるので小さいお子様連れでも楽しめます☺ \nお子様連れでの参加や、お店での飲食はせずにプレイデートだけ楽しみたい！という方も大歓迎です！ \n 
URL:https://coloradoseikatsu.com/event/%e3%82%b3%e3%83%ad%e3%83%a9%e3%83%89%e5%ad%90%e8%82%b2%e3%81%a6%e3%82%b0%e3%83%ab%e3%83%bc%e3%83%97-%e6%98%a5%e3%81%ae%e5%a5%b3%e5%ad%90%e4%bc%9a/
LOCATION:Denver Co in Lowry\, 7070 E Lowry Blvd\, Denver\, CO\, 80230
ATTACH;FMTTYPE=image/jpeg:https://coloradoseikatsu.com/wp-content/uploads/2024/04/IMG_42230722EAF4-1.jpeg
END:VEVENT
BEGIN:VEVENT
DTSTART;TZID=UTC:20240414T100000
DTEND;TZID=UTC:20240414T150000
DTSTAMP:20260421T023939
CREATED:20240407T192426Z
LAST-MODIFIED:20240407T192426Z
UID:1137-1713088800-1713106800@coloradoseikatsu.com
SUMMARY:Arvada Kite Festival
DESCRIPTION:デンバーから北のアルバダで凧のイベントがあります。 \nカラフルな凧が上がる様子を見るだけではなくフードトラックも来たり、子供が遊べるバウンシーハウスやフェイスペイントなども行われるようです。
URL:https://coloradoseikatsu.com/event/arvada-kite-festival/
LOCATION:Stranger Sports Complex\, Stenger Sports Complex\, 11200 W 58th Ave\, Arvada\,\, CO\, 80002
CATEGORIES:子供向けイベント,無料イベント
ATTACH;FMTTYPE=image/jpeg:https://coloradoseikatsu.com/wp-content/uploads/2024/04/Screenshot-2024-04-07-at-1.21.14 PM.jpg
END:VEVENT
BEGIN:VEVENT
DTSTART;VALUE=DATE:20240409
DTEND;VALUE=DATE:20240410
DTSTAMP:20260421T023939
CREATED:20240111T213037Z
LAST-MODIFIED:20240112T051558Z
UID:722-1712620800-1712707199@coloradoseikatsu.com
SUMMARY:デンバー美術館Free Day
DESCRIPTION:デンバーのダウンタウンにある美術館のFree Admission Dayです！シーズンごとの企画展はもちろん、キッズスペースや子供たちがクラフトを楽しめるスペースもあるので、お子さんがいるご家庭であればそちらもおすすめです。
URL:https://coloradoseikatsu.com/event/%e3%83%87%e3%83%b3%e3%83%90%e3%83%bc%e7%be%8e%e8%a1%93%e9%a4%a8free-day-6/
LOCATION:Denver Art Museum\, 100 W 14th Ave Pkwy\, Denver\, CO\, 80204\, United States
CATEGORIES:子供向けイベント,無料イベント
ATTACH;FMTTYPE=image/png:https://coloradoseikatsu.com/wp-content/uploads/2024/01/Screen-Shot-2024-01-11-at-2.21.38-PM.png
END:VEVENT
BEGIN:VEVENT
DTSTART;TZID=UTC:20240407T110000
DTEND;TZID=UTC:20240407T140000
DTSTAMP:20260421T023939
CREATED:20240407T192104Z
LAST-MODIFIED:20240407T192104Z
UID:1133-1712487600-1712498400@coloradoseikatsu.com
SUMMARY:皆既日食観察イベント
DESCRIPTION:2024/04/08はテキサスなどの限られた場所で完全皆既日食が見れると言われていますが、コロラドでも一部日食をみることができます。 \nこちらは公園で天体観測をしている団体主催で一部日食を見るイベントが開催されます。実際に見るためのメガネなどの用意もあるようなので、気になる方はぜひ足を運んでみてください。
URL:https://coloradoseikatsu.com/event/%e7%9a%86%e6%97%a2%e6%97%a5%e9%a3%9f%e8%a6%b3%e5%af%9f%e3%82%a4%e3%83%99%e3%83%b3%e3%83%88/
LOCATION:Observatory Park\, 2930 E Warren Ave\, Denver\, Colorado\, 80210
CATEGORIES:子供向けイベント
ATTACH;FMTTYPE=image/png:https://coloradoseikatsu.com/wp-content/uploads/2024/04/Screenshot-2024-04-07-at-1.16.57 PM.png
END:VEVENT
BEGIN:VEVENT
DTSTART;TZID=UTC:20240407T080000
DTEND;TZID=UTC:20240407T170000
DTSTAMP:20260421T023939
CREATED:20240115T165115Z
LAST-MODIFIED:20240115T165115Z
UID:798-1712476800-1712509200@coloradoseikatsu.com
SUMMARY:Denver Zoo Free Day
DESCRIPTION:デンバーの動物園に無料で入場できる日です。 \n\n\n\n\n\n\n\n無料で入場できるそれぞれの日に対してチケットがリリースされる日が設定されています。時間指定のチケットとなるので、もし行きたい方は事前にウェブサイトからチケットを購入しましょう。チケットはたくさんの数用意はされていますが、朝一の10時のスロットは無料チケットが売り切れになるのが早いので、10時に入場したい人は早めに確保しておくことをお勧めします。 \n例えばこの記事を書いている今日、1/15に21日の無料の日のチケットを見るとこんな感じです。2歳以下のお子さんも入場にはチケットが必要で、当日窓口では買えないので事前にチケットを入手していきましょう。 \n\n\n 
URL:https://coloradoseikatsu.com/event/denver-zoo-free-day-4/
LOCATION:Denver Zoo\, 2300 Steele St\, Denver\, CO\, 80205\, United States
CATEGORIES:子供向けイベント,無料イベント
ATTACH;FMTTYPE=image/jpeg:https://coloradoseikatsu.com/wp-content/uploads/2024/01/Screen-Shot-2024-01-15-at-9.39.18-AM.jpg
END:VEVENT
BEGIN:VEVENT
DTSTART;TZID=UTC:20240405T173000
DTEND;TZID=UTC:20240405T213000
DTSTAMP:20260421T023939
CREATED:20240201T034035Z
LAST-MODIFIED:20240201T034035Z
UID:958-1712338200-1712352600@coloradoseikatsu.com
SUMMARY:First Friday Art Walks @Denver
DESCRIPTION:毎月第一金曜日にデンバーのアート界隈でも人気なSanta Feというエリアで開催されるイベントです。このイベントでは普段入りにくいと感じる人もいるアートギャラリーに気軽に入り、アートを鑑賞したり、ワインやビールを飲みながらいろんなローカルのアーティストの作品を見ることができるイベントです。 \nFood truckやストリートパフォーマンスがある時もあるので、友達や家族とぜひ出かけてみてください！
URL:https://coloradoseikatsu.com/event/first-friday-art-walks-denver-3/
LOCATION:Art District on Santa Fe.\, 858 Santa Fe Dr\, Denver\, CO\, 80204\, United States
CATEGORIES:無料イベント
END:VEVENT
BEGIN:VEVENT
DTSTART;TZID=UTC:20240330T100000
DTEND;TZID=UTC:20240330T120000
DTSTAMP:20260421T023939
CREATED:20240321T193401Z
LAST-MODIFIED:20240321T193401Z
UID:1041-1711792800-1711800000@coloradoseikatsu.com
SUMMARY:Easter Egg Hunt @Arvada
DESCRIPTION:Arvadaにある公園で行われるエッグハントです。軽食、飲み物も用意され、イースターバニーとのphotoboothもあるようです。
URL:https://coloradoseikatsu.com/event/easter-egg-hunt-arvada/
LOCATION:Sunrise Park\, 6775 Jay St\, Arvada\, CO\, 80003
CATEGORIES:子供向けイベント,無料イベント
ATTACH;FMTTYPE=image/jpeg:https://coloradoseikatsu.com/wp-content/uploads/2024/03/Screenshot-2024-03-21-at-1.31.21 PM.jpg
END:VEVENT
BEGIN:VEVENT
DTSTART;TZID=UTC:20240330T100000
DTEND;TZID=UTC:20240330T110000
DTSTAMP:20260421T023939
CREATED:20240321T195236Z
LAST-MODIFIED:20240321T195236Z
UID:1056-1711792800-1711796400@coloradoseikatsu.com
SUMMARY:Easter Egg Hunt ＠Highlands Ranch
DESCRIPTION:住む場所としても人気のHighlands RanchのCommunity Association主催のエッグハントです。広い公園で行われ無料で参加することができます。 \nイースターバニーも登場するようなので、一緒に写真を撮りたい人はカメラもお忘れなく！
URL:https://coloradoseikatsu.com/event/easter-egg-hunt-%ef%bc%a0highlands-ranch/
LOCATION:Northridge Park\, 8800 S Broadway\, Highlands Ranch\, CO\, 80126
CATEGORIES:子供向けイベント,無料イベント
ATTACH;FMTTYPE=image/jpeg:https://coloradoseikatsu.com/wp-content/uploads/2024/03/Screenshot-2024-03-21-at-1.48.11 PM.jpg
END:VEVENT
END:VCALENDAR