BEGIN:VCALENDAR
VERSION:2.0
PRODID:-//コロラド生活 - ECPv6.15.20//NONSGML v1.0//EN
CALSCALE:GREGORIAN
METHOD:PUBLISH
X-WR-CALNAME:コロラド生活
X-ORIGINAL-URL:https://coloradoseikatsu.com
X-WR-CALDESC:Events for コロラド生活
REFRESH-INTERVAL;VALUE=DURATION:PT1H
X-Robots-Tag:noindex
X-PUBLISHED-TTL:PT1H
BEGIN:VTIMEZONE
TZID:UTC
BEGIN:STANDARD
TZOFFSETFROM:+0000
TZOFFSETTO:+0000
TZNAME:UTC
DTSTART:20220101T000000
END:STANDARD
END:VTIMEZONE
BEGIN:VEVENT
DTSTART;TZID=UTC:20240330T080000
DTEND;TZID=UTC:20240330T170000
DTSTAMP:20260421T044426
CREATED:20240321T200256Z
LAST-MODIFIED:20240321T200340Z
UID:1064-1711785600-1711818000@coloradoseikatsu.com
SUMMARY:Egg Hunt @Four Mile Historic Park
DESCRIPTION:デンバーのチェリークリークモールからそこまで遠くないHistoric Parkでイースターイベントが開催されます。午前と午後の２部構成で、スケジュールはこちらの通りです。 \n\n\n\nチケットに含まれているのはエッグハントだけではなくコンサートやトラックに乗ったり、クラフトを楽しむこともできます。
URL:https://coloradoseikatsu.com/event/egg-hunt-four-mile-historic-park/
LOCATION:Four Mile Historic Park\, 715 S Forest St\, Denver\, CO\, 80246
CATEGORIES:子供向けイベント
ATTACH;FMTTYPE=image/jpeg:https://coloradoseikatsu.com/wp-content/uploads/2024/03/Screenshot-2024-03-21-at-1.56.16 PM.jpg
END:VEVENT
BEGIN:VEVENT
DTSTART;VALUE=DATE:20240330
DTEND;VALUE=DATE:20240331
DTSTAMP:20260421T044426
CREATED:20240321T194518Z
LAST-MODIFIED:20240321T194556Z
UID:1049-1711756800-1711843199@coloradoseikatsu.com
SUMMARY:Easter Extravaganza
DESCRIPTION:動物とのふれあいもできるThe Community Farmでもイースターイベントを開催しています。 \nエッグハントだけではなく、動物とのふれあい、フォトコンテスト、クラフトなどを楽しむこともできます。 \nセッションは以下のように分かれています。気になるものにぜひ参加してみてください！ \n\nSession 1 (1PM)Reading with the Rabbits story time\, pony ride and TCF animal obstacle courses\nSession 2 (3PM) Reading with the Rabbits story time\, goat yoga\, TCF animal costume contest and Parade\nSession 3 (5PM) Art workshop\, animal vs human field games
URL:https://coloradoseikatsu.com/event/easter-extravaganza/
LOCATION:The Community Farm\, 15000 W 72nd Ave\, Arvada\, CO
CATEGORIES:子供向けイベント
ATTACH;FMTTYPE=image/jpeg:https://coloradoseikatsu.com/wp-content/uploads/2024/03/Screenshot-2024-03-21-at-1.39.29 PM.jpg
END:VEVENT
BEGIN:VEVENT
DTSTART;TZID=UTC:20240328T100000
DTEND;TZID=UTC:20240328T120000
DTSTAMP:20260421T044426
CREATED:20240321T192856Z
LAST-MODIFIED:20240321T192856Z
UID:1037-1711620000-1711627200@coloradoseikatsu.com
SUMMARY:日本人会エッグハント
DESCRIPTION:日本人の子育てグループでエッグハントを行います！ \n参加する方はお子様一人につきお菓子（またはおもちゃ）が入ったエッグを10こ持参してください。アレルギーへの考慮から、入れるお菓子はナッツフリーでお願いします。
URL:https://coloradoseikatsu.com/event/japanmamaegghunt/
LOCATION:Westlands Park\, 5701 S Quebec St\, Greenwood Village\, CO\, 80111
CATEGORIES:子供向けイベント,無料イベント
ATTACH;FMTTYPE=image/jpeg:https://coloradoseikatsu.com/wp-content/uploads/2024/03/Screenshot-2024-03-21-at-1.26.57 PM.jpg
END:VEVENT
BEGIN:VEVENT
DTSTART;VALUE=DATE:20240327
DTEND;VALUE=DATE:20240328
DTSTAMP:20260421T044426
CREATED:20240115T195234Z
LAST-MODIFIED:20240115T195813Z
UID:812-1711497600-1711583999@coloradoseikatsu.com
SUMMARY:Denver Zoo 4/7分無料チケット解放日
DESCRIPTION:デンバー動物園、4月7日の無料で入場できる日のチケットがリリースされる日です。それぞれの無料デーにはチケットリリース日がセットであり、そのリリース日の正午にチケットが入手できるようになります。 \n\n\n\n当日窓口ではチケットは購入できず事前にチケット入手が必要になります。それぞれの時間帯たくさんの無料チケットはありますが、朝一の時間帯などはすぐなくなってしまうことが多いので早めにチケットを入手するのがお勧めです。 \n\n\n\n 
URL:https://coloradoseikatsu.com/event/denver-zoo-4-7%e6%97%a5%e5%88%86%e7%84%a1%e6%96%99%e3%83%81%e3%82%b1%e3%83%83%e3%83%88%e8%a7%a3%e6%94%be%e6%97%a5/
LOCATION:CO
END:VEVENT
BEGIN:VEVENT
DTSTART;VALUE=DATE:20240324
DTEND;VALUE=DATE:20240325
DTSTAMP:20260421T044426
CREATED:20240111T212913Z
LAST-MODIFIED:20240112T051553Z
UID:720-1711238400-1711324799@coloradoseikatsu.com
SUMMARY:デンバー美術館Free Day
DESCRIPTION:デンバーのダウンタウンにある美術館のFree Admission Dayです！シーズンごとの企画展はもちろん、キッズスペースや子供たちがクラフトを楽しめるスペースもあるので、お子さんがいるご家庭であればそちらもおすすめです。
URL:https://coloradoseikatsu.com/event/%e3%83%87%e3%83%b3%e3%83%90%e3%83%bc%e7%be%8e%e8%a1%93%e9%a4%a8free-day-5/
LOCATION:Denver Art Museum\, 100 W 14th Ave Pkwy\, Denver\, CO\, 80204\, United States
CATEGORIES:子供向けイベント,無料イベント
ATTACH;FMTTYPE=image/png:https://coloradoseikatsu.com/wp-content/uploads/2024/01/Screen-Shot-2024-01-11-at-2.21.38-PM.png
END:VEVENT
BEGIN:VEVENT
DTSTART;TZID=UTC:20240323T120000
DTEND;TZID=UTC:20240323T140000
DTSTAMP:20260421T044426
CREATED:20240321T201234Z
LAST-MODIFIED:20240321T201234Z
UID:1076-1711195200-1711202400@coloradoseikatsu.com
SUMMARY:Easter Hoppy Hour
DESCRIPTION:ブルワリーでもハッピーアワーに合わせたイースターイベントが開催されます。ハッピーアワー価格のビールだけではなくイースターバニーとの写真や子供と大人どちらにもプチギフトが用意されているようです。
URL:https://coloradoseikatsu.com/event/easter-hoppy-hour/
LOCATION:Dry Dock Brewing Co\, 15120 E Hampden Ave\, Aurora\, CO\, 80014
CATEGORIES:子供向けイベント
ATTACH;FMTTYPE=image/jpeg:https://coloradoseikatsu.com/wp-content/uploads/2024/03/Screenshot-2024-03-21-at-2.11.04 PM.jpg
END:VEVENT
BEGIN:VEVENT
DTSTART;TZID=UTC:20240323T100000
DTEND;TZID=UTC:20240323T110000
DTSTAMP:20260421T044426
CREATED:20240321T195600Z
LAST-MODIFIED:20240321T195600Z
UID:1060-1711188000-1711191600@coloradoseikatsu.com
SUMMARY:Easter Egg Hunt @Denver
DESCRIPTION:Glendale Sports Centerというスポーツジム主催のイースターエッグハントです、無料で参加することができます。
URL:https://coloradoseikatsu.com/event/easter-egg-hunt-denver/
LOCATION:Glendale Sports Center\, 4500 E Kentucky Ave\, Denver\, CO\, 80246
CATEGORIES:子供向けイベント,無料イベント
ATTACH;FMTTYPE=image/jpeg:https://coloradoseikatsu.com/wp-content/uploads/2024/03/Screenshot-2024-03-21-at-1.53.18 PM.jpg
END:VEVENT
BEGIN:VEVENT
DTSTART;TZID=UTC:20240321T080000
DTEND;TZID=UTC:20240321T170000
DTSTAMP:20260421T044426
CREATED:20240321T193903Z
LAST-MODIFIED:20240321T193903Z
UID:1045-1711008000-1711040400@coloradoseikatsu.com
SUMMARY:Easter Egg Hunt @Regis University
DESCRIPTION:Regis大学で開催されるイースターエッグハントです。小さなお子様からティーンまで、誰でも参加することができます。
URL:https://coloradoseikatsu.com/event/easter-egg-hunt-regis-university/
LOCATION:Regis University\, 3333 Regis Blvd\, Denver\, CO\, 80221
CATEGORIES:子供向けイベント,無料イベント
ATTACH;FMTTYPE=image/jpeg:https://coloradoseikatsu.com/wp-content/uploads/2024/03/Screenshot-2024-03-21-at-1.38.33 PM.jpg
END:VEVENT
BEGIN:VEVENT
DTSTART;VALUE=DATE:20240312
DTEND;VALUE=DATE:20240313
DTSTAMP:20260421T044426
CREATED:20240111T212820Z
LAST-MODIFIED:20240112T051526Z
UID:718-1710201600-1710287999@coloradoseikatsu.com
SUMMARY:デンバー美術館Free Day
DESCRIPTION:デンバーのダウンタウンにある美術館のFree Admission Dayです！シーズンごとの企画展はもちろん、キッズスペースや子供たちがクラフトを楽しめるスペースもあるので、お子さんがいるご家庭であればそちらもおすすめです。
URL:https://coloradoseikatsu.com/event/%e3%83%87%e3%83%b3%e3%83%90%e3%83%bc%e7%be%8e%e8%a1%93%e9%a4%a8free-day-4/
LOCATION:Denver Art Museum\, 100 W 14th Ave Pkwy\, Denver\, CO\, 80204\, United States
CATEGORIES:子供向けイベント,無料イベント
ATTACH;FMTTYPE=image/png:https://coloradoseikatsu.com/wp-content/uploads/2024/01/Screen-Shot-2024-01-11-at-2.21.38-PM.png
END:VEVENT
BEGIN:VEVENT
DTSTART;TZID=UTC:20240301T173000
DTEND;TZID=UTC:20240301T213000
DTSTAMP:20260421T044426
CREATED:20240201T033944Z
LAST-MODIFIED:20240201T033944Z
UID:956-1709314200-1709328600@coloradoseikatsu.com
SUMMARY:First Friday Art Walks @Denver
DESCRIPTION:毎月第一金曜日にデンバーのアート界隈でも人気なSanta Feというエリアで開催されるイベントです。このイベントでは普段入りにくいと感じる人もいるアートギャラリーに気軽に入り、アートを鑑賞したり、ワインやビールを飲みながらいろんなローカルのアーティストの作品を見ることができるイベントです。 \nFood truckやストリートパフォーマンスがある時もあるので、友達や家族とぜひ出かけてみてください！
URL:https://coloradoseikatsu.com/event/first-friday-art-walks-denver-2/
LOCATION:Art District on Santa Fe.\, 858 Santa Fe Dr\, Denver\, CO\, 80204\, United States
CATEGORIES:無料イベント
END:VEVENT
BEGIN:VEVENT
DTSTART;VALUE=DATE:20240301
DTEND;VALUE=DATE:20240331
DTSTAMP:20260421T044426
CREATED:20240321T200914Z
LAST-MODIFIED:20240321T200914Z
UID:1072-1709251200-1711843199@coloradoseikatsu.com
SUMMARY:イースター宝探し＠Broomfield Plaza
DESCRIPTION:1ヶ月間開催されている、イースターの宝探しイベントです。Ziggi’s Coffeeにてエントリーし、プラザ内に隠された卵を探す、他とは違ったイースターの宝探し式エッグハントです。
URL:https://coloradoseikatsu.com/event/%e3%82%a4%e3%83%bc%e3%82%b9%e3%82%bf%e3%83%bc%e5%ae%9d%e6%8e%a2%e3%81%97%ef%bc%a0broomfield-plaza/
LOCATION:Broomfield Plaza\, 5015 W 120th Ave\, Broomfield\, CO\, 80020
CATEGORIES:子供向けイベント
ATTACH;FMTTYPE=image/jpeg:https://coloradoseikatsu.com/wp-content/uploads/2024/03/Screenshot-2024-03-21-at-2.04.09 PM.jpg
END:VEVENT
BEGIN:VEVENT
DTSTART;TZID=UTC:20240225T090000
DTEND;TZID=UTC:20240225T170000
DTSTAMP:20260421T044426
CREATED:20240114T033558Z
LAST-MODIFIED:20240114T033558Z
UID:761-1708851600-1708880400@coloradoseikatsu.com
SUMMARY:Nature & Science Museum Free Day
DESCRIPTION:恐竜のこと、宇宙のこと、自然のこと、動物のこと、人の体のこと、古代エジプトのこと…自然と科学がギュギュっと詰まったDenver Museum of Nature & Scienceの無料開放日です。 \n友達と行くのももちろん、お子様連れでもたっぷり楽しめる博物館で、二階の奥にはハイハイする赤ちゃんから好奇心旺盛な子供たちまで年齢層も広く楽しめるキッズスペースもあります！
URL:https://coloradoseikatsu.com/event/nature-science-museum-free-day-3/
LOCATION:Denver Museum of Nature and Science\, 2001 Colorado Blvd\, Denver\, CO\, 80205\, United States
CATEGORIES:子供向けイベント,無料イベント
ATTACH;FMTTYPE=image/jpeg:https://coloradoseikatsu.com/wp-content/uploads/2024/01/IMG_8173.jpg
END:VEVENT
BEGIN:VEVENT
DTSTART;VALUE=DATE:20240213
DTEND;VALUE=DATE:20240214
DTSTAMP:20260421T044426
CREATED:20240111T212723Z
LAST-MODIFIED:20240112T051547Z
UID:716-1707782400-1707868799@coloradoseikatsu.com
SUMMARY:デンバー美術館Free Day
DESCRIPTION:デンバーのダウンタウンにある美術館のFree Admission Dayです！シーズンごとの企画展はもちろん、キッズスペースや子供たちがクラフトを楽しめるスペースもあるので、お子さんがいるご家庭であればそちらもおすすめです。
URL:https://coloradoseikatsu.com/event/%e3%83%87%e3%83%b3%e3%83%90%e3%83%bc%e7%be%8e%e8%a1%93%e9%a4%a8free-day-3/
LOCATION:Denver Art Museum\, 100 W 14th Ave Pkwy\, Denver\, CO\, 80204\, United States
CATEGORIES:子供向けイベント,無料イベント
ATTACH;FMTTYPE=image/png:https://coloradoseikatsu.com/wp-content/uploads/2024/01/Screen-Shot-2024-01-11-at-2.21.38-PM.png
END:VEVENT
BEGIN:VEVENT
DTSTART;TZID=UTC:20240211T080000
DTEND;TZID=UTC:20240211T170000
DTSTAMP:20260421T044426
CREATED:20240115T165040Z
LAST-MODIFIED:20240115T165040Z
UID:796-1707638400-1707670800@coloradoseikatsu.com
SUMMARY:Denver Zoo Free Day
DESCRIPTION:デンバーの動物園に無料で入場できる日です。 \n\n\n\n\n\n\n\n無料で入場できるそれぞれの日に対してチケットがリリースされる日が設定されています。時間指定のチケットとなるので、もし行きたい方は事前にウェブサイトからチケットを購入しましょう。チケットはたくさんの数用意はされていますが、朝一の10時のスロットは無料チケットが売り切れになるのが早いので、10時に入場したい人は早めに確保しておくことをお勧めします。 \n例えばこの記事を書いている今日、1/15に21日の無料の日のチケットを見るとこんな感じです。2歳以下のお子さんも入場にはチケットが必要で、当日窓口では買えないので事前にチケットを入手していきましょう。 \n\n\n 
URL:https://coloradoseikatsu.com/event/denver-zoo-free-day-3/
LOCATION:Denver Zoo\, 2300 Steele St\, Denver\, CO\, 80205\, United States
CATEGORIES:子供向けイベント,無料イベント
ATTACH;FMTTYPE=image/jpeg:https://coloradoseikatsu.com/wp-content/uploads/2024/01/Screen-Shot-2024-01-15-at-9.39.18-AM.jpg
END:VEVENT
BEGIN:VEVENT
DTSTART;TZID=UTC:20240202T173000
DTEND;TZID=UTC:20240202T213000
DTSTAMP:20260421T044426
CREATED:20240201T033818Z
LAST-MODIFIED:20240201T033818Z
UID:953-1706895000-1706909400@coloradoseikatsu.com
SUMMARY:First Friday Art Walks @Denver
DESCRIPTION:毎月第一金曜日にデンバーのアート界隈でも人気なSanta Feというエリアで開催されるイベントです。このイベントでは普段入りにくいと感じる人もいるアートギャラリーに気軽に入り、アートを鑑賞したり、ワインやビールを飲みながらいろんなローカルのアーティストの作品を見ることができるイベントです。 \nFood truckやストリートパフォーマンスがある時もあるので、友達や家族とぜひ出かけてみてください！
URL:https://coloradoseikatsu.com/event/first-friday-art-walks-denver/
LOCATION:Art District on Santa Fe.\, 858 Santa Fe Dr\, Denver\, CO\, 80204\, United States
CATEGORIES:無料イベント
END:VEVENT
BEGIN:VEVENT
DTSTART;VALUE=DATE:20240131
DTEND;VALUE=DATE:20240201
DTSTAMP:20260421T044426
CREATED:20240115T195152Z
LAST-MODIFIED:20240115T195822Z
UID:810-1706659200-1706745599@coloradoseikatsu.com
SUMMARY:Denver Zoo 2/11分無料チケット解放日
DESCRIPTION:デンバー動物園、2月11日の無料で入場できる日のチケットがリリースされる日です。それぞれの無料デーにはチケットリリース日がセットであり、そのリリース日の正午にチケットが入手できるようになります。 \n\n\n\n当日窓口ではチケットは購入できず事前にチケット入手が必要になります。それぞれの時間帯たくさんの無料チケットはありますが、朝一の時間帯などはすぐなくなってしまうことが多いので早めにチケットを入手するのがお勧めです。 \n\n\n\n 
URL:https://coloradoseikatsu.com/event/denver-zoo-2-11%e6%97%a5%e5%88%86%e7%84%a1%e6%96%99%e3%83%81%e3%82%b1%e3%83%83%e3%83%88%e8%a7%a3%e6%94%be%e6%97%a5/
LOCATION:CO
END:VEVENT
BEGIN:VEVENT
DTSTART;TZID=UTC:20240128T090000
DTEND;TZID=UTC:20240128T170000
DTSTAMP:20260421T044426
CREATED:20240114T033457Z
LAST-MODIFIED:20240114T033457Z
UID:758-1706432400-1706461200@coloradoseikatsu.com
SUMMARY:Nature & Science Museum Free Day
DESCRIPTION:恐竜のこと、宇宙のこと、自然のこと、動物のこと、人の体のこと、古代エジプトのこと…自然と科学がギュギュっと詰まったDenver Museum of Nature & Scienceの無料開放日です。 \n友達と行くのももちろん、お子様連れでもたっぷり楽しめる博物館で、二階の奥にはハイハイする赤ちゃんから好奇心旺盛な子供たちまで年齢層も広く楽しめるキッズスペースもあります！
URL:https://coloradoseikatsu.com/event/nature-science-museum-free-day-2/
LOCATION:Denver Museum of Nature and Science\, 2001 Colorado Blvd\, Denver\, CO\, 80205\, United States
CATEGORIES:子供向けイベント,無料イベント
ATTACH;FMTTYPE=image/jpeg:https://coloradoseikatsu.com/wp-content/uploads/2024/01/IMG_8173.jpg
END:VEVENT
BEGIN:VEVENT
DTSTART;VALUE=DATE:20240127
DTEND;VALUE=DATE:20240128
DTSTAMP:20260421T044426
CREATED:20240111T212611Z
LAST-MODIFIED:20240112T051542Z
UID:714-1706313600-1706399999@coloradoseikatsu.com
SUMMARY:デンバー美術館Free Day
DESCRIPTION:デンバーのダウンタウンにある美術館のFree Admission Dayです！シーズンごとの企画展はもちろん、キッズスペースや子供たちがクラフトを楽しめるスペースもあるので、お子さんがいるご家庭であればそちらもおすすめです。
URL:https://coloradoseikatsu.com/event/%e3%83%87%e3%83%b3%e3%83%90%e3%83%bc%e7%be%8e%e8%a1%93%e9%a4%a8free-day-2/
LOCATION:Denver Art Museum\, 100 W 14th Ave Pkwy\, Denver\, CO\, 80204\, United States
CATEGORIES:子供向けイベント,無料イベント
ATTACH;FMTTYPE=image/png:https://coloradoseikatsu.com/wp-content/uploads/2024/01/Screen-Shot-2024-01-11-at-2.21.38-PM.png
END:VEVENT
BEGIN:VEVENT
DTSTART;VALUE=DATE:20240121
DTEND;VALUE=DATE:20240122
DTSTAMP:20260421T044426
CREATED:20240115T165005Z
LAST-MODIFIED:20240115T165005Z
UID:794-1705795200-1705881599@coloradoseikatsu.com
SUMMARY:Denver Zoo Free Day
DESCRIPTION:デンバーの動物園に無料で入場できる日です。 \n\n\n\n\n\n\n\n無料で入場できるそれぞれの日に対してチケットがリリースされる日が設定されています。時間指定のチケットとなるので、もし行きたい方は事前にウェブサイトからチケットを購入しましょう。チケットはたくさんの数用意はされていますが、朝一の10時のスロットは無料チケットが売り切れになるのが早いので、10時に入場したい人は早めに確保しておくことをお勧めします。 \n例えばこの記事を書いている今日、1/15に21日の無料の日のチケットを見るとこんな感じです。2歳以下のお子さんも入場にはチケットが必要で、当日窓口では買えないので事前にチケットを入手していきましょう。 \n\n\n 
URL:https://coloradoseikatsu.com/event/denver-zoo-free-day-2/
LOCATION:Denver Zoo\, 2300 Steele St\, Denver\, CO\, 80205\, United States
CATEGORIES:子供向けイベント,無料イベント
ATTACH;FMTTYPE=image/jpeg:https://coloradoseikatsu.com/wp-content/uploads/2024/01/Screen-Shot-2024-01-15-at-9.39.18-AM.jpg
END:VEVENT
BEGIN:VEVENT
DTSTART;VALUE=DATE:20240110
DTEND;VALUE=DATE:20240111
DTSTAMP:20260421T044426
CREATED:20240115T195104Z
LAST-MODIFIED:20240115T195831Z
UID:806-1704844800-1704931199@coloradoseikatsu.com
SUMMARY:Denver Zoo 1/21分無料チケット解放日
DESCRIPTION:デンバー動物園、1月21日の無料で入場できる日のチケットがリリースされる日です。それぞれの無料デーにはチケットリリース日がセットであり、そのリリース日の正午にチケットが入手できるようになります。 \n\n\n\n当日窓口ではチケットは購入できず事前にチケット入手が必要になります。それぞれの時間帯たくさんの無料チケットはありますが、朝一の時間帯などはすぐなくなってしまうことが多いので早めにチケットを入手するのがお勧めです。 \n\n\n\n 
URL:https://coloradoseikatsu.com/event/denver-zoo-1-21%e6%97%a5%e5%88%86%e7%84%a1%e6%96%99%e3%83%81%e3%82%b1%e3%83%83%e3%83%88%e8%a7%a3%e6%94%be%e6%97%a5/
LOCATION:CO
END:VEVENT
BEGIN:VEVENT
DTSTART;TZID=UTC:20240109T090000
DTEND;TZID=UTC:20240109T170000
DTSTAMP:20260421T044426
CREATED:20240112T052109Z
LAST-MODIFIED:20240112T052147Z
UID:751-1704790800-1704819600@coloradoseikatsu.com
SUMMARY:Nature and Science Museum Free day
DESCRIPTION:動物のこと、宇宙のこと、歴史のこと、人の体のこと、自然から科学までいろんなこと学ことができるDenver Nature and Science Museumが無料で入場できる日です！大人ももちろん子供も楽しむことができますし、二階の奥にあるキッズスペースではハイハイする赤ちゃんから好奇心旺盛な子供たちまで楽しむことができるコーナーもあります！
URL:https://coloradoseikatsu.com/event/nature-and-science-museum-free-day/
LOCATION:Denver Museum of Nature and Science\, 2001 Colorado Blvd\, Denver\, CO\, 80205\, United States
CATEGORIES:子供向けイベント,無料イベント
END:VEVENT
BEGIN:VEVENT
DTSTART;VALUE=DATE:20240109
DTEND;VALUE=DATE:20240110
DTSTAMP:20260421T044426
CREATED:20240111T212230Z
LAST-MODIFIED:20240112T051538Z
UID:710-1704758400-1704844799@coloradoseikatsu.com
SUMMARY:デンバー美術館Free Day
DESCRIPTION:デンバーのダウンタウンにある美術館のFree Admission Dayです！シーズンごとの企画展はもちろん、キッズスペースや子供たちがクラフトを楽しめるスペースもあるので、お子さんがいるご家庭であればそちらもおすすめです。
URL:https://coloradoseikatsu.com/event/%e3%83%87%e3%83%b3%e3%83%90%e3%83%bc%e7%be%8e%e8%a1%93%e9%a4%a8free-day/
LOCATION:Denver Art Museum\, 100 W 14th Ave Pkwy\, Denver\, CO\, 80204\, United States
CATEGORIES:子供向けイベント,無料イベント
ATTACH;FMTTYPE=image/png:https://coloradoseikatsu.com/wp-content/uploads/2024/01/Screen-Shot-2024-01-11-at-2.21.38-PM.png
END:VEVENT
BEGIN:VEVENT
DTSTART;TZID=UTC:20240108T090000
DTEND;TZID=UTC:20240108T170000
DTSTAMP:20260421T044426
CREATED:20240114T033018Z
LAST-MODIFIED:20240114T033417Z
UID:755-1704704400-1704733200@coloradoseikatsu.com
SUMMARY:Nature & Science Museum Free Day
DESCRIPTION:恐竜のこと、宇宙のこと、自然のこと、動物のこと、人の体のこと、古代エジプトのこと…自然と科学がギュギュっと詰まったDenver Museum of Nature & Scienceの無料開放日です。 \n友達と行くのももちろん、お子様連れでもたっぷり楽しめる博物館で、二階の奥にはハイハイする赤ちゃんから好奇心旺盛な子供たちまで年齢層も広く楽しめるキッズスペースもあります！
URL:https://coloradoseikatsu.com/event/nature-science-museum-free-day/
LOCATION:Denver Museum of Nature and Science\, 2001 Colorado Blvd\, Denver\, CO\, 80205\, United States
CATEGORIES:子供向けイベント,無料イベント
ATTACH;FMTTYPE=image/jpeg:https://coloradoseikatsu.com/wp-content/uploads/2024/01/IMG_8173.jpg
END:VEVENT
BEGIN:VEVENT
DTSTART;VALUE=DATE:20240105
DTEND;VALUE=DATE:20240106
DTSTAMP:20260421T044426
CREATED:20240115T164924Z
LAST-MODIFIED:20240115T164924Z
UID:789-1704412800-1704499199@coloradoseikatsu.com
SUMMARY:Denver Zoo Free Day
DESCRIPTION:デンバーの動物園に無料で入場できる日です。 \n\n\n\n\n\n\n\n無料で入場できるそれぞれの日に対してチケットがリリースされる日が設定されています。時間指定のチケットとなるので、もし行きたい方は事前にウェブサイトからチケットを購入しましょう。チケットはたくさんの数用意はされていますが、朝一の10時のスロットは無料チケットが売り切れになるのが早いので、10時に入場したい人は早めに確保しておくことをお勧めします。 \n例えばこの記事を書いている今日、1/15に21日の無料の日のチケットを見るとこんな感じです。2歳以下のお子さんも入場にはチケットが必要で、当日窓口では買えないので事前にチケットを入手していきましょう。 \n\n\n 
URL:https://coloradoseikatsu.com/event/denver-zoo-free-day/
LOCATION:Denver Zoo\, 2300 Steele St\, Denver\, CO\, 80205\, United States
CATEGORIES:子供向けイベント,無料イベント
ATTACH;FMTTYPE=image/jpeg:https://coloradoseikatsu.com/wp-content/uploads/2024/01/Screen-Shot-2024-01-15-at-9.39.18-AM.jpg
END:VEVENT
BEGIN:VEVENT
DTSTART;VALUE=DATE:20231117
DTEND;VALUE=DATE:20231224
DTSTAMP:20260421T044426
CREATED:20231222T041119Z
LAST-MODIFIED:20231222T041905Z
UID:685-1700179200-1703375999@coloradoseikatsu.com
SUMMARY:Denver Christkindl Market
DESCRIPTION:ベンダーも多いので見て回るのももちろん、イルミネーションの点灯式やパレードなどのイベントもたくさんあります！ホットワインやアップルサイダーをその年限定のマグカップでぜひゲットするのも楽しみ方の一つです！
URL:https://coloradoseikatsu.com/event/denver-christkindl-market/
LOCATION:Civic Center Park\, 101 14th Ave\, Denver\, CO\, 80204\, United States
ATTACH;FMTTYPE=image/jpeg:https://coloradoseikatsu.com/wp-content/uploads/2023/11/IMG_449A23D6702D-1.jpeg
END:VEVENT
END:VCALENDAR