BEGIN:VCALENDAR
VERSION:2.0
PRODID:-//コロラド生活 - ECPv6.15.20//NONSGML v1.0//EN
CALSCALE:GREGORIAN
METHOD:PUBLISH
X-WR-CALNAME:コロラド生活
X-ORIGINAL-URL:https://coloradoseikatsu.com
X-WR-CALDESC:Events for コロラド生活
REFRESH-INTERVAL;VALUE=DURATION:PT1H
X-Robots-Tag:noindex
X-PUBLISHED-TTL:PT1H
BEGIN:VTIMEZONE
TZID:UTC
BEGIN:STANDARD
TZOFFSETFROM:+0000
TZOFFSETTO:+0000
TZNAME:UTC
DTSTART:20240101T000000
END:STANDARD
END:VTIMEZONE
BEGIN:VEVENT
DTSTART;TZID=UTC:20251209T100000
DTEND;TZID=UTC:20251209T200000
DTSTAMP:20260420T063706
CREATED:20251018T142525Z
LAST-MODIFIED:20251018T142525Z
UID:2669-1765274400-1765310400@coloradoseikatsu.com
SUMMARY:デンバー美術館Free Day
DESCRIPTION:デンバーのダウンタウンにある美術館のFree Admission Dayです！シーズンごとの企画展はもちろん、キッズスペースや子供たちがクラフトを楽しめるスペースもあるので、お子さんがいるご家庭であればそちらもおすすめです。
URL:https://coloradoseikatsu.com/event/%e3%83%87%e3%83%b3%e3%83%90%e3%83%bc%e7%be%8e%e8%a1%93%e9%a4%a8free-day-27/
LOCATION:Denver Art Museum\, 100 W 14th Ave Pkwy\, Denver\, CO\, 80204\, United States
CATEGORIES:子供向けイベント,無料イベント
ATTACH;FMTTYPE=image/png:https://coloradoseikatsu.com/wp-content/uploads/2024/01/Screen-Shot-2024-01-11-at-2.21.38-PM.png
END:VEVENT
BEGIN:VEVENT
DTSTART;TZID=UTC:20251208T090000
DTEND;TZID=UTC:20251208T170000
DTSTAMP:20260420T063706
CREATED:20251018T141924Z
LAST-MODIFIED:20251018T141924Z
UID:2665-1765184400-1765213200@coloradoseikatsu.com
SUMMARY:Nature & Science Museum Free Day
DESCRIPTION:恐竜のこと、宇宙のこと、自然のこと、動物のこと、人の体のこと、古代エジプトのこと…自然と科学がギュギュっと詰まったDenver Museum of Nature & Scienceの無料開放日です。 \n友達と行くのももちろん、お子様連れでもたっぷり楽しめる博物館で、二階の奥にはハイハイする赤ちゃんから好奇心旺盛な子供たちまで年齢層も広く楽しめるキッズスペースもあります！
URL:https://coloradoseikatsu.com/event/nature-science-museum-free-day-17/
LOCATION:Denver Museum of Nature and Science\, 2001 Colorado Blvd\, Denver\, CO\, 80205\, United States
CATEGORIES:子供向けイベント,無料イベント
ATTACH;FMTTYPE=image/jpeg:https://coloradoseikatsu.com/wp-content/uploads/2024/01/IMG_8173.jpg
END:VEVENT
BEGIN:VEVENT
DTSTART;TZID=UTC:20251205T173000
DTEND;TZID=UTC:20251205T213000
DTSTAMP:20260420T063706
CREATED:20250119T214746Z
LAST-MODIFIED:20250119T214746Z
UID:1876-1764955800-1764970200@coloradoseikatsu.com
SUMMARY:First Friday Art Walks @Denver
DESCRIPTION:毎月第一金曜日にデンバーのアート界隈でも人気なSanta Feというエリアで開催されるイベントです。このイベントでは普段入りにくいと感じる人もいるアートギャラリーに気軽に入り、アートを鑑賞したり、ワインやビールを飲みながらいろんなローカルのアーティストの作品を見ることができるイベントです。 \nFood truckやストリートパフォーマンスがある時もあるので、友達や家族とぜひ出かけてみてください！
URL:https://coloradoseikatsu.com/event/first-friday-art-walks-denver-13/
LOCATION:Art District on Santa Fe.\, 858 Santa Fe Dr\, Denver\, CO\, 80204\, United States
ATTACH;FMTTYPE=image/jpeg:https://coloradoseikatsu.com/wp-content/uploads/2025/01/Screenshot-2025-01-19-at-2.38.56 PM.jpg
END:VEVENT
BEGIN:VEVENT
DTSTART;TZID=UTC:20251128T080000
DTEND;TZID=UTC:20251128T160000
DTSTAMP:20260420T063706
CREATED:20251018T141123Z
LAST-MODIFIED:20251018T141223Z
UID:2658-1764316800-1764345600@coloradoseikatsu.com
SUMMARY:Denver Botanic Gardens Free Days @York Street and Chatfield Farms
DESCRIPTION:デンバー市内に佇む植物の楽園、ボタニックガーデン（York Streetロケーション）とデンバー南の郊外Littletonにある農場（Chatfield Farmsロケーション）に無料で入場できる日です。 \n無料で入場できる日も、時間指定の人数制限のチケットとなるので、もし行きたい方は事前にウェブサイトからチケットを購入しましょう。チケットはたくさんの数用意はされていますが、売り切れになるケースが多いので、早めに確保しておくことをお勧めします。チケットは3ヶ月単位で販売され、毎月1日に新しいチケットが発売されます。 \n\n\n\n\n\n\n\n画像は、無料の日のチケット残数イメージです。３歳以上のお子さんも入場にはチケットが必要で、チケット完売日は当日窓口では買えないので事前にチケットを入手していきましょう。 \n\n\nボタニックガーデンは、冬はイルミネーションで輝き、春夏は色とりどりの花々を楽しむことができます。園内には日本庭園もあるのですが、こちらのレベルがとても高く、まるで日本にいるような感覚にもなる場所です。 \nボタニックガーデンはダウンタウンにあるYork Street、Chatfieldにある農場、そして自然の中でのコロラドの生活の歴史を垣間見ることができるAuroraのロケーションがそれぞれあります。 \n【営業時間】\nYork Street：9:00am to 4:00pm (Winter: 9/28 – 11/19)\nChatfield Farms：9:00am to 4:00pm
URL:https://coloradoseikatsu.com/event/denver-botanic-gardens-free-days-york-street-and-chatfield-farms-9/
LOCATION:Denver Botanic Gardens\, 1007 York Street\, Denver\, CO\, 80206\, United States
CATEGORIES:子供向けイベント,無料イベント
ATTACH;FMTTYPE=image/jpeg:https://coloradoseikatsu.com/wp-content/uploads/2025/01/Denver-Botanic-Gardens-1.jpg
END:VEVENT
BEGIN:VEVENT
DTSTART;TZID=UTC:20251123T100000
DTEND;TZID=UTC:20251123T160000
DTSTAMP:20260420T063706
CREATED:20251018T143304Z
LAST-MODIFIED:20251018T143414Z
UID:2675-1763892000-1763913600@coloradoseikatsu.com
SUMMARY:Denver Zoo Free Day（チケット解放日：11/12）
DESCRIPTION:デンバーの動物園に無料で入場できる日です。 \n\n\n\n\n\n\n\n無料で入場できるそれぞれの日に対してチケットがリリースされる日が設定されています。時間指定のチケットとなるので、もし行きたい方は事前にウェブサイトからチケットを購入しましょう。チケットはたくさんの数用意はされていますが、朝一の10時のスロットは無料チケットが売り切れになるのが早いので、10時に入場したい人は早めに確保しておくことをお勧めします。 \n画像は、過去の無料の日のチケット残数イメージです。2歳以下のお子さんも入場にはチケットが必要で、当日窓口では買えないので事前にチケットを入手していきましょう。2歳以下のお子さんも入場にはチケットが必要で、当日窓口では買えないので事前にチケットを入手していきましょう。
URL:https://coloradoseikatsu.com/event/denver-zoo-free-day-13/
LOCATION:Denver Zoo\, 2300 Steele St\, Denver\, CO\, 80205\, United States
CATEGORIES:子供向けイベント,無料イベント
ATTACH;FMTTYPE=image/jpeg:https://coloradoseikatsu.com/wp-content/uploads/2024/01/Screen-Shot-2024-01-15-at-9.39.18-AM.jpg
END:VEVENT
BEGIN:VEVENT
DTSTART;TZID=UTC:20251115T130000
DTEND;TZID=UTC:20251115T170000
DTSTAMP:20260420T063706
CREATED:20251017T212900Z
LAST-MODIFIED:20251017T212900Z
UID:2653-1763211600-1763226000@coloradoseikatsu.com
SUMMARY:ブルワリー主催盆栽イベント
DESCRIPTION:ビールを楽しみながら盆栽に触れたり盆栽の体験ができるイベントが開催されます！ \nこちらのイベントでは盆栽に触ったことがない人でも教えてもらいながら小さな木を剪定する体験ができるようです。コロラド時ビールを楽しみながら、日本の文化にたちかえる日を過ごしてみてはどうでしょう？ \nチケットはイベント公式サイトから購入できます。
URL:https://coloradoseikatsu.com/event/%e3%83%96%e3%83%ab%e3%83%af%e3%83%aa%e3%83%bc%e4%b8%bb%e5%82%ac%e7%9b%86%e6%a0%bd%e3%82%a4%e3%83%99%e3%83%b3%e3%83%88/
LOCATION:Crooked Stave Brewing Company\, 1441 W 46th Ave Unit 19\, Denver\, CO\, 80211
ATTACH;FMTTYPE=image/webp:https://coloradoseikatsu.com/wp-content/uploads/2025/10/Crooked_Stave_Brewing_Co_Thumbnail_1080x.jpg.webp
END:VEVENT
BEGIN:VEVENT
DTSTART;TZID=UTC:20251115T100000
DTEND;TZID=UTC:20251115T160000
DTSTAMP:20260420T063706
CREATED:20251018T143118Z
LAST-MODIFIED:20251018T143449Z
UID:2673-1763200800-1763222400@coloradoseikatsu.com
SUMMARY:Denver Zoo Free Day（チケット解放日：11/4）
DESCRIPTION:デンバーの動物園に無料で入場できる日です。 \n\n\n\n\n\n\n\n無料で入場できるそれぞれの日に対してチケットがリリースされる日が設定されています。時間指定のチケットとなるので、もし行きたい方は事前にウェブサイトからチケットを購入しましょう。チケットはたくさんの数用意はされていますが、朝一の10時のスロットは無料チケットが売り切れになるのが早いので、10時に入場したい人は早めに確保しておくことをお勧めします。 \n画像は、過去の無料の日のチケット残数イメージです。2歳以下のお子さんも入場にはチケットが必要で、当日窓口では買えないので事前にチケットを入手していきましょう。2歳以下のお子さんも入場にはチケットが必要で、当日窓口では買えないので事前にチケットを入手していきましょう。
URL:https://coloradoseikatsu.com/event/denver-zoo-free-day-12/
LOCATION:Denver Zoo\, 2300 Steele St\, Denver\, CO\, 80205\, United States
CATEGORIES:子供向けイベント,無料イベント
ATTACH;FMTTYPE=image/jpeg:https://coloradoseikatsu.com/wp-content/uploads/2024/01/Screen-Shot-2024-01-15-at-9.39.18-AM.jpg
END:VEVENT
BEGIN:VEVENT
DTSTART;TZID=UTC:20251108T100000
DTEND;TZID=UTC:20251108T220000
DTSTAMP:20260420T063706
CREATED:20251018T142412Z
LAST-MODIFIED:20251018T142412Z
UID:2667-1762596000-1762639200@coloradoseikatsu.com
SUMMARY:デンバー美術館Free Day
DESCRIPTION:デンバーのダウンタウンにある美術館のFree Admission Dayです！シーズンごとの企画展はもちろん、キッズスペースや子供たちがクラフトを楽しめるスペースもあるので、お子さんがいるご家庭であればそちらもおすすめです。
URL:https://coloradoseikatsu.com/event/%e3%83%87%e3%83%b3%e3%83%90%e3%83%bc%e7%be%8e%e8%a1%93%e9%a4%a8free-day-26/
LOCATION:Denver Art Museum\, 100 W 14th Ave Pkwy\, Denver\, CO\, 80204\, United States
CATEGORIES:子供向けイベント,無料イベント
ATTACH;FMTTYPE=image/png:https://coloradoseikatsu.com/wp-content/uploads/2024/01/Screen-Shot-2024-01-11-at-2.21.38-PM.png
END:VEVENT
BEGIN:VEVENT
DTSTART;TZID=UTC:20251108T050000
DTEND;TZID=UTC:20251108T220000
DTSTAMP:20260420T063706
CREATED:20251018T141401Z
LAST-MODIFIED:20251018T141814Z
UID:2660-1762578000-1762639200@coloradoseikatsu.com
SUMMARY:Nature & Science Museum Free Night (*Free Night at the Museums for Denver Arts Week) 5 p.m. - 10 p.m.
DESCRIPTION:恐竜のこと、宇宙のこと、自然のこと、動物のこと、人の体のこと、古代エジプトのこと…自然と科学がギュギュっと詰まったDenver Museum of Nature & Scienceの「Free Night（夕刻無料開放日）」5p.m.〜10p.m.です。 \n友達と行くのももちろん、お子様連れでもたっぷり楽しめる博物館で、二階の奥にはハイハイする赤ちゃんから好奇心旺盛な子供たちまで年齢層も広く楽しめるキッズスペースもあります！
URL:https://coloradoseikatsu.com/event/nature-science-museum-free-day-night-at-the-museums-for-denver-arts-week/
LOCATION:Denver Museum of Nature and Science\, 2001 Colorado Blvd\, Denver\, CO\, 80205\, United States
CATEGORIES:子供向けイベント,無料イベント
ATTACH;FMTTYPE=image/jpeg:https://coloradoseikatsu.com/wp-content/uploads/2024/01/IMG_8173.jpg
END:VEVENT
BEGIN:VEVENT
DTSTART;TZID=UTC:20251107T173000
DTEND;TZID=UTC:20251107T213000
DTSTAMP:20260420T063706
CREATED:20250119T214753Z
LAST-MODIFIED:20250119T214753Z
UID:1875-1762536600-1762551000@coloradoseikatsu.com
SUMMARY:First Friday Art Walks @Denver
DESCRIPTION:毎月第一金曜日にデンバーのアート界隈でも人気なSanta Feというエリアで開催されるイベントです。このイベントでは普段入りにくいと感じる人もいるアートギャラリーに気軽に入り、アートを鑑賞したり、ワインやビールを飲みながらいろんなローカルのアーティストの作品を見ることができるイベントです。 \nFood truckやストリートパフォーマンスがある時もあるので、友達や家族とぜひ出かけてみてください！
URL:https://coloradoseikatsu.com/event/first-friday-art-walks-denver-14/
LOCATION:Art District on Santa Fe.\, 858 Santa Fe Dr\, Denver\, CO\, 80204\, United States
ATTACH;FMTTYPE=image/jpeg:https://coloradoseikatsu.com/wp-content/uploads/2025/01/Screenshot-2025-01-19-at-2.38.56 PM.jpg
END:VEVENT
BEGIN:VEVENT
DTSTART;TZID=UTC:20251107T170000
DTEND;TZID=UTC:20251107T213000
DTSTAMP:20260420T063706
CREATED:20251029T043759Z
LAST-MODIFIED:20251029T043759Z
UID:2685-1762534800-1762551000@coloradoseikatsu.com
SUMMARY:FIRST FRIDAY: DIA DE MUERTOS
DESCRIPTION:カルチュラル・ファースト・フライデーにぜひお越しください!午後5時から9時30分まで入場無料です。Museo de las Americasで死者の日(ディア・デ・ムエルトス)をお祝いする、文化と芸術の素敵な夜をお楽しみください。家族みんなで楽しめる催しをご用意しています: \n**パレード(行列):**午後6時スタート。地域の文化団体と協力して行う特別なパレードです。Su Teatroから出発してMuseo de las Americasまで歩きます。Grupo Huitzilopochtliという団体が先頭に立ち、Santa Fe通り沿いの大切な場所で祝福を行います。どなたでも参加できます。道路が一部閉鎖されるので、車で来る方は駐車場所を事前に確認してください。 \n**カトリーナ・コンテスト:**午後8時、ギャラリーで死者の日の象徴的な衣装「カトリーナ」のコンテストを開催します。 \n**民族舞踊:**午後7時、Sangre de Mexicoによる美しいメキシコの伝統舞踊フォルクローリコの披露があります。 \n**シュガースカル(砂糖の骸骨)の飾り付け:**死者の日の伝統的なお菓子、シュガースカルを自分で飾れます!1つ5ドルで、会員の方は2つ目が無料です。午後5時から教室で行います(材料がなくなり次第終了)。 \n**フードトラック:**裏の駐車場においしい料理を販売するフードトラックが来ます。 \n死者の日の魅力を存分に味わってください!カレンダーにメモして、芸術、伝統、地域の交流がいっぱいの夜をMuseoでお過ごしください。皆様のお越しをお待ちしています!
URL:https://coloradoseikatsu.com/event/first-friday-dia-de-muertos/
LOCATION:MUSEO DE LAS AMERICAS\, 861 Santa Fe Drive\, Denver\, CO\, 80204
ATTACH;FMTTYPE=image/jpeg:https://coloradoseikatsu.com/wp-content/uploads/2025/10/0522625f-637f-4ae3-9950-7dc1f24860f8.jpg
END:VEVENT
BEGIN:VEVENT
DTSTART;TZID=UTC:20251107T100000
DTEND;TZID=UTC:20251107T160000
DTSTAMP:20260420T063706
CREATED:20251018T142829Z
LAST-MODIFIED:20251018T143522Z
UID:2671-1762509600-1762531200@coloradoseikatsu.com
SUMMARY:Denver Zoo Free Day（チケット解放日：10/27）
DESCRIPTION:デンバーの動物園に無料で入場できる日です。 \n\n\n\n\n\n\n\n無料で入場できるそれぞれの日に対してチケットがリリースされる日が設定されています。時間指定のチケットとなるので、もし行きたい方は事前にウェブサイトからチケットを購入しましょう。チケットはたくさんの数用意はされていますが、朝一の10時のスロットは無料チケットが売り切れになるのが早いので、10時に入場したい人は早めに確保しておくことをお勧めします。 \n画像は、過去の無料の日のチケット残数イメージです。2歳以下のお子さんも入場にはチケットが必要で、当日窓口では買えないので事前にチケットを入手していきましょう。2歳以下のお子さんも入場にはチケットが必要で、当日窓口では買えないので事前にチケットを入手していきましょう。
URL:https://coloradoseikatsu.com/event/denver-zoo-free-day-11/
LOCATION:Denver Zoo\, 2300 Steele St\, Denver\, CO\, 80205\, United States
CATEGORIES:子供向けイベント,無料イベント
ATTACH;FMTTYPE=image/jpeg:https://coloradoseikatsu.com/wp-content/uploads/2024/01/Screen-Shot-2024-01-15-at-9.39.18-AM.jpg
END:VEVENT
BEGIN:VEVENT
DTSTART;TZID=UTC:20251102T100000
DTEND;TZID=UTC:20251102T150000
DTSTAMP:20260420T063706
CREATED:20251017T212425Z
LAST-MODIFIED:20251017T212425Z
UID:2649-1762077600-1762095600@coloradoseikatsu.com
SUMMARY:Dry Creek Fall Festival
DESCRIPTION:Centennialにある整体院がホストする秋のイベントです。イベントでは整体やマッサージの体験などはもちろん、似顔絵、フェイスペイント、フードトラックなど家族みんなが楽しめるようなイベントになっているようです。
URL:https://coloradoseikatsu.com/event/dry-creek-fall-festival/
LOCATION:Next Level Chiropractic\, 7200 E drycreek rd G-102\, Centennial\, CO
ATTACH;FMTTYPE=image/jpeg:https://coloradoseikatsu.com/wp-content/uploads/2025/10/547403123_10172520929945010_4850033089324822052_n.jpg
END:VEVENT
BEGIN:VEVENT
DTSTART;TZID=UTC:20251030T163000
DTEND;TZID=UTC:20251030T170000
DTSTAMP:20260420T063706
CREATED:20250925T210017Z
LAST-MODIFIED:20250925T210017Z
UID:2562-1761841800-1761843600@coloradoseikatsu.com
SUMMARY:BOOnion Station Trick-or-Treat Parade
DESCRIPTION:ダウンタウンデンバーの中心、ユニオンステーションでハロウィンイベントが開催されます！ \nイベントではハロウィンのパレードはもちろん、小さな電車に乗れたりバルーンアートがあったり、仮装をしててもしてなくても楽しめるイベントとなっているようです。
URL:https://coloradoseikatsu.com/event/boonion-station-trick-or-treat-parade/
LOCATION:Union Station\, 1701 Wynkoop St\, Denver
ATTACH;FMTTYPE=image/jpeg:https://coloradoseikatsu.com/wp-content/uploads/2025/09/Screenshot-2025-09-25-at-2.58.19-PM.jpg
END:VEVENT
BEGIN:VEVENT
DTSTART;VALUE=DATE:20251025
DTEND;VALUE=DATE:20251026
DTSTAMP:20260420T063706
CREATED:20250925T210339Z
LAST-MODIFIED:20250925T210339Z
UID:2565-1761350400-1761436799@coloradoseikatsu.com
SUMMARY:Día de los Muertos ＠ Civic Center
DESCRIPTION:メキシコの死者の祭り、Día de los Muertosがシビックセンターで開催されます！ピクサーの映画、Cocoでも馴染みのあるこちらのイベントでは、顔にカラフルな装飾のされたガイコツのペイントを施したり、メキシコの音楽や食、文化を楽しめるイベントとなっています。 \n 
URL:https://coloradoseikatsu.com/event/dia-de-los-muertos-%ef%bc%a0-civic-center/
LOCATION:Civic Center Park\, 101 14th Ave\, Denver\, CO\, 80204\, United States
ATTACH;FMTTYPE=image/jpeg:https://coloradoseikatsu.com/wp-content/uploads/2025/09/CivicMuertos132-1536x1025-1.jpg
END:VEVENT
BEGIN:VEVENT
DTSTART;TZID=UTC:20251019T120000
DTEND;TZID=UTC:20251019T160000
DTSTAMP:20260420T063706
CREATED:20250925T210748Z
LAST-MODIFIED:20250925T210748Z
UID:2568-1760875200-1760889600@coloradoseikatsu.com
SUMMARY:Painted Planes & Pumpkins
DESCRIPTION:センテニアルにある空港で、カラフルに特殊ペイントされた飛行機を鑑賞することができるイベントが開催されます。当日は International Plastic Modeler Societyによる飛行機のモデルの説明や、空を飛ぶお話の読み聞かせもあるよう。 \nこちらの空港は一般客でも利用できるレストランもあるので、飛行機を間近で楽しみながら食事を楽しむこともできます！
URL:https://coloradoseikatsu.com/event/painted-planes-pumpkins/
LOCATION:Exploration of Flight\, 13005 Wings Way\, Centennial\, CO\, 80112
ATTACH;FMTTYPE=image/jpeg:https://coloradoseikatsu.com/wp-content/uploads/2025/09/Fall-Festival2_Resized-2290x1380-1.jpg
END:VEVENT
BEGIN:VEVENT
DTSTART;TZID=UTC:20251018T100000
DTEND;TZID=UTC:20251018T180000
DTSTAMP:20260420T063706
CREATED:20250925T211211Z
LAST-MODIFIED:20250925T211211Z
UID:2573-1760781600-1760810400@coloradoseikatsu.com
SUMMARY:TENNYSON FALL FEST
DESCRIPTION:デンバーダウンタウンから少し西にある、美味しいレストランやカフェ、ビンテージショップが立ち並ぶtennyson streetにて秋のイベントが行われます。 \nこちらのイベントではストリートにあるレストランの美味しいご飯を楽しめるだけではなくローカルのベンダーがクラフトを売っていたり、ライブコンサートも行われるとか。このストリート近くのsloan’s lakeも家族でのんびり過ごせる場所なので、家族でのんびり過ごした後にイベントを楽しむ、という1日コースを楽しむこともできます！
URL:https://coloradoseikatsu.com/event/tennyson-fall-fest/
LOCATION:Tennyson street
ATTACH;FMTTYPE=image/jpeg:https://coloradoseikatsu.com/wp-content/uploads/2025/09/Screenshot-2025-09-25-at-3.07.38-PM.jpg
END:VEVENT
BEGIN:VEVENT
DTSTART;TZID=UTC:20251004T130000
DTEND;TZID=UTC:20251004T160000
DTSTAMP:20260420T063706
CREATED:20250927T060039Z
LAST-MODIFIED:20250927T060039Z
UID:2586-1759582800-1759593600@coloradoseikatsu.com
SUMMARY:Belgian Brew Fest 2025＠Denver
DESCRIPTION:デンバーにあるブルワリーで、ベルギービールのイベントが開催されます。当日はベルギーから輸入されたベルギービールを楽しめるだけではなくライブも開催されるとか。 \nベルギーの本格ビールを楽しみながら、秋の空気を楽しんではいかがでしょう？
URL:https://coloradoseikatsu.com/event/belgian-brew-fest-2025%ef%bc%a0denver/
LOCATION:Bruz Beers\, 1675 West 67th Avenue ##100\, Denver\, CO\, 80221
ATTACH;FMTTYPE=image/avif:https://coloradoseikatsu.com/wp-content/uploads/2025/09/2025Oct-BelgianBrewFest_Graphic_678CB06B-BBC2-EC69-9FD06D261D1FBAF1_678ee051-bf74-c4a6-b480038c0bc0dec6.jpg.avif
END:VEVENT
BEGIN:VEVENT
DTSTART;TZID=UTC:20251004T100000
DTEND;TZID=UTC:20251005T180000
DTSTAMP:20260420T063706
CREATED:20250927T054514Z
LAST-MODIFIED:20250927T054514Z
UID:2576-1759572000-1759687200@coloradoseikatsu.com
SUMMARY:Cider Days@Lakewood
DESCRIPTION:LakewoodにあるBelmar Parkで毎年人気の秋のお祭り、Cider Dayが今年も開催されます。 \nイベントではアップルサイダーやパンプキン系のスイーツなど秋の味覚を楽しむのはもちろん、野外の音楽やベンダーの出店を見て楽しむこともできます。
URL:https://coloradoseikatsu.com/event/cider-dayslakewood-2/
LOCATION:Belmar Park\, 801 S Yarrow St\, Lakewood\, CO\, 80226
ATTACH;FMTTYPE=image/png:https://coloradoseikatsu.com/wp-content/uploads/2025/09/cider-days-2025.png
END:VEVENT
BEGIN:VEVENT
DTSTART;TZID=UTC:20251003T173000
DTEND;TZID=UTC:20251003T213000
DTSTAMP:20260420T063706
CREATED:20250119T214802Z
LAST-MODIFIED:20250119T214802Z
UID:1874-1759512600-1759527000@coloradoseikatsu.com
SUMMARY:First Friday Art Walks @Denver
DESCRIPTION:毎月第一金曜日にデンバーのアート界隈でも人気なSanta Feというエリアで開催されるイベントです。このイベントでは普段入りにくいと感じる人もいるアートギャラリーに気軽に入り、アートを鑑賞したり、ワインやビールを飲みながらいろんなローカルのアーティストの作品を見ることができるイベントです。 \nFood truckやストリートパフォーマンスがある時もあるので、友達や家族とぜひ出かけてみてください！
URL:https://coloradoseikatsu.com/event/first-friday-art-walks-denver-15/
LOCATION:Art District on Santa Fe.\, 858 Santa Fe Dr\, Denver\, CO\, 80204\, United States
ATTACH;FMTTYPE=image/jpeg:https://coloradoseikatsu.com/wp-content/uploads/2025/01/Screenshot-2025-01-19-at-2.38.56 PM.jpg
END:VEVENT
BEGIN:VEVENT
DTSTART;TZID=UTC:20250927T080000
DTEND;TZID=UTC:20250927T170000
DTSTAMP:20260420T063706
CREATED:20250927T055729Z
LAST-MODIFIED:20250927T055729Z
UID:2583-1758960000-1758992400@coloradoseikatsu.com
SUMMARY:First Friday Jazz in the Park @ Denver
DESCRIPTION:Denver downtownにある野球スタジアム、Coors Fieldからも徒歩で行けるCurtis ParkエリアでJazzイベントが開催されます。ストリートでJazzを楽しんだりフードベンダーで美味しいご飯を食べつつ街を散策してみてはいかがでしょう？ \nちなみにこのイベントの開催されるすぐ近くにあるRiNoエリアには美味しいレストランやバーがたくさんあるので、そちらに足を伸ばすのもおすすめです！
URL:https://coloradoseikatsu.com/event/first-friday-jazz-in-the-park-denver/
LOCATION:Sonny Lawson Park\, 2401 Welton St\, Denver\, CO\, 80205
ATTACH;FMTTYPE=image/avif:https://coloradoseikatsu.com/wp-content/uploads/2025/09/10_290FF29C-BF25-C9F4-8A1ACF157CB4D16D_2911479b-c2c8-d507-919efbb5793af8a3.jpg.avif
END:VEVENT
BEGIN:VEVENT
DTSTART;TZID=UTC:20250921T170000
DTEND;TZID=UTC:20250921T210000
DTSTAMP:20260420T063706
CREATED:20250830T053423Z
LAST-MODIFIED:20250830T053423Z
UID:2538-1758474000-1758488400@coloradoseikatsu.com
SUMMARY:Pasar south east Asia @Levitt Pavilion
DESCRIPTION:東南アジアの豊かな文化を表現するパフォーマンスグループのパフォーマンスをみに行きませんか？当日は東南アジアのエリアのダンスなどのパフォーマンスを楽しむだけではなく、東南アジア雑貨などを扱うベンダーも出店するようです！
URL:https://coloradoseikatsu.com/event/pasar-south-east-asia-levitt-pavilion/
LOCATION:Levitt Pavillion\, 1380 W Florida Ave\, Denver\, CO\, 80223
ATTACH;FMTTYPE=image/jpeg:https://coloradoseikatsu.com/wp-content/uploads/2025/08/536284429_24843196028599873_1387705424824398835_n.jpg
END:VEVENT
BEGIN:VEVENT
DTSTART;TZID=UTC:20250920T130000
DTEND;TZID=UTC:20250920T210000
DTSTAMP:20260420T063706
CREATED:20250830T051105Z
LAST-MODIFIED:20250830T051105Z
UID:2532-1758373200-1758402000@coloradoseikatsu.com
SUMMARY:Octoberfest @Castle rock
DESCRIPTION:キャッスルロックのダウンタウンででオクトーバーフェスが開催されます！ \nイベントではドイツの音楽や食事、もちろんビールも楽しめるだけではなく子供用のバウンスハウスやアクティビティもたくさん用意されているようです。
URL:https://coloradoseikatsu.com/event/octoberfest-castle-rock/
LOCATION:Festival Park\, 300 2nd St\, Castle Rock\, CO\, 80104
ATTACH;FMTTYPE=image/jpeg:https://coloradoseikatsu.com/wp-content/uploads/2025/08/494756411_750099977341889_3508661552076336875_n.jpg
END:VEVENT
BEGIN:VEVENT
DTSTART;VALUE=DATE:20250919
DTEND;VALUE=DATE:20251103
DTSTAMP:20260420T063706
CREATED:20250927T055133Z
LAST-MODIFIED:20250927T055133Z
UID:2579-1758240000-1762127999@coloradoseikatsu.com
SUMMARY:Magic of Jack-O-Lantern @Hudson's Garden
DESCRIPTION:Littletonにある、写真撮影でも人気のHudson Gardenでは、今年もハロウィンのデコレーションと光の祭り、Magic of Jack-O-Lanternが開催されます。 \n数々のライトアップされたハロウィンのデコレーションを見て楽しむだけではなく、会場ではターキーレッグやスモア、ホットチョコレートなどお祭りならではのものも購入することができます。 \nまたこちらの会場、イベント時間以外の日中に行くとライトアップはされていませんがたくさんのパンプキンを見て回ることが無料でできるので、小さいお子さんを連れて日中観に行くのもおすすめです！
URL:https://coloradoseikatsu.com/event/magic-of-jack-o-lantern-hudsons-garden/
LOCATION:The Hudson’s Garden\, 6115 S Santa Fe Dr\, Littleton\, CO\, 80120
ATTACH;FMTTYPE=image/jpeg:https://coloradoseikatsu.com/wp-content/uploads/2025/09/Screenshot-2025-09-26-at-11.47.22-PM.jpg
END:VEVENT
BEGIN:VEVENT
DTSTART;VALUE=DATE:20250914
DTEND;VALUE=DATE:20250915
DTSTAMP:20260420T063706
CREATED:20250830T054610Z
LAST-MODIFIED:20250830T054649Z
UID:2540-1757808000-1757894399@coloradoseikatsu.com
SUMMARY:Taste of Ethiopia
DESCRIPTION:エチオピアの文化、音楽、食、ダンスなどを楽しめるイベントが、デンバー市民の憩いの場、シティパークで開催されます。シティパークはとても広く、静かに池の周りを散歩したり、イベントを楽しんだり、友達家族、大人から子供まで楽しめる場所になっています。ぜひ公園を楽しみながらイベントも覗いてみてくださいね！
URL:https://coloradoseikatsu.com/event/taste-of-ethiopia/
LOCATION:city park\, 2001 Steele Street\, Denver\, CO\, 80205
ATTACH;FMTTYPE=image/avif:https://coloradoseikatsu.com/wp-content/uploads/2025/08/1.TOE-Main-Photo_0A4E28DE-C00B-C277-5D7A2074B981BDD4_0a7388f0-f540-859d-db90d644565a70e2.jpg.avif
END:VEVENT
BEGIN:VEVENT
DTSTART;TZID=UTC:20250912T180000
DTEND;TZID=UTC:20250914T170000
DTSTAMP:20260420T063706
CREATED:20250828T053051Z
LAST-MODIFIED:20250828T053051Z
UID:2524-1757700000-1757869200@coloradoseikatsu.com
SUMMARY:Spirit of Japan
DESCRIPTION:昨年初めて開催され大反響だった、日本の食を堪能できるイベント、Spirit of Japanが今年も開催されます！アメリカだと普段アメリカナイズされた日本食が多いと思いますが、こちらのイベントでは焼きそばやお好み焼き、日本酒など日本の本格的なご飯をたくさん堪能することができます。
URL:https://coloradoseikatsu.com/event/spirit-of-japan-2/
LOCATION:Sakura Square\, 1950 Larimer St\, Denver\,\, CO\, 80202
ATTACH;FMTTYPE=image/jpeg:https://coloradoseikatsu.com/wp-content/uploads/2025/08/84956b_35413597a1184d09a493082744f65690mv2.jpg
END:VEVENT
BEGIN:VEVENT
DTSTART;TZID=UTC:20250906T120000
DTEND;TZID=UTC:20250907T170000
DTSTAMP:20260420T063706
CREATED:20250626T174146Z
LAST-MODIFIED:20250626T174146Z
UID:2384-1757160000-1757264400@coloradoseikatsu.com
SUMMARY:ドラゴンボートフェスティバル
DESCRIPTION:今年もSloan’s Lakeでドラゴンボートフェスティバルが開催されます！ \nこちらのイベントでは中国のお祭りでも目にするドラゴンのパフォーマンス、ドラゴンボートの競争ももちろん、ステージでは和太鼓、フラダンス、音楽やダンスのパフォーマンスから目と耳で、たくさんのフードトラックからは味覚でたくさんのアジアを味わうことができます。
URL:https://coloradoseikatsu.com/event/%e3%83%89%e3%83%a9%e3%82%b4%e3%83%b3%e3%83%9c%e3%83%bc%e3%83%88%e3%83%95%e3%82%a7%e3%82%b9%e3%83%86%e3%82%a3%e3%83%90%e3%83%ab/
LOCATION:Sloan’s Lake Park\, 1700 N Sheridan Blvd\, Denver\, CO\, 80212
ATTACH;FMTTYPE=image/jpeg:https://coloradoseikatsu.com/wp-content/uploads/2025/06/Screenshot-2025-06-26-at-11.39.06 AM.jpg
END:VEVENT
BEGIN:VEVENT
DTSTART;TZID=UTC:20250905T173000
DTEND;TZID=UTC:20250905T213000
DTSTAMP:20260420T063706
CREATED:20250119T214813Z
LAST-MODIFIED:20250119T214813Z
UID:1873-1757093400-1757107800@coloradoseikatsu.com
SUMMARY:First Friday Art Walks @Denver
DESCRIPTION:毎月第一金曜日にデンバーのアート界隈でも人気なSanta Feというエリアで開催されるイベントです。このイベントでは普段入りにくいと感じる人もいるアートギャラリーに気軽に入り、アートを鑑賞したり、ワインやビールを飲みながらいろんなローカルのアーティストの作品を見ることができるイベントです。 \nFood truckやストリートパフォーマンスがある時もあるので、友達や家族とぜひ出かけてみてください！
URL:https://coloradoseikatsu.com/event/first-friday-art-walks-denver-16/
LOCATION:Art District on Santa Fe.\, 858 Santa Fe Dr\, Denver\, CO\, 80204\, United States
ATTACH;FMTTYPE=image/jpeg:https://coloradoseikatsu.com/wp-content/uploads/2025/01/Screenshot-2025-01-19-at-2.38.56 PM.jpg
END:VEVENT
BEGIN:VEVENT
DTSTART;TZID=UTC:20250905T170000
DTEND;TZID=UTC:20250907T150000
DTSTAMP:20260420T063706
CREATED:20250828T053907Z
LAST-MODIFIED:20250828T053907Z
UID:2527-1757091600-1757257200@coloradoseikatsu.com
SUMMARY:Arvada Harvest Festival
DESCRIPTION:アルバダで開催される秋の収穫祭は、今年でなんと100周年を迎えます。地域で愛され続けるこのイベントでは、音楽はもちろんたくさんのフードベンダーが軒を連ねたり、パレードが開催されたり、子供も楽しめるアトラクションもたくさんあるようです。 \n長年続く、地域の秋の祭りに、皆さんもぜひ参加してみませんか？
URL:https://coloradoseikatsu.com/event/arvada-harvest-festival/
LOCATION:Olde Town Arvada Square\, 5756 Olde Wadsworth Blvd\, Arvada\, CO\, 80002
ATTACH;FMTTYPE=image/jpeg:https://coloradoseikatsu.com/wp-content/uploads/2025/08/533089473_1165454708943657_5135632844002811014_n.jpg
END:VEVENT
BEGIN:VEVENT
DTSTART;TZID=UTC:20250830T120000
DTEND;TZID=UTC:20250831T200000
DTSTAMP:20260420T063706
CREATED:20250722T162749Z
LAST-MODIFIED:20250722T162905Z
UID:2431-1756555200-1756670400@coloradoseikatsu.com
SUMMARY:Mediterranean Festival@Arvada
DESCRIPTION:こちらのイベントではトルココーヒーから水タバコ、ヘナタトゥーうーからファッションショーまで、地中海の文化、音楽、食などいろんな角度から地中海を楽しむことができるイベントとなっています。 \nぜひ皆さんも、今まで知らなかった地中海の魅力を発見しにお出かけしてみてください！
URL:https://coloradoseikatsu.com/event/mediterranean-festivalarvada/
LOCATION:7580 Pierce St\,\, 7580 Pierce St\, Arvada\, CO
ATTACH;FMTTYPE=image/avif:https://coloradoseikatsu.com/wp-content/uploads/2025/07/15th-Annual-Festival-Social-Media-Compressed_2129F826-A0FD-94F6-2C351C2FC7C5CEC4_21391a4a-d777-741d-71811c0c8e2d7994.jpg.avif
END:VEVENT
END:VCALENDAR