BEGIN:VCALENDAR
VERSION:2.0
PRODID:-//コロラド生活 - ECPv6.15.20//NONSGML v1.0//EN
CALSCALE:GREGORIAN
METHOD:PUBLISH
X-WR-CALNAME:コロラド生活
X-ORIGINAL-URL:https://coloradoseikatsu.com
X-WR-CALDESC:Events for コロラド生活
REFRESH-INTERVAL;VALUE=DURATION:PT1H
X-Robots-Tag:noindex
X-PUBLISHED-TTL:PT1H
BEGIN:VTIMEZONE
TZID:UTC
BEGIN:STANDARD
TZOFFSETFROM:+0000
TZOFFSETTO:+0000
TZNAME:UTC
DTSTART:20240101T000000
END:STANDARD
END:VTIMEZONE
BEGIN:VEVENT
DTSTART;TZID=UTC:20250905T173000
DTEND;TZID=UTC:20250905T213000
DTSTAMP:20260420T050433
CREATED:20250119T214813Z
LAST-MODIFIED:20250119T214813Z
UID:1873-1757093400-1757107800@coloradoseikatsu.com
SUMMARY:First Friday Art Walks @Denver
DESCRIPTION:毎月第一金曜日にデンバーのアート界隈でも人気なSanta Feというエリアで開催されるイベントです。このイベントでは普段入りにくいと感じる人もいるアートギャラリーに気軽に入り、アートを鑑賞したり、ワインやビールを飲みながらいろんなローカルのアーティストの作品を見ることができるイベントです。 \nFood truckやストリートパフォーマンスがある時もあるので、友達や家族とぜひ出かけてみてください！
URL:https://coloradoseikatsu.com/event/first-friday-art-walks-denver-16/
LOCATION:Art District on Santa Fe.\, 858 Santa Fe Dr\, Denver\, CO\, 80204\, United States
ATTACH;FMTTYPE=image/jpeg:https://coloradoseikatsu.com/wp-content/uploads/2025/01/Screenshot-2025-01-19-at-2.38.56 PM.jpg
END:VEVENT
BEGIN:VEVENT
DTSTART;TZID=UTC:20250905T170000
DTEND;TZID=UTC:20250907T150000
DTSTAMP:20260420T050433
CREATED:20250828T053907Z
LAST-MODIFIED:20250828T053907Z
UID:2527-1757091600-1757257200@coloradoseikatsu.com
SUMMARY:Arvada Harvest Festival
DESCRIPTION:アルバダで開催される秋の収穫祭は、今年でなんと100周年を迎えます。地域で愛され続けるこのイベントでは、音楽はもちろんたくさんのフードベンダーが軒を連ねたり、パレードが開催されたり、子供も楽しめるアトラクションもたくさんあるようです。 \n長年続く、地域の秋の祭りに、皆さんもぜひ参加してみませんか？
URL:https://coloradoseikatsu.com/event/arvada-harvest-festival/
LOCATION:Olde Town Arvada Square\, 5756 Olde Wadsworth Blvd\, Arvada\, CO\, 80002
ATTACH;FMTTYPE=image/jpeg:https://coloradoseikatsu.com/wp-content/uploads/2025/08/533089473_1165454708943657_5135632844002811014_n.jpg
END:VEVENT
BEGIN:VEVENT
DTSTART;TZID=UTC:20250830T120000
DTEND;TZID=UTC:20250831T200000
DTSTAMP:20260420T050433
CREATED:20250722T162749Z
LAST-MODIFIED:20250722T162905Z
UID:2431-1756555200-1756670400@coloradoseikatsu.com
SUMMARY:Mediterranean Festival@Arvada
DESCRIPTION:こちらのイベントではトルココーヒーから水タバコ、ヘナタトゥーうーからファッションショーまで、地中海の文化、音楽、食などいろんな角度から地中海を楽しむことができるイベントとなっています。 \nぜひ皆さんも、今まで知らなかった地中海の魅力を発見しにお出かけしてみてください！
URL:https://coloradoseikatsu.com/event/mediterranean-festivalarvada/
LOCATION:7580 Pierce St\,\, 7580 Pierce St\, Arvada\, CO
ATTACH;FMTTYPE=image/avif:https://coloradoseikatsu.com/wp-content/uploads/2025/07/15th-Annual-Festival-Social-Media-Compressed_2129F826-A0FD-94F6-2C351C2FC7C5CEC4_21391a4a-d777-741d-71811c0c8e2d7994.jpg.avif
END:VEVENT
BEGIN:VEVENT
DTSTART;TZID=UTC:20250827T080000
DTEND;TZID=UTC:20250827T200000
DTSTAMP:20260420T050433
CREATED:20250523T023741Z
LAST-MODIFIED:20250523T023741Z
UID:2181-1756281600-1756324800@coloradoseikatsu.com
SUMMARY:Denver Botanic Gardens Free Days @York Street and Chatfield Farms
DESCRIPTION:デンバー市内に佇む植物の楽園、ボタニックガーデン（York Streetロケーション）とデンバー南の郊外Littletonにある農場（Chatfield Farmsロケーション）に無料で入場できる日です。 \n無料で入場できる日も、時間指定の人数制限のチケットとなるので、もし行きたい方は事前にウェブサイトからチケットを購入しましょう。チケットはたくさんの数用意はされていますが、売り切れになるケースが多いので、早めに確保しておくことをお勧めします。チケットは3ヶ月単位で販売され、毎月1日に新しいチケットが発売されます。 \n\n\n\n\n\n\n\n画像は、無料の日のチケット残数イメージです。３歳以上のお子さんも入場にはチケットが必要で、チケット完売日は当日窓口では買えないので事前にチケットを入手していきましょう。 \n\n\nボタニックガーデンは、冬はイルミネーションで輝き、春夏は色とりどりの花々を楽しむことができます。園内には日本庭園もあるのですが、こちらのレベルがとても高く、まるで日本にいるような感覚にもなる場所です。 \nボタニックガーデンはダウンタウンにあるYork Street、Chatfieldにある農場、そして自然の中でのコロラドの生活の歴史を垣間見ることができるAuroraのロケーションがそれぞれあります。 \n【営業時間】\nYork Street：9:00am to 8:00pm\nChatfield Farms：9:00am to 4:00pm
URL:https://coloradoseikatsu.com/event/denver-botanic-gardens-free-days-york-street-and-chatfield-farms-8/
LOCATION:Denver Botanic Gardens\, 1007 York Street\, Denver\, CO\, 80206\, United States
CATEGORIES:子供向けイベント,無料イベント
ATTACH;FMTTYPE=image/jpeg:https://coloradoseikatsu.com/wp-content/uploads/2025/01/Denver-Botanic-Gardens-1.jpg
END:VEVENT
BEGIN:VEVENT
DTSTART;TZID=UTC:20250825T090000
DTEND;TZID=UTC:20250825T170000
DTSTAMP:20260420T050433
CREATED:20250523T032952Z
LAST-MODIFIED:20250523T032952Z
UID:2185-1756112400-1756141200@coloradoseikatsu.com
SUMMARY:Nature & Science Museum Free Day
DESCRIPTION:恐竜のこと、宇宙のこと、自然のこと、動物のこと、人の体のこと、古代エジプトのこと…自然と科学がギュギュっと詰まったDenver Museum of Nature & Scienceの無料開放日です。 \n友達と行くのももちろん、お子様連れでもたっぷり楽しめる博物館で、二階の奥にはハイハイする赤ちゃんから好奇心旺盛な子供たちまで年齢層も広く楽しめるキッズスペースもあります！
URL:https://coloradoseikatsu.com/event/nature-science-museum-free-day-16/
LOCATION:Denver Museum of Nature and Science\, 2001 Colorado Blvd\, Denver\, CO\, 80205\, United States
CATEGORIES:子供向けイベント,無料イベント
ATTACH;FMTTYPE=image/jpeg:https://coloradoseikatsu.com/wp-content/uploads/2024/01/IMG_8173.jpg
END:VEVENT
BEGIN:VEVENT
DTSTART;TZID=UTC:20250823T180000
DTEND;TZID=UTC:20250823T200000
DTSTAMP:20260420T050433
CREATED:20250722T162212Z
LAST-MODIFIED:20250722T162212Z
UID:2427-1755972000-1755979200@coloradoseikatsu.com
SUMMARY:Denver Municipal Band 無料コンサート
DESCRIPTION:デンバーを中心に活動しているバンドの、無料コンサートです。 \nデンバーの気持ちのいい夏の夕方、公園で生の楽器の演奏を楽しんではいかがでしょうか？
URL:https://coloradoseikatsu.com/event/denver-municipal-band-%e7%84%a1%e6%96%99%e3%82%b3%e3%83%b3%e3%82%b5%e3%83%bc%e3%83%88/
LOCATION:E. 10th Ave. & Jersey St.\, E. 10th Ave. & Jersey St.\, Denver\, CO
ATTACH;FMTTYPE=image/avif:https://coloradoseikatsu.com/wp-content/uploads/2025/07/thumbnail_IMG_20210702_200501_59A6246A-C1E1-D297-96A4F80277DB81E2_59a94c4b-01f8-2072-9a286907e632e2bf.jpg.avif
END:VEVENT
BEGIN:VEVENT
DTSTART;TZID=UTC:20250823T120000
DTEND;TZID=UTC:20250824T170000
DTSTAMP:20260420T050433
CREATED:20250626T173825Z
LAST-MODIFIED:20250626T173825Z
UID:2381-1755950400-1756054800@coloradoseikatsu.com
SUMMARY:第12回ポルトガル料理フェスティバル
DESCRIPTION:デンバーで、今年第12回となるポルトガル料理フェスティバルが開催されます。 \nこちらのイベントではポルトガルのたくさんの料理だけではなく音楽や文化、ダンスなども堪能することができます！
URL:https://coloradoseikatsu.com/event/%e7%ac%ac12%e5%9b%9e%e3%83%9d%e3%83%ab%e3%83%88%e3%82%ac%e3%83%ab%e6%96%99%e7%90%86%e3%83%95%e3%82%a7%e3%82%b9%e3%83%86%e3%82%a3%e3%83%90%e3%83%ab/
LOCATION:St. Joseph Polish Parish Denver Colorado\, 517 E 46th Ave\, Denver\, CO
ATTACH;FMTTYPE=image/jpeg:https://coloradoseikatsu.com/wp-content/uploads/2025/06/500766395_1031976045742517_3049489668331316497_n.jpg
END:VEVENT
BEGIN:VEVENT
DTSTART;TZID=UTC:20250823T120000
DTEND;TZID=UTC:20250823T160000
DTSTAMP:20260420T050433
CREATED:20250722T161833Z
LAST-MODIFIED:20250722T161833Z
UID:2424-1755950400-1755964800@coloradoseikatsu.com
SUMMARY:Brunch Fest @Denver
DESCRIPTION:ブランチの定番メニューからちょっと変わったメニューまでたくさん楽しめるブランチフェスティバルです！ \nイベントではブランチの定番のMimosaやブラッディマリーなどを片手にたくさんの美味しいご飯が楽しめます。 \nこちらは21歳以上のみ入場できるイベントとなっています。
URL:https://coloradoseikatsu.com/event/brunch-fest-denver/
LOCATION:Tivoli Quad\, 1000 Larimer Street\, Denver\, CO
END:VEVENT
BEGIN:VEVENT
DTSTART;TZID=UTC:20250816T100000
DTEND;TZID=UTC:20250816T120000
DTSTAMP:20260420T050433
CREATED:20250722T160323Z
LAST-MODIFIED:20250722T160323Z
UID:2413-1755338400-1755345600@coloradoseikatsu.com
SUMMARY:Western Welcome Week Parade @Littleton
DESCRIPTION:Westernairsは馬の扱い方、馬を使ったパフォーマンスを行う団体です。ウェスタンショーなどでも馬を使ったパフォーマンスや馬の世話をするときに使う投げ縄を使ったパフォーマンスなどでも知られています。 \nこちらの団体がLittletonでパレードを行います。 \nパレードではたくさんの馬やパフォーマーを見ることができるようです！
URL:https://coloradoseikatsu.com/event/western-welcome-week-parade-littleton/
LOCATION:Littleton Blvd and Gallup St\, Littleton Boulevard and Gallup Street\, Littleton\, CO
ATTACH;FMTTYPE=image/jpeg:https://coloradoseikatsu.com/wp-content/uploads/2025/07/LittletonWesternWelcomeWeekParade20253.jpg
END:VEVENT
BEGIN:VEVENT
DTSTART;TZID=UTC:20250816T090000
DTEND;TZID=UTC:20250816T160000
DTSTAMP:20260420T050433
CREATED:20250527T205413Z
LAST-MODIFIED:20250527T205413Z
UID:2274-1755334800-1755360000@coloradoseikatsu.com
SUMMARY:Peach Festival＠Lafayette
DESCRIPTION:Lafayetteでpeach festivalが開催されます。コロラドで桃の産地としても有名なPalisadeの桃を購入することができたり、実際に生産者の顔を見ながら新鮮な桃だけではなく桃を使った様々な商品を買うことができます \nイベント当日は桃の販売だけではなく子供向けのアクティビティも用意されているそうなので、家族で天気のいい夏のコロラドを楽しむのにぴったりのイベントになっています！
URL:https://coloradoseikatsu.com/event/peachfestival/
LOCATION:Old Town Lafayette\, 500 S Public Rd\, Lafayette\, CO\, 80026
ATTACH;FMTTYPE=image/jpeg:https://coloradoseikatsu.com/wp-content/uploads/2025/05/494403980_1089887503185702_3932765940407508062_n.jpg
END:VEVENT
BEGIN:VEVENT
DTSTART;TZID=UTC:20250802T090000
DTEND;TZID=UTC:20250802T100000
DTSTAMP:20260420T050433
CREATED:20250722T161147Z
LAST-MODIFIED:20250722T161147Z
UID:2421-1754125200-1754128800@coloradoseikatsu.com
SUMMARY:Yoga on the Lawn@Levitt Pavilion
DESCRIPTION:夏の期間無料音楽コンサートも開催されているLevitt Pavilionでは、週末午前中にヨガの無料イベントも開催されています。 \n気持ちのいい芝生の上で、土曜日の朝から体をストレッチして気持ちのいい週末をスタートさせてみませんか？
URL:https://coloradoseikatsu.com/event/yoga-on-the-lawnlevitt-pavilion/
LOCATION:Levitt Pavillion\, 1380 W Florida Ave\, Denver\, CO\, 80223
ATTACH;FMTTYPE=image/avif:https://coloradoseikatsu.com/wp-content/uploads/2025/07/4e340f70-b5ee-42c2-3319-78616b1f7273_C65A7834-05D2-A220-6C660BAA7CE5F195_c65b5b28-bbc6-4fa9-1c8df49c8e80430c.png.avif
END:VEVENT
BEGIN:VEVENT
DTSTART;TZID=UTC:20250801T173000
DTEND;TZID=UTC:20250801T213000
DTSTAMP:20260420T050433
CREATED:20250119T214827Z
LAST-MODIFIED:20250119T214827Z
UID:1872-1754069400-1754083800@coloradoseikatsu.com
SUMMARY:First Friday Art Walks @Denver
DESCRIPTION:毎月第一金曜日にデンバーのアート界隈でも人気なSanta Feというエリアで開催されるイベントです。このイベントでは普段入りにくいと感じる人もいるアートギャラリーに気軽に入り、アートを鑑賞したり、ワインやビールを飲みながらいろんなローカルのアーティストの作品を見ることができるイベントです。 \nFood truckやストリートパフォーマンスがある時もあるので、友達や家族とぜひ出かけてみてください！
URL:https://coloradoseikatsu.com/event/first-friday-art-walks-denver-17/
LOCATION:Art District on Santa Fe.\, 858 Santa Fe Dr\, Denver\, CO\, 80204\, United States
ATTACH;FMTTYPE=image/jpeg:https://coloradoseikatsu.com/wp-content/uploads/2025/01/Screenshot-2025-01-19-at-2.38.56 PM.jpg
END:VEVENT
BEGIN:VEVENT
DTSTART;TZID=UTC:20250801T173000
DTEND;TZID=UTC:20250801T190000
DTSTAMP:20260420T050433
CREATED:20250722T160932Z
LAST-MODIFIED:20250722T160932Z
UID:2417-1754069400-1754074800@coloradoseikatsu.com
SUMMARY:Jazz in the Park @ Cousins Plaza
DESCRIPTION:Denverのダウンタウンにある公園で、無料のジャズイベントが開催されます。こちらのイベントは5月から9月まで、第一金曜日の夕方に開催されるイベントで、音楽のパフォーマsンスだけではなくフードトラックや子供向けのアクティビティも用意されています。 \nぜひご家族で夏の夕方を楽しみながらジャズを聴きに出掛けてみてはいかがでしょう？
URL:https://coloradoseikatsu.com/event/jazz-in-the-park-cousins-plaza/
LOCATION:Sonny Lawson Park\, 2401 Welton St\, Denver\, CO\, 80205
ATTACH;FMTTYPE=image/avif:https://coloradoseikatsu.com/wp-content/uploads/2025/07/8_29048E27-0695-5B4A-77A3533CEA15C7E8_29057585-eb82-87a7-6e2673d43fa8d6b1.jpg.avif
END:VEVENT
BEGIN:VEVENT
DTSTART;TZID=UTC:20250727T100000
DTEND;TZID=UTC:20250727T170000
DTSTAMP:20260420T050433
CREATED:20250523T034022Z
LAST-MODIFIED:20250523T034022Z
UID:2191-1753610400-1753635600@coloradoseikatsu.com
SUMMARY:デンバー美術館Free Day
DESCRIPTION:デンバーのダウンタウンにある美術館のFree Admission Dayです！シーズンごとの企画展はもちろん、キッズスペースや子供たちがクラフトを楽しめるスペースもあるので、お子さんがいるご家庭であればそちらもおすすめです。
URL:https://coloradoseikatsu.com/event/%e3%83%87%e3%83%b3%e3%83%90%e3%83%bc%e7%be%8e%e8%a1%93%e9%a4%a8free-day-25/
LOCATION:Denver Art Museum\, 100 W 14th Ave Pkwy\, Denver\, CO\, 80204\, United States
CATEGORIES:子供向けイベント,無料イベント
ATTACH;FMTTYPE=image/png:https://coloradoseikatsu.com/wp-content/uploads/2024/01/Screen-Shot-2024-01-11-at-2.21.38-PM.png
END:VEVENT
BEGIN:VEVENT
DTSTART;TZID=UTC:20250719T080000
DTEND;TZID=UTC:20250719T170000
DTSTAMP:20260420T050433
CREATED:20250626T173439Z
LAST-MODIFIED:20250626T173439Z
UID:2378-1752912000-1752944400@coloradoseikatsu.com
SUMMARY:Arvada Firefighter's carfest
DESCRIPTION:Arvadaで消防車を間近にみて楽しむことができるイベントが開催されます！消防車や救急車などはもちろん、クラシックカーも集結するとか。 \n当日はフードトラックなども出店するようなので、Arvada散歩がてらぜひ覗いてみてください。我が家も消防車大好きの2歳半の息子と行く予定です
URL:https://coloradoseikatsu.com/event/arvadacarfest/
LOCATION:Stenger Sports Complex\, 11200 W 58th Ave\, Arvada\, CO
ATTACH;FMTTYPE=image/jpeg:https://coloradoseikatsu.com/wp-content/uploads/2025/06/491957777_1076427474512473_7395882064683912397_n.jpg
END:VEVENT
BEGIN:VEVENT
DTSTART;TZID=UTC:20250711T160000
DTEND;TZID=UTC:20250713T190000
DTSTAMP:20260420T050433
CREATED:20250626T175249Z
LAST-MODIFIED:20250626T175335Z
UID:2387-1752249600-1752433200@coloradoseikatsu.com
SUMMARY:フレンチフェスティバル
DESCRIPTION:買い物でも人気の場所、Cherry Creek Northにてフレンチフェスティバルが開催されます。この3日間のイベントではフランス料理やアートなどを楽しむことができます。当日はフランスのアーティストによる出店もあるようで、どんなお店があるかみて回るだけでも楽しそうですね！
URL:https://coloradoseikatsu.com/event/%e3%83%95%e3%83%ac%e3%83%b3%e3%83%81%e3%83%95%e3%82%a7%e3%82%b9%e3%83%86%e3%82%a3%e3%83%90%e3%83%ab/
LOCATION:Fillmore Plaza\, Cherry Creek\, 105 Fillmore St\, Denver\, CO\, 80206
ATTACH;FMTTYPE=image/jpeg:https://coloradoseikatsu.com/wp-content/uploads/2025/06/Screenshot-2025-06-26-at-11.53.11 AM.jpg
END:VEVENT
BEGIN:VEVENT
DTSTART;TZID=UTC:20250708T100000
DTEND;TZID=UTC:20250708T170000
DTSTAMP:20260420T050433
CREATED:20250523T033907Z
LAST-MODIFIED:20250523T033907Z
UID:2189-1751968800-1751994000@coloradoseikatsu.com
SUMMARY:デンバー美術館Free Day
DESCRIPTION:デンバーのダウンタウンにある美術館のFree Admission Dayです！シーズンごとの企画展はもちろん、キッズスペースや子供たちがクラフトを楽しめるスペースもあるので、お子さんがいるご家庭であればそちらもおすすめです。
URL:https://coloradoseikatsu.com/event/%e3%83%87%e3%83%b3%e3%83%90%e3%83%bc%e7%be%8e%e8%a1%93%e9%a4%a8free-day-24/
LOCATION:Denver Art Museum\, 100 W 14th Ave Pkwy\, Denver\, CO\, 80204\, United States
CATEGORIES:子供向けイベント,無料イベント
ATTACH;FMTTYPE=image/png:https://coloradoseikatsu.com/wp-content/uploads/2024/01/Screen-Shot-2024-01-11-at-2.21.38-PM.png
END:VEVENT
BEGIN:VEVENT
DTSTART;TZID=UTC:20250704T173000
DTEND;TZID=UTC:20250704T213000
DTSTAMP:20260420T050433
CREATED:20250119T214836Z
LAST-MODIFIED:20250119T214836Z
UID:1871-1751650200-1751664600@coloradoseikatsu.com
SUMMARY:First Friday Art Walks @Denver
DESCRIPTION:毎月第一金曜日にデンバーのアート界隈でも人気なSanta Feというエリアで開催されるイベントです。このイベントでは普段入りにくいと感じる人もいるアートギャラリーに気軽に入り、アートを鑑賞したり、ワインやビールを飲みながらいろんなローカルのアーティストの作品を見ることができるイベントです。 \nFood truckやストリートパフォーマンスがある時もあるので、友達や家族とぜひ出かけてみてください！
URL:https://coloradoseikatsu.com/event/first-friday-art-walks-denver-18/
LOCATION:Art District on Santa Fe.\, 858 Santa Fe Dr\, Denver\, CO\, 80204\, United States
ATTACH;FMTTYPE=image/jpeg:https://coloradoseikatsu.com/wp-content/uploads/2025/01/Screenshot-2025-01-19-at-2.38.56 PM.jpg
END:VEVENT
BEGIN:VEVENT
DTSTART;TZID=UTC:20250704T160000
DTEND;TZID=UTC:20250704T220000
DTSTAMP:20260420T050433
CREATED:20250626T172845Z
LAST-MODIFIED:20250626T172845Z
UID:2371-1751644800-1751666400@coloradoseikatsu.com
SUMMARY:4th of July celebration
DESCRIPTION:Westminsterの公園で、独立記念日のお祝いのイベントが開催されます。 \n音楽の演奏や野外での飲食を楽しむのはもちろん、入場料はかかりますがプールで水遊びをすることもできます！友達や家族を誘って、みんなで野外で独立記念日を楽しみましょう！
URL:https://coloradoseikatsu.com/event/4th-of-july-celebration/
LOCATION:Westminster City Park\, 10455 N Sheridan Blvd\, Westminster\, CO\, 80020
ATTACH;FMTTYPE=image/jpeg:https://coloradoseikatsu.com/wp-content/uploads/2025/06/503981545_1010031637950563_2721975376288956773_n.jpg
END:VEVENT
BEGIN:VEVENT
DTSTART;TZID=UTC:20250703T090000
DTEND;TZID=UTC:20250703T200000
DTSTAMP:20260420T050433
CREATED:20250523T023530Z
LAST-MODIFIED:20250523T023530Z
UID:2179-1751533200-1751572800@coloradoseikatsu.com
SUMMARY:Denver Botanic Gardens Free Days @York Street and Chatfield Farms
DESCRIPTION:デンバー市内に佇む植物の楽園、ボタニックガーデン（York Streetロケーション）とデンバー南の郊外Littletonにある農場（Chatfield Farmsロケーション）に無料で入場できる日です。 \n無料で入場できる日も、時間指定の人数制限のチケットとなるので、もし行きたい方は事前にウェブサイトからチケットを購入しましょう。チケットはたくさんの数用意はされていますが、売り切れになるケースが多いので、早めに確保しておくことをお勧めします。チケットは3ヶ月単位で販売され、毎月1日に新しいチケットが発売されます。 \n\n\n\n\n\n\n\n画像は、無料の日のチケット残数イメージです。３歳以上のお子さんも入場にはチケットが必要で、チケット完売日は当日窓口では買えないので事前にチケットを入手していきましょう。 \n\n\nボタニックガーデンは、冬はイルミネーションで輝き、春夏は色とりどりの花々を楽しむことができます。園内には日本庭園もあるのですが、こちらのレベルがとても高く、まるで日本にいるような感覚にもなる場所です。 \nボタニックガーデンはダウンタウンにあるYork Street、Chatfieldにある農場、そして自然の中でのコロラドの生活の歴史を垣間見ることができるAuroraのロケーションがそれぞれあります。 \n【営業時間】\nYork Street：9:00am to 8:00pm\nChatfield Farms：9:00am to 4:00pm
URL:https://coloradoseikatsu.com/event/denver-botanic-gardens-free-days-york-street-and-chatfield-farms-7/
LOCATION:Denver Botanic Gardens\, 1007 York Street\, Denver\, CO\, 80206\, United States
CATEGORIES:子供向けイベント,無料イベント
ATTACH;FMTTYPE=image/jpeg:https://coloradoseikatsu.com/wp-content/uploads/2025/01/Denver-Botanic-Gardens-1.jpg
END:VEVENT
BEGIN:VEVENT
DTSTART;TZID=UTC:20250622T090000
DTEND;TZID=UTC:20250622T170000
DTSTAMP:20260420T050433
CREATED:20250527T204655Z
LAST-MODIFIED:20250527T204655Z
UID:2272-1750582800-1750611600@coloradoseikatsu.com
SUMMARY:Castle Rock Ducky Derby
DESCRIPTION:ゴムのアヒルの川下りレースを楽しめる、ユニークで楽しいイベントが開催されます！毎年1万以上のアヒルが川を下り、一位の賞金に向けてレースが開催されます。 \nこちらのイベントではアヒルの川下りだけではなく、当日周辺でファーマーズマーケットや子供向けの楽しめるイベントも開催されているので、ご家族でお出かけしてみてはいかがでしょうか？
URL:https://coloradoseikatsu.com/event/castle-rock-ducky-derby/
LOCATION:Festival Park\, 300 2nd St\, Castle Rock\, CO\, 80104
ATTACH;FMTTYPE=image/jpeg:https://coloradoseikatsu.com/wp-content/uploads/2025/05/497573302_1155481236624918_5028175356359973511_n.jpg
END:VEVENT
BEGIN:VEVENT
DTSTART;TZID=UTC:20250621T100000
DTEND;TZID=UTC:20250622T170000
DTSTAMP:20260420T050433
CREATED:20250414T161829Z
LAST-MODIFIED:20250414T161829Z
UID:2171-1750500000-1750611600@coloradoseikatsu.com
SUMMARY:サクラフェスティバル
DESCRIPTION:毎年大人気の日本のお祭り、桜フェスティバルが今年も開催されます！ \n桜フェスティバルはデンバーのダウンタウンにある日本領事館近くの桜スクエアで開催され、毎年多くの日本食のベンダーや日本に関するグッズの販売が行われています。 \nステージでは和太鼓の演奏やカラオケなども行われ、毎年たくさんの人が楽しみにするイベントとなっています。
URL:https://coloradoseikatsu.com/event/%e3%82%b5%e3%82%af%e3%83%a9%e3%83%95%e3%82%a7%e3%82%b9%e3%83%86%e3%82%a3%e3%83%90%e3%83%ab/
LOCATION:Sakura Square\, 1950 Larimer St\, Denver\,\, CO\, 80202
ATTACH;FMTTYPE=image/jpeg:https://coloradoseikatsu.com/wp-content/uploads/2025/04/2025-DCBF-Website-Header.jpg
END:VEVENT
BEGIN:VEVENT
DTSTART;TZID=UTC:20250619T090000
DTEND;TZID=UTC:20250619T170000
DTSTAMP:20260420T050433
CREATED:20250523T032812Z
LAST-MODIFIED:20250523T033024Z
UID:2183-1750323600-1750352400@coloradoseikatsu.com
SUMMARY:Nature & Science Museum Free Day
DESCRIPTION:恐竜のこと、宇宙のこと、自然のこと、動物のこと、人の体のこと、古代エジプトのこと…自然と科学がギュギュっと詰まったDenver Museum of Nature & Scienceの無料開放日です。 \n友達と行くのももちろん、お子様連れでもたっぷり楽しめる博物館で、二階の奥にはハイハイする赤ちゃんから好奇心旺盛な子供たちまで年齢層も広く楽しめるキッズスペースもあります！
URL:https://coloradoseikatsu.com/event/nature-science-museum-free-day-15/
LOCATION:Denver Museum of Nature and Science\, 2001 Colorado Blvd\, Denver\, CO\, 80205\, United States
CATEGORIES:子供向けイベント,無料イベント
ATTACH;FMTTYPE=image/jpeg:https://coloradoseikatsu.com/wp-content/uploads/2024/01/IMG_8173.jpg
END:VEVENT
BEGIN:VEVENT
DTSTART;TZID=UTC:20250614T103000
DTEND;TZID=UTC:20250615T173000
DTSTAMP:20260420T050433
CREATED:20250527T204238Z
LAST-MODIFIED:20250527T204238Z
UID:2265-1749897000-1750008600@coloradoseikatsu.com
SUMMARY:The Denver Street Fairs -Father's Day weekend
DESCRIPTION:コロラド州内で活躍するハンドメイド作家の集うイベントが、父の日の週末に開催されます。 \nこちらのイベントでは父の日のプレゼントはもちろん大切な人への贈り物を探すのにもぴったりの、手作り雑貨を販売するベンダーが集うイベントになっています。ダウンタウンの中心にある野球場Coors Fieldの近くで開催されるので、街の散策がてら立ち寄ったり、このイベントに寄った後に周囲のバーやレストランに行くのもいいですね！
URL:https://coloradoseikatsu.com/event/the-denver-street-fairs-fathers-day-weekend/
LOCATION:2100 Blake St\, 2100 Blake st\, Denver\, CO\, 80205
ATTACH;FMTTYPE=image/jpeg:https://coloradoseikatsu.com/wp-content/uploads/2025/05/483756947_122209705628167408_1338859628453655628_n.jpg
END:VEVENT
BEGIN:VEVENT
DTSTART;TZID=UTC:20250610T100000
DTEND;TZID=UTC:20250610T170000
DTSTAMP:20260420T050433
CREATED:20250523T033713Z
LAST-MODIFIED:20250523T033713Z
UID:2187-1749549600-1749574800@coloradoseikatsu.com
SUMMARY:デンバー美術館Free Day
DESCRIPTION:デンバーのダウンタウンにある美術館のFree Admission Dayです！シーズンごとの企画展はもちろん、キッズスペースや子供たちがクラフトを楽しめるスペースもあるので、お子さんがいるご家庭であればそちらもおすすめです。
URL:https://coloradoseikatsu.com/event/%e3%83%87%e3%83%b3%e3%83%90%e3%83%bc%e7%be%8e%e8%a1%93%e9%a4%a8free-day-23/
LOCATION:Denver Art Museum\, 100 W 14th Ave Pkwy\, Denver\, CO\, 80204\, United States
CATEGORIES:子供向けイベント,無料イベント
ATTACH;FMTTYPE=image/png:https://coloradoseikatsu.com/wp-content/uploads/2024/01/Screen-Shot-2024-01-11-at-2.21.38-PM.png
END:VEVENT
BEGIN:VEVENT
DTSTART;TZID=UTC:20250610T090000
DTEND;TZID=UTC:20250610T200000
DTSTAMP:20260420T050433
CREATED:20250523T023247Z
LAST-MODIFIED:20250523T023247Z
UID:2177-1749546000-1749585600@coloradoseikatsu.com
SUMMARY:Denver Botanic Gardens Free Days @York Street and Chatfield Farms
DESCRIPTION:デンバー市内に佇む植物の楽園、ボタニックガーデン（York Streetロケーション）とデンバー南の郊外Littletonにある農場（Chatfield Farmsロケーション）に無料で入場できる日です。 \n無料で入場できる日も、時間指定の人数制限のチケットとなるので、もし行きたい方は事前にウェブサイトからチケットを購入しましょう。チケットはたくさんの数用意はされていますが、売り切れになるケースが多いので、早めに確保しておくことをお勧めします。チケットは3ヶ月単位で販売され、毎月1日に新しいチケットが発売されます。 \n\n\n\n\n\n\n\n画像は、無料の日のチケット残数イメージです。３歳以上のお子さんも入場にはチケットが必要で、チケット完売日は当日窓口では買えないので事前にチケットを入手していきましょう。 \n\n\nボタニックガーデンは、冬はイルミネーションで輝き、春夏は色とりどりの花々を楽しむことができます。園内には日本庭園もあるのですが、こちらのレベルがとても高く、まるで日本にいるような感覚にもなる場所です。 \nボタニックガーデンはダウンタウンにあるYork Street、Chatfieldにある農場、そして自然の中でのコロラドの生活の歴史を垣間見ることができるAuroraのロケーションがそれぞれあります。 \n【営業時間】\nYork Street：9:00am to 8:00pm\nChatfield Farms：9:00am to 4:00pm
URL:https://coloradoseikatsu.com/event/denver-botanic-gardens-free-days-york-street-and-chatfield-farms-6/
LOCATION:Denver Botanic Gardens\, 1007 York Street\, Denver\, CO\, 80206\, United States
CATEGORIES:子供向けイベント,無料イベント
ATTACH;FMTTYPE=image/jpeg:https://coloradoseikatsu.com/wp-content/uploads/2025/01/Denver-Botanic-Gardens-1.jpg
END:VEVENT
BEGIN:VEVENT
DTSTART;TZID=UTC:20250607T100000
DTEND;TZID=UTC:20250608T170000
DTSTAMP:20260420T050433
CREATED:20250318T041148Z
LAST-MODIFIED:20250318T041148Z
UID:2103-1749290400-1749402000@coloradoseikatsu.com
SUMMARY:Denver Chalk Art Festival @Denver
DESCRIPTION:デンバーで、毎年開催されるチョークアートのイベントが今年も開催されます。こちらのイベントでは決められたスペースにたくさんのアーティストが息を呑むようなチョークアートを施していく様子やその作品を見ることができます。 \n子供も楽しめるスペースもあるので、家族でアート鑑賞、そしてアートを楽しみに出かけてみてはいかがでしょう？
URL:https://coloradoseikatsu.com/event/denver-chalk-art-festival-denver/
LOCATION:1200 Bannock St\, 195 W 12th Ave\, Denver\, CO\, 80204
ATTACH;FMTTYPE=image/jpeg:https://coloradoseikatsu.com/wp-content/uploads/2025/03/482091347_1186093909753147_3973830898326856735_n.jpg
END:VEVENT
BEGIN:VEVENT
DTSTART;TZID=UTC:20250607T100000
DTEND;TZID=UTC:20250607T190000
DTSTAMP:20260420T050433
CREATED:20250527T203726Z
LAST-MODIFIED:20250527T203726Z
UID:2261-1749290400-1749322800@coloradoseikatsu.com
SUMMARY:Arvada Powwow
DESCRIPTION:先住民の文化に触れることのできるイベントがArvadaで開催されます！ \nこのイベントではネイティブアメリカンの伝統を、音楽、アート、食べ物やストーリータイムから学ことができます。
URL:https://coloradoseikatsu.com/event/arvada-powwow/
LOCATION:Arvada Center for the Arts and Humanities\, 6901 Wadsworth Blvd\, Arvada\, CO\, 80228
ATTACH;FMTTYPE=image/jpeg:https://coloradoseikatsu.com/wp-content/uploads/2025/05/Screenshot-2025-05-27-at-2.29.55 PM.jpg
END:VEVENT
BEGIN:VEVENT
DTSTART;TZID=UTC:20250606T173000
DTEND;TZID=UTC:20250606T203000
DTSTAMP:20260420T050433
CREATED:20250119T214845Z
LAST-MODIFIED:20250119T214845Z
UID:1870-1749231000-1749241800@coloradoseikatsu.com
SUMMARY:First Friday Art Walks @Denver
DESCRIPTION:毎月第一金曜日にデンバーのアート界隈でも人気なSanta Feというエリアで開催されるイベントです。このイベントでは普段入りにくいと感じる人もいるアートギャラリーに気軽に入り、アートを鑑賞したり、ワインやビールを飲みながらいろんなローカルのアーティストの作品を見ることができるイベントです。 \nFood truckやストリートパフォーマンスがある時もあるので、友達や家族とぜひ出かけてみてください！
URL:https://coloradoseikatsu.com/event/first-friday-art-walks-denver-19/
LOCATION:Art District on Santa Fe.\, 858 Santa Fe Dr\, Denver\, CO\, 80204\, United States
ATTACH;FMTTYPE=image/jpeg:https://coloradoseikatsu.com/wp-content/uploads/2025/01/Screenshot-2025-01-19-at-2.38.56 PM.jpg
END:VEVENT
BEGIN:VEVENT
DTSTART;TZID=UTC:20250531T100000
DTEND;TZID=UTC:20250601T170000
DTSTAMP:20260420T050433
CREATED:20250318T040656Z
LAST-MODIFIED:20250318T040656Z
UID:2099-1748685600-1748797200@coloradoseikatsu.com
SUMMARY:Annual Art Festival @Park hill
DESCRIPTION:毎年行われている人気のイベント、Park Hillで開催されるアートイベントが今年も開催されます。 \nこちらのイベントは100以上のコロラドはもちろん全米のアーティストの作品に直接触れることができるイベントとなっています。お天気のいい５月の週末、素敵なアートに出逢いに出かけてみてはいかがでしょう？
URL:https://coloradoseikatsu.com/event/annual-art-festival-park-hill/
LOCATION:4819 E Montview blvd\, 4819 Montview Blvd\, Denver\, CO\, 80207
ATTACH;FMTTYPE=image/jpeg:https://coloradoseikatsu.com/wp-content/uploads/2025/03/481281543_952774850324162_3212952404901045513_n-2.jpg
END:VEVENT
END:VCALENDAR