BEGIN:VCALENDAR
VERSION:2.0
PRODID:-//コロラド生活 - ECPv6.15.20//NONSGML v1.0//EN
CALSCALE:GREGORIAN
METHOD:PUBLISH
X-WR-CALNAME:コロラド生活
X-ORIGINAL-URL:https://coloradoseikatsu.com
X-WR-CALDESC:Events for コロラド生活
REFRESH-INTERVAL;VALUE=DURATION:PT1H
X-Robots-Tag:noindex
X-PUBLISHED-TTL:PT1H
BEGIN:VTIMEZONE
TZID:UTC
BEGIN:STANDARD
TZOFFSETFROM:+0000
TZOFFSETTO:+0000
TZNAME:UTC
DTSTART:20240101T000000
END:STANDARD
END:VTIMEZONE
BEGIN:VEVENT
DTSTART;TZID=UTC:20250503T100000
DTEND;TZID=UTC:20250503T150000
DTSTAMP:20260420T045910
CREATED:20250226T220929Z
LAST-MODIFIED:20250226T221016Z
UID:2010-1746266400-1746284400@coloradoseikatsu.com
SUMMARY:Sheep to Shawl @Littleton
DESCRIPTION:皆さんが好きなウールのセーターがどうやって作られているか、考えたことはありますか？ \nLittletonの博物館が主催して、羊のけをはじめどのように綺麗にし、どのようにして色付けされ、どのように毛糸になっていくかを体験、学習することができるイベントが開催されます。 \n大人も子供も楽しみながら学習する機会、ぜひお出かけくださいね！
URL:https://coloradoseikatsu.com/event/sheep-to-shawl-littleton/
LOCATION:Littleton Museum\, 6028 Gallup St\, Littleton\, CO\, 80120
END:VEVENT
BEGIN:VEVENT
DTSTART;TZID=UTC:20250502T173000
DTEND;TZID=UTC:20250502T213000
DTSTAMP:20260420T045910
CREATED:20250119T214854Z
LAST-MODIFIED:20250119T214854Z
UID:1869-1746207000-1746221400@coloradoseikatsu.com
SUMMARY:First Friday Art Walks @Denver
DESCRIPTION:毎月第一金曜日にデンバーのアート界隈でも人気なSanta Feというエリアで開催されるイベントです。このイベントでは普段入りにくいと感じる人もいるアートギャラリーに気軽に入り、アートを鑑賞したり、ワインやビールを飲みながらいろんなローカルのアーティストの作品を見ることができるイベントです。 \nFood truckやストリートパフォーマンスがある時もあるので、友達や家族とぜひ出かけてみてください！
URL:https://coloradoseikatsu.com/event/first-friday-art-walks-denver-20/
LOCATION:Art District on Santa Fe.\, 858 Santa Fe Dr\, Denver\, CO\, 80204\, United States
ATTACH;FMTTYPE=image/jpeg:https://coloradoseikatsu.com/wp-content/uploads/2025/01/Screenshot-2025-01-19-at-2.38.56 PM.jpg
END:VEVENT
BEGIN:VEVENT
DTSTART;TZID=UTC:20250427T090000
DTEND;TZID=UTC:20250427T170000
DTSTAMP:20260420T045910
CREATED:20250217T234209Z
LAST-MODIFIED:20250217T234209Z
UID:1962-1745744400-1745773200@coloradoseikatsu.com
SUMMARY:Nature & Science Museum Free Day
DESCRIPTION:恐竜のこと、宇宙のこと、自然のこと、動物のこと、人の体のこと、古代エジプトのこと…自然と科学がギュギュっと詰まったDenver Museum of Nature & Scienceの無料開放日です。 \n友達と行くのももちろん、お子様連れでもたっぷり楽しめる博物館で、二階の奥にはハイハイする赤ちゃんから好奇心旺盛な子供たちまで年齢層も広く楽しめるキッズスペースもあります！
URL:https://coloradoseikatsu.com/event/nature-science-museum-free-day-14/
LOCATION:Denver Museum of Nature and Science\, 2001 Colorado Blvd\, Denver\, CO\, 80205\, United States
CATEGORIES:子供向けイベント,無料イベント
ATTACH;FMTTYPE=image/jpeg:https://coloradoseikatsu.com/wp-content/uploads/2024/01/IMG_8173.jpg
END:VEVENT
BEGIN:VEVENT
DTSTART;TZID=UTC:20250426T140000
DTEND;TZID=UTC:20250426T153000
DTSTAMP:20260420T045910
CREATED:20250327T031621Z
LAST-MODIFIED:20250327T031621Z
UID:2148-1745676000-1745681400@coloradoseikatsu.com
SUMMARY:賢い食の選択講座
DESCRIPTION:保育栄養士が教える、小学生向けの賢い食の選択講座が開催されます。 \n飽和の時代、忙しい毎日で安全より時短、便利、美味を優先して食の選択をしていませんか？将来、子供達が賢い食の選択ができるよう、体に良い食品の選び方を学びましょう。 \n小学生が対象ですが、親御さんも一緒にどうぞ！ \nクッキングはみんな大好きぬてらを無添加食材で再現し、カットしたフルーツと一緒にクレープで巻いて食べるヘルシーおやつです！
URL:https://coloradoseikatsu.com/event/%e8%b3%a2%e3%81%84%e9%a3%9f%e3%81%ae%e9%81%b8%e6%8a%9e%e8%ac%9b%e5%ba%a7/
LOCATION:Centtennial Central Park\, 13050 E Peakview ave\, Centennial\, CO
ATTACH;FMTTYPE=image/jpeg:https://coloradoseikatsu.com/wp-content/uploads/2025/03/IMG_1760.jpg
END:VEVENT
BEGIN:VEVENT
DTSTART;TZID=UTC:20250426T110000
DTEND;TZID=UTC:20250426T160000
DTSTAMP:20260420T045911
CREATED:20250318T035515Z
LAST-MODIFIED:20250318T035515Z
UID:2096-1745665200-1745683200@coloradoseikatsu.com
SUMMARY:Earth Day cerebration @Lakewood
DESCRIPTION:LakewoodのBelmar Parkにて毎年大人気のEarth Dayのイベントが開催されます。こちらのイベントでは環境に関して学ぶための展示はもちろん音楽のライブ演奏、飲食物の販売、そして家族で楽しめる催しと盛りだくさんとなっています。 \nBelmarはショッピングも楽しめるエリアや素敵な図書館に公園と、１日家族みんなで楽しむことができるエリアなので、ぜひ春の天気の中地球のお祝いに出かけてみてはいかがでしょう？
URL:https://coloradoseikatsu.com/event/earth-day-cerebration-lakewood/
LOCATION:Belmar Park\, 801 S Yarrow St\, Lakewood\, CO\, 80226
ATTACH;FMTTYPE=image/jpeg:https://coloradoseikatsu.com/wp-content/uploads/2025/03/481995164_940241561615623_8534116311005526499_n.jpg
END:VEVENT
BEGIN:VEVENT
DTSTART;TZID=UTC:20250426T100000
DTEND;TZID=UTC:20250426T170000
DTSTAMP:20260420T045911
CREATED:20250226T220528Z
LAST-MODIFIED:20250226T220528Z
UID:2006-1745661600-1745686800@coloradoseikatsu.com
SUMMARY:Earth day\, Everyday @Lafayette
DESCRIPTION:Earthdayをお祝いするイベントが開催されます！ \nこちらのイベントでは野外で自然を楽しみながら音楽を楽しんだり、図書館スタッフによる読み聞かせ、宝探しなど子供を中心に、大人も楽しめるイベントとなっています。フードトラックも来るようなので、自然の中で自然に感謝しながら皆さんもEarthdayをお祝いする１日にしてみてはいかがでしょうか？
URL:https://coloradoseikatsu.com/event/earth-day-everyday-lafayette/
LOCATION:The outdoor classroom\, 105 W Baseline Rd\, Lafayette\, CO\, 80026
ATTACH;FMTTYPE=image/jpeg:https://coloradoseikatsu.com/wp-content/uploads/2025/02/473823932_1420446092602184_421928475510505966_n.jpg
END:VEVENT
BEGIN:VEVENT
DTSTART;TZID=UTC:20250422T090000
DTEND;TZID=UTC:20250422T190000
DTSTAMP:20260420T045911
CREATED:20250218T161341Z
LAST-MODIFIED:20250218T161552Z
UID:1970-1745312400-1745348400@coloradoseikatsu.com
SUMMARY:Denver Botanic Gardens Free Days @York Street and Chatfield Farms
DESCRIPTION:デンバー市内に佇む植物の楽園、ボタニックガーデン（York Streetロケーション）とデンバー南の郊外Littletonにある農場（Chatfield Farmsロケーション）に無料で入場できる日です。 \n無料で入場できる日も、時間指定の人数制限のチケットとなるので、もし行きたい方は事前にウェブサイトからチケットを購入しましょう。チケットはたくさんの数用意はされていますが、売り切れになるケースが多いので、早めに確保しておくことをお勧めします。チケットは3ヶ月単位で販売され、毎月1日に新しいチケットが発売されます。 \n\n\n\n\n\n\n\n画像は、無料の日のチケット残数イメージです。３歳以上のお子さんも入場にはチケットが必要で、チケット完売日は当日窓口では買えないので事前にチケットを入手していきましょう。 \n\n\nボタニックガーデンは、冬はイルミネーションで輝き、春夏は色とりどりの花々を楽しむことができます。園内には日本庭園もあるのですが、こちらのレベルがとても高く、まるで日本にいるような感覚にもなる場所です。 \nボタニックガーデンはダウンタウンにあるYork Street、Chatfieldにある農場、そして自然の中でのコロラドの生活の歴史を垣間見ることができるAuroraのロケーションがそれぞれあります。
URL:https://coloradoseikatsu.com/event/denver-botanic-gardens-free-days-york-street-and-chatfield-farms-5/
LOCATION:Denver Botanic Gardens\, 1007 York Street\, Denver\, CO\, 80206\, United States
CATEGORIES:子供向けイベント,無料イベント
ATTACH;FMTTYPE=image/jpeg:https://coloradoseikatsu.com/wp-content/uploads/2025/01/Denver-Botanic-Gardens-1.jpg
END:VEVENT
BEGIN:VEVENT
DTSTART;TZID=UTC:20250419T083000
DTEND;TZID=UTC:20250419T110000
DTSTAMP:20260420T045911
CREATED:20250318T034805Z
LAST-MODIFIED:20250318T034805Z
UID:2091-1745051400-1745060400@coloradoseikatsu.com
SUMMARY:Annual Egg Scramble @Englewood
DESCRIPTION:室内のスポーツ競技場で12歳以下の子供向けのイースターエッグハントイベントが開催されます！ \nこちらは無料のイベントとなっており、エッグハントはもちろんEaster Bunnyと写真を撮ることができたり、イースターを満喫できるイベントとなっています。
URL:https://coloradoseikatsu.com/event/annual-egg-scramble-englewood/
LOCATION:Sports Dome\, 6901 S Peoria St\, Englewood\, CO\, 80112
ATTACH;FMTTYPE=image/jpeg:https://coloradoseikatsu.com/wp-content/uploads/2025/03/474536154_1053011600176716_835804044701481907_n.jpg
END:VEVENT
BEGIN:VEVENT
DTSTART;TZID=UTC:20250413T110000
DTEND;TZID=UTC:20250413T180000
DTSTAMP:20260420T045911
CREATED:20250318T041540Z
LAST-MODIFIED:20250318T041540Z
UID:2109-1744542000-1744567200@coloradoseikatsu.com
SUMMARY:Colorado Wine Walk @Denver
DESCRIPTION:デンバーダウンタウン、野球場の近くにもある人気スポットDairy Blockにてワインのテイスティングイベントが開催されます。コロラドには実はいくつもワイナリーがあります。 \nこちらのイベントではコロラドのワインやサイダーなどを楽しむことができます。
URL:https://coloradoseikatsu.com/event/colorado-wine-walk-denver/
LOCATION:Dairy Block\, 1800 Wazee St\, Denver\, CO\, 80202
ATTACH;FMTTYPE=image/jpeg:https://coloradoseikatsu.com/wp-content/uploads/2025/03/476837371_608898275220667_2702959738371301586_n.jpg
END:VEVENT
BEGIN:VEVENT
DTSTART;TZID=UTC:20250413T110000
DTEND;TZID=UTC:20250413T160000
DTSTAMP:20260420T045911
CREATED:20250226T215956Z
LAST-MODIFIED:20250226T220100Z
UID:2002-1744542000-1744560000@coloradoseikatsu.com
SUMMARY:Arvada Kite Festival
DESCRIPTION:Arvadaで凧揚げのイベントが開催されます！ \nこちらのイベントでは日本での伝統的な凧も上がるとか…！ \nお天気のいい日、コロラドの広くて真っ青な空に上がるたくさんの凧を見にぜひお出かけしてみてください。
URL:https://coloradoseikatsu.com/event/arvada-kite-festival-2/
LOCATION:Stenger Sports Complex\, 11200 W 58th Ave\, Arvada\, CO
ATTACH;FMTTYPE=image/jpeg:https://coloradoseikatsu.com/wp-content/uploads/2025/02/473546169_1205850248214983_1615364775850943752_n.jpg
END:VEVENT
BEGIN:VEVENT
DTSTART;TZID=UTC:20250412T090000
DTEND;TZID=UTC:20250413T160000
DTSTAMP:20260420T045911
CREATED:20250226T215756Z
LAST-MODIFIED:20250226T215756Z
UID:1998-1744448400-1744560000@coloradoseikatsu.com
SUMMARY:Colorado Tartan Day@Longmont
DESCRIPTION:皆さん、タータンチェックの由来はご存知ですか？タータンチェックはスコットランドから来たもので、このTartan dayではスコットランドの歴史と文化をお祝いするイベントとなっています。 \n普段なかなか触れること、学ことのできない歴史と文化に触れてみませんか？
URL:https://coloradoseikatsu.com/event/colorado-tartan-daylongmont/
LOCATION:Boulder County Fair Grounds\, 9595 Nelson Rd\, Longmont\, CO\, 80501
ATTACH;FMTTYPE=image/jpeg:https://coloradoseikatsu.com/wp-content/uploads/2025/02/472712532_122129227916570058_3224391407973311144_n-2.jpg
END:VEVENT
BEGIN:VEVENT
DTSTART;TZID=UTC:20250411T103000
DTEND;TZID=UTC:20250411T123000
DTSTAMP:20260420T045911
CREATED:20250327T031148Z
LAST-MODIFIED:20250327T031215Z
UID:2145-1744367400-1744374600@coloradoseikatsu.com
SUMMARY:イースターエッグハントby日本人子育てグループ
DESCRIPTION:去年も大好評だった、日本人子育てグループによるエッグハントが今年も開催されます！ \n未就学児が対象のため平日開催になりますが、ぜひちびっ子たちが公園で走り回ってエッグハントを満喫する１日にしましょう！ \n当日は \n\nエッグハント\n絵本の読み聞かせ\nカラフルなアルファベットクレヨンの販売\n\nと、盛りだくさんの内容になっています。 \nエッグハント参加希望の方は、お菓子やおもちゃを入れたエッグを10個以上ご持参ください。入れるお菓子はナッツフリーにご協力ください。 \n 
URL:https://coloradoseikatsu.com/event/%e3%82%a4%e3%83%bc%e3%82%b9%e3%82%bf%e3%83%bc%e3%82%a8%e3%83%83%e3%82%b0%e3%83%8f%e3%83%b3%e3%83%88by%e6%97%a5%e6%9c%ac%e4%ba%ba%e5%ad%90%e8%82%b2%e3%81%a6%e3%82%b0%e3%83%ab%e3%83%bc%e3%83%97/
LOCATION:Washington Park\, 701 S Franklin St\, Denver\, CO\, 80209
ATTACH;FMTTYPE=image/jpeg:https://coloradoseikatsu.com/wp-content/uploads/2025/03/IMG_1761.jpg
END:VEVENT
BEGIN:VEVENT
DTSTART;TZID=UTC:20250407T090000
DTEND;TZID=UTC:20250407T170000
DTSTAMP:20260420T045911
CREATED:20250217T234013Z
LAST-MODIFIED:20250217T234013Z
UID:1960-1744016400-1744045200@coloradoseikatsu.com
SUMMARY:Nature & Science Museum Free Day
DESCRIPTION:恐竜のこと、宇宙のこと、自然のこと、動物のこと、人の体のこと、古代エジプトのこと…自然と科学がギュギュっと詰まったDenver Museum of Nature & Scienceの無料開放日です。 \n友達と行くのももちろん、お子様連れでもたっぷり楽しめる博物館で、二階の奥にはハイハイする赤ちゃんから好奇心旺盛な子供たちまで年齢層も広く楽しめるキッズスペースもあります！
URL:https://coloradoseikatsu.com/event/nature-science-museum-free-day-13/
LOCATION:Denver Museum of Nature and Science\, 2001 Colorado Blvd\, Denver\, CO\, 80205\, United States
CATEGORIES:子供向けイベント,無料イベント
ATTACH;FMTTYPE=image/jpeg:https://coloradoseikatsu.com/wp-content/uploads/2024/01/IMG_8173.jpg
END:VEVENT
BEGIN:VEVENT
DTSTART;TZID=UTC:20250406T100000
DTEND;TZID=UTC:20250406T170000
DTSTAMP:20260420T045911
CREATED:20250217T234614Z
LAST-MODIFIED:20250217T234614Z
UID:1964-1743933600-1743958800@coloradoseikatsu.com
SUMMARY:Denver Zoo Free Day
DESCRIPTION:デンバーの動物園に無料で入場できる日です。 \n\n\n\n\n\n\n\n無料で入場できるそれぞれの日に対してチケットがリリースされる日が設定されています。時間指定のチケットとなるので、もし行きたい方は事前にウェブサイトからチケットを購入しましょう。チケットはたくさんの数用意はされていますが、朝一の10時のスロットは無料チケットが売り切れになるのが早いので、10時に入場したい人は早めに確保しておくことをお勧めします。 \n画像は、過去の無料の日のチケット残数イメージです。2歳以下のお子さんも入場にはチケットが必要で、当日窓口では買えないので事前にチケットを入手していきましょう。2歳以下のお子さんも入場にはチケットが必要で、当日窓口では買えないので事前にチケットを入手していきましょう。
URL:https://coloradoseikatsu.com/event/denver-zoo-free-day-10/
LOCATION:Denver Zoo\, 2300 Steele St\, Denver\, CO\, 80205\, United States
CATEGORIES:子供向けイベント,無料イベント
ATTACH;FMTTYPE=image/jpeg:https://coloradoseikatsu.com/wp-content/uploads/2024/01/Screen-Shot-2024-01-15-at-9.39.18-AM.jpg
END:VEVENT
BEGIN:VEVENT
DTSTART;TZID=UTC:20250405T160000
DTEND;TZID=UTC:20250405T180000
DTSTAMP:20260420T045911
CREATED:20250226T215032Z
LAST-MODIFIED:20250226T215032Z
UID:1994-1743868800-1743876000@coloradoseikatsu.com
SUMMARY:Tiny Tot Town @ Broomfield
DESCRIPTION:Broomfieldにある子供の学習と成長をサポートする施設が主催するイベントです。 \nこちらのイベントでは子供サイズの小さなお店や街並みがあり、そこで子供達が遊ぶことができるみたいです。 \n普段と違う遊ぶ場所でたくさん刺激を受けた欲しいという人にはぴったりですね！
URL:https://coloradoseikatsu.com/event/tiny-tot-town-broomfield/
LOCATION:Broomfield Highschool\, 1 Eagle way\, Broomfield\, CO
ATTACH;FMTTYPE=image/jpeg:https://coloradoseikatsu.com/wp-content/uploads/2025/02/476145409_1171790511621765_7349318596660360676_n.jpg
END:VEVENT
BEGIN:VEVENT
DTSTART;TZID=UTC:20250404T173000
DTEND;TZID=UTC:20250404T213000
DTSTAMP:20260420T045911
CREATED:20250119T214903Z
LAST-MODIFIED:20250119T214903Z
UID:1868-1743787800-1743802200@coloradoseikatsu.com
SUMMARY:First Friday Art Walks @Denver
DESCRIPTION:毎月第一金曜日にデンバーのアート界隈でも人気なSanta Feというエリアで開催されるイベントです。このイベントでは普段入りにくいと感じる人もいるアートギャラリーに気軽に入り、アートを鑑賞したり、ワインやビールを飲みながらいろんなローカルのアーティストの作品を見ることができるイベントです。 \nFood truckやストリートパフォーマンスがある時もあるので、友達や家族とぜひ出かけてみてください！
URL:https://coloradoseikatsu.com/event/first-friday-art-walks-denver-21/
LOCATION:Art District on Santa Fe.\, 858 Santa Fe Dr\, Denver\, CO\, 80204\, United States
ATTACH;FMTTYPE=image/jpeg:https://coloradoseikatsu.com/wp-content/uploads/2025/01/Screenshot-2025-01-19-at-2.38.56 PM.jpg
END:VEVENT
BEGIN:VEVENT
DTSTART;TZID=UTC:20250404T170000
DTEND;TZID=UTC:20250404T210000
DTSTAMP:20260420T045911
CREATED:20250318T034323Z
LAST-MODIFIED:20250318T034323Z
UID:2087-1743786000-1743800400@coloradoseikatsu.com
SUMMARY:April Colfax Art Crawl @Lakewood
DESCRIPTION:毎月第一金曜日にArt Walkを主催している団体による、春のColfaxのアートイベントです。街の中を散策しながらアートや音楽を楽しむことができます。 \nお天気もいい日が増え外出も楽しくなるこの季節、カラフルなコロラドのカラフルな場所を探しにいきましょう！
URL:https://coloradoseikatsu.com/event/april-colfax-art-crawl-lakewood/
LOCATION:West Colfax\, 6501 W Colfax Ave\, Lakewood\, CO
ATTACH;FMTTYPE=image/jpeg:https://coloradoseikatsu.com/wp-content/uploads/2025/03/477735416_1046476354186951_6402578209378772608_n.jpg
END:VEVENT
BEGIN:VEVENT
DTSTART;TZID=UTC:20250404T103000
DTEND;TZID=UTC:20250404T113000
DTSTAMP:20260420T045911
CREATED:20250327T030659Z
LAST-MODIFIED:20250327T030722Z
UID:2138-1743762600-1743766200@coloradoseikatsu.com
SUMMARY:産後の体とセルフケア講座
DESCRIPTION:「子供の世話で体が辛い、疲れが取れない」\n「自宅でできる体操やセルフケアが知りたい」\n「小さい子供を持つママと出会いたい」という方におすすめのイベントが開催されます。\n\n\n日本で産後ママ向けに整体をしていた日本人ママによる講座です！\n\n\nアメリカだとなかなか気軽に整体にも行けないと悩んでいる方も、ぜひこの機会に参加してみてください！
URL:https://coloradoseikatsu.com/event/%e7%94%a3%e5%be%8c%e3%81%ae%e4%bd%93%e3%81%a8%e3%82%bb%e3%83%ab%e3%83%95%e3%82%b1%e3%82%a2%e8%ac%9b%e5%ba%a7/
LOCATION:Littleton Bemis Public Library\, 6014 S Datura St\, Littleton\, CO\, 80120
ATTACH;FMTTYPE=image/jpeg:https://coloradoseikatsu.com/wp-content/uploads/2025/03/line_oa_chat_250315_181900.jpg
END:VEVENT
BEGIN:VEVENT
DTSTART;VALUE=DATE:20250326
DTEND;VALUE=DATE:20250327
DTSTAMP:20260420T045911
CREATED:20250217T233017Z
LAST-MODIFIED:20250217T233017Z
UID:1958-1742947200-1743033599@coloradoseikatsu.com
SUMMARY:Denver Zoo 4/6分無料チケット解放日
DESCRIPTION:デンバー動物園の、4月6日の無料で入場できる日のチケットがリリースされる日です。それぞれの無料デーにはチケットリリース日がセットであり、そのリリース日の正午にチケットが入手できるようになります。 \n当日窓口ではチケットは購入できず事前にチケット入手が必要になります。それぞれの時間帯たくさんの無料チケットはありますが、朝一の時間帯などはすぐなくなってしまうことが多いので早めにチケットを入手するのがお勧めです。
URL:https://coloradoseikatsu.com/event/denver-zoo-4-6%e5%88%86%e7%84%a1%e6%96%99%e3%83%81%e3%82%b1%e3%83%83%e3%83%88%e8%a7%a3%e6%94%be%e6%97%a5/
LOCATION:Denver Zoo\, 2300 Steele St\, Denver\, CO\, 80205\, United States
END:VEVENT
BEGIN:VEVENT
DTSTART;TZID=UTC:20250319T133000
DTEND;TZID=UTC:20250319T150000
DTSTAMP:20260420T045911
CREATED:20250226T214432Z
LAST-MODIFIED:20250226T214432Z
UID:1990-1742391000-1742396400@coloradoseikatsu.com
SUMMARY:Tots&Tunes @Highland Ranch
DESCRIPTION:小さな子供向けの音楽イベントです！ \nこちらのイベントでは子供の音楽でもたくさんの賞を受賞しているFarmer Dave and Animal Farmをパフォーマーとして招待され、子供達が歌って踊って楽しめるイベントとなるようです。 \n音楽好きな子供達とぜひお出かけください！
URL:https://coloradoseikatsu.com/event/totstunes-highland-ranch/
LOCATION:Southridge Recreation Center\, 4800 McArthur Ranch Road\, Highland ranch\, CO
ATTACH;FMTTYPE=image/jpeg:https://coloradoseikatsu.com/wp-content/uploads/2025/02/473992496_1020276910134121_9152269985856657272_n.jpg
END:VEVENT
BEGIN:VEVENT
DTSTART;TZID=UTC:20250317T090000
DTEND;TZID=UTC:20250317T160000
DTSTAMP:20260420T045911
CREATED:20250218T161113Z
LAST-MODIFIED:20250218T161113Z
UID:1968-1742202000-1742227200@coloradoseikatsu.com
SUMMARY:Denver Botanic Gardens Free Days @York Street and Chatfield Farms
DESCRIPTION:デンバー市内に佇む植物の楽園、ボタニックガーデン（York Streetロケーション）とデンバー南の郊外Littletonにある農場（Chatfield Farmsロケーション）に無料で入場できる日です。 \n無料で入場できる日も、時間指定の人数制限のチケットとなるので、もし行きたい方は事前にウェブサイトからチケットを購入しましょう。チケットはたくさんの数用意はされていますが、売り切れになるケースが多いので、早めに確保しておくことをお勧めします。チケットは3ヶ月単位で販売され、毎月1日に新しいチケットが発売されます。 \n\n\n\n\n\n\n\n画像は、無料の日のチケット残数イメージです。３歳以上のお子さんも入場にはチケットが必要で、チケット完売日は当日窓口では買えないので事前にチケットを入手していきましょう。 \n\n\nボタニックガーデンは、冬はイルミネーションで輝き、春夏は色とりどりの花々を楽しむことができます。園内には日本庭園もあるのですが、こちらのレベルがとても高く、まるで日本にいるような感覚にもなる場所です。 \nボタニックガーデンはダウンタウンにあるYork Street、Chatfieldにある農場、そして自然の中でのコロラドの生活の歴史を垣間見ることができるAuroraのロケーションがそれぞれあります。
URL:https://coloradoseikatsu.com/event/denver-botanic-gardens-free-days-york-street-and-chatfield-farms-4/
LOCATION:Denver Botanic Gardens\, 1007 York Street\, Denver\, CO\, 80206\, United States
CATEGORIES:子供向けイベント,無料イベント
ATTACH;FMTTYPE=image/jpeg:https://coloradoseikatsu.com/wp-content/uploads/2025/01/Denver-Botanic-Gardens-1.jpg
END:VEVENT
BEGIN:VEVENT
DTSTART;TZID=UTC:20250315T120000
DTEND;TZID=UTC:20250315T180000
DTSTAMP:20260420T045911
CREATED:20250228T044952Z
LAST-MODIFIED:20250228T044952Z
UID:2019-1742040000-1742061600@coloradoseikatsu.com
SUMMARY:St.Patrics Day Festival @Arvada
DESCRIPTION:クリスマスマーケットなど季節のイベントでも人気のArvada Olde TownでもSt.Patrics Dayのイベントが開催されます！ \nこちらのイベントはたくさんのフードベンダーが出店するだけではなく音楽のライブ演奏もあり、目で耳で口で楽しめるイベントとなっています。 \n緑の服に身を包み、アイリッシュスピリッツを感じに出かけてみてはいかがでしょうか？
URL:https://coloradoseikatsu.com/event/st-patrics-day-festival-arvada/
LOCATION:Olde Town Arvada Square\, 5756 Olde Wadsworth Blvd\, Arvada\, CO\, 80002
ATTACH;FMTTYPE=image/jpeg:https://coloradoseikatsu.com/wp-content/uploads/2025/02/481137574_1036188195221841_8111495599164418138_n.jpg
END:VEVENT
BEGIN:VEVENT
DTSTART;TZID=UTC:20250315T093000
DTEND;TZID=UTC:20250315T093000
DTSTAMP:20260420T045911
CREATED:20250226T213938Z
LAST-MODIFIED:20250228T050530Z
UID:1985-1742031000-1742031000@coloradoseikatsu.com
SUMMARY:St.Patrics Day parade @Denver
DESCRIPTION:アイルランド系のルーツをお祝いするSt .Patrics dayにデンバーのど真ん中、野球場であるCoors Field周辺でパレードが行われます。 \nSt .Patrics dayは緑がテーマカラーとなり、さまざまなバーやレストラン、特にアイリッシュレストランなどではそのシーズンならではの飲み物や食べ物も楽しむことができます。 \n皆さんも緑の服に身を包んでお出かけしてみてはいかがでしょう？
URL:https://coloradoseikatsu.com/event/st-patrics-day-parade-denver/
LOCATION:Union Station\, 1701 Wynkoop St\, Denver
ATTACH;FMTTYPE=image/jpeg:https://coloradoseikatsu.com/wp-content/uploads/2025/02/stPatrick_sDayParade_19_a9b13a5d-3d97-4e57-a762-ea5b26e39b6a.jpg
END:VEVENT
BEGIN:VEVENT
DTSTART;TZID=UTC:20250311T100000
DTEND;TZID=UTC:20250311T200000
DTSTAMP:20260420T045911
CREATED:20250217T232709Z
LAST-MODIFIED:20250217T232709Z
UID:1955-1741687200-1741723200@coloradoseikatsu.com
SUMMARY:デンバー美術館Free Day
DESCRIPTION:デンバーのダウンタウンにある美術館のFree Admission Dayです！シーズンごとの企画展はもちろん、キッズスペースや子供たちがクラフトを楽しめるスペースもあるので、お子さんがいるご家庭であればそちらもおすすめです。
URL:https://coloradoseikatsu.com/event/%e3%83%87%e3%83%b3%e3%83%90%e3%83%bc%e7%be%8e%e8%a1%93%e9%a4%a8free-day-22/
LOCATION:Denver Art Museum\, 100 W 14th Ave Pkwy\, Denver\, CO\, 80204\, United States
CATEGORIES:子供向けイベント,無料イベント
ATTACH;FMTTYPE=image/png:https://coloradoseikatsu.com/wp-content/uploads/2024/01/Screen-Shot-2024-01-11-at-2.21.38-PM.png
END:VEVENT
BEGIN:VEVENT
DTSTART;TZID=UTC:20250310T090000
DTEND;TZID=UTC:20250310T160000
DTSTAMP:20260420T045911
CREATED:20250218T160800Z
LAST-MODIFIED:20250218T160942Z
UID:1966-1741597200-1741622400@coloradoseikatsu.com
SUMMARY:Denver Botanic Gardens Free Days @York Street and Chatfield Farms
DESCRIPTION:デンバー市内に佇む植物の楽園、ボタニックガーデン（York Streetロケーション）とデンバー南の郊外Littletonにある農場（Chatfield Farmsロケーション）に無料で入場できる日です。 \n無料で入場できる日も、時間指定の人数制限のチケットとなるので、もし行きたい方は事前にウェブサイトからチケットを購入しましょう。チケットはたくさんの数用意はされていますが、売り切れになるケースが多いので、早めに確保しておくことをお勧めします。チケットは3ヶ月単位で販売され、毎月1日に新しいチケットが発売されます。 \n\n\n\n\n\n\n\n画像は、無料の日のチケット残数イメージです。３歳以上のお子さんも入場にはチケットが必要で、チケット完売日は当日窓口では買えないので事前にチケットを入手していきましょう。 \n\n\nボタニックガーデンは、冬はイルミネーションで輝き、春夏は色とりどりの花々を楽しむことができます。園内には日本庭園もあるのですが、こちらのレベルがとても高く、まるで日本にいるような感覚にもなる場所です。 \nボタニックガーデンはダウンタウンにあるYork Street、Chatfieldにある農場、そして自然の中でのコロラドの生活の歴史を垣間見ることができるAuroraのロケーションがそれぞれあります。
URL:https://coloradoseikatsu.com/event/denver-botanic-gardens-free-days-york-street-and-chatfield-farms-3/
LOCATION:Denver Botanic Gardens\, 1007 York Street\, Denver\, CO\, 80206\, United States
CATEGORIES:子供向けイベント,無料イベント
ATTACH;FMTTYPE=image/jpeg:https://coloradoseikatsu.com/wp-content/uploads/2025/01/Denver-Botanic-Gardens-1.jpg
END:VEVENT
BEGIN:VEVENT
DTSTART;TZID=UTC:20250307T173000
DTEND;TZID=UTC:20250307T213000
DTSTAMP:20260420T045911
CREATED:20250119T214912Z
LAST-MODIFIED:20250119T214912Z
UID:1867-1741368600-1741383000@coloradoseikatsu.com
SUMMARY:First Friday Art Walks @Denver
DESCRIPTION:毎月第一金曜日にデンバーのアート界隈でも人気なSanta Feというエリアで開催されるイベントです。このイベントでは普段入りにくいと感じる人もいるアートギャラリーに気軽に入り、アートを鑑賞したり、ワインやビールを飲みながらいろんなローカルのアーティストの作品を見ることができるイベントです。 \nFood truckやストリートパフォーマンスがある時もあるので、友達や家族とぜひ出かけてみてください！
URL:https://coloradoseikatsu.com/event/first-friday-art-walks-denver-22/
LOCATION:Art District on Santa Fe.\, 858 Santa Fe Dr\, Denver\, CO\, 80204\, United States
ATTACH;FMTTYPE=image/jpeg:https://coloradoseikatsu.com/wp-content/uploads/2025/01/Screenshot-2025-01-19-at-2.38.56 PM.jpg
END:VEVENT
BEGIN:VEVENT
DTSTART;TZID=UTC:20250304T173000
DTEND;TZID=UTC:20250304T190000
DTSTAMP:20260420T045911
CREATED:20250226T213116Z
LAST-MODIFIED:20250226T213116Z
UID:1982-1741109400-1741114800@coloradoseikatsu.com
SUMMARY:Mardi Gras Brass Band March @Arbada
DESCRIPTION:ニューオーリンズやリオのカーニバルでも有名なMardi Grasですが、デンバー周辺でも楽しむことができます！デンバーから北にあるArvadaではMardi Grasのお祝いとしてブラスバンドの演奏行進が行われます。 \nここ最近は暖かくもなり、日も伸びてきていますが、夕方のお出かけにいかがでしょうか？
URL:https://coloradoseikatsu.com/event/mardi-gras-brass-band-march-arbada/
LOCATION:Olde Town Arvada Square\, 5756 Olde Wadsworth Blvd\, Arvada\, CO\, 80002
ATTACH;FMTTYPE=image/jpeg:https://coloradoseikatsu.com/wp-content/uploads/2025/02/475881881_1019915983515729_7147260398371645886_n.jpg
END:VEVENT
BEGIN:VEVENT
DTSTART;TZID=UTC:20250301T113000
DTEND;TZID=UTC:20250302T160000
DTSTAMP:20260420T045911
CREATED:20250218T164200Z
LAST-MODIFIED:20250218T164640Z
UID:1972-1740828600-1740931200@coloradoseikatsu.com
SUMMARY:The 55th annual HINA MATSURI Doll & Cultural Festival @Arvada
DESCRIPTION:第５５回「雛祭り」（日本の雛人形祭り）が、３月１日（土）と２日（日）にシンプソン・ユナイテッド・メソジスト教会で開催されます。 \n盆栽や生け花、茶道の展示をはじめ、ステージでは民謡、武道、太鼓のパフォーマンスも予定されています。第５４回の様子はこちらで見ることができます。 \n同日とも午前１１時半から午後４時までの開催です。 \n\n\n\n 
URL:https://coloradoseikatsu.com/event/the-55th-annual-hina-matsuri-doll-cultural-festival-arvada/
LOCATION:Simpson United Methodist Church\, 6001 Wolff St.\,\, Arvada\, CO\, 80003\, United States
CATEGORIES:子供向けイベント,無料イベント
ATTACH;FMTTYPE=image/jpeg:https://coloradoseikatsu.com/wp-content/uploads/2025/02/Hinamatsuri-Simpson-United-Methodist-Church.jpg
END:VEVENT
BEGIN:VEVENT
DTSTART;TZID=UTC:20250222T110000
DTEND;TZID=UTC:20250222T160000
DTSTAMP:20260420T045911
CREATED:20250119T220917Z
LAST-MODIFIED:20250119T220917Z
UID:1895-1740222000-1740240000@coloradoseikatsu.com
SUMMARY:Arvada Winterfest 2025
DESCRIPTION:ArvadaでWinterfestivalが開催されます！このイベントではコミュニティー内にある様々な文化をみんなで集まりお祝いし合うことをテーマに2018年からスタートしたイベントです。 \nクリスマスマーケットも開催されるOlde townでの開催ですが、ローカルのレストランやカフェを楽しむもよし、イベントに出てくるfood truckのご飯を楽しむもよし、ストリートではさまざまな文化のパフォーマンスや氷彫刻のライブパフォーマンスもあるとか！ \n冬はなかなか外出するのが億劫になってしまうことがありますが、この機会にぜひ出かけてみてはいかがでしょうか？
URL:https://coloradoseikatsu.com/event/arvada-winterfest-2025/
LOCATION:Olde Town Arvada Square\, 5756 Olde Wadsworth Blvd\, Arvada\, CO\, 80002
ATTACH;FMTTYPE=image/jpeg:https://coloradoseikatsu.com/wp-content/uploads/2025/01/472121638_1196157482517593_1461670514500494444_n.jpg
END:VEVENT
BEGIN:VEVENT
DTSTART;TZID=UTC:20250222T100000
DTEND;TZID=UTC:20250222T170000
DTSTAMP:20260420T045911
CREATED:20250110T220301Z
LAST-MODIFIED:20250110T220301Z
UID:1771-1740218400-1740243600@coloradoseikatsu.com
SUMMARY:デンバー美術館Free Day
DESCRIPTION:デンバーのダウンタウンにある美術館のFree Admission Dayです！シーズンごとの企画展はもちろん、キッズスペースや子供たちがクラフトを楽しめるスペースもあるので、お子さんがいるご家庭であればそちらもおすすめです。
URL:https://coloradoseikatsu.com/event/%e3%83%87%e3%83%b3%e3%83%90%e3%83%bc%e7%be%8e%e8%a1%93%e9%a4%a8free-day-21/
LOCATION:Denver Art Museum\, 100 W 14th Ave Pkwy\, Denver\, CO\, 80204\, United States
CATEGORIES:子供向けイベント,無料イベント
ATTACH;FMTTYPE=image/png:https://coloradoseikatsu.com/wp-content/uploads/2024/01/Screen-Shot-2024-01-11-at-2.21.38-PM.png
END:VEVENT
END:VCALENDAR